{"text_format":"1","workbook":"xlsx","n_sheets":9,"sheets":["ようこそ","ランキング","所要時間","家賃相場","配点根拠","全データ","点数","参考順位","Sheet2"],"not_rendered":{"charts":0,"images":0,"macros":1,"external_links":0,"defined_names":8,"comments":0,"pivot_tables":0},"unopened":[],"bounds":{"document_bytes":16777216,"sheet_cells":100000,"rows_first":2000,"rows_last":500,"rows_between":2000,"halvings":0,"cell_chars":16384,"cell_head_chars":4096},"cells_cut":0,"cells_raw":0,"read":"whole","date_system":"1900"}

{"sheet":"ようこそ","index":0,"n_rows":7,"n_cols":8,"rows_kept":7,"cut":false,"hidden":false,"merged":[[2,5,2,6],[2,1,2,2]]}
[]
[null,"黄色セル部分をプルダウンより選択してください。"]
[null,"属性選択",null,null,null,"傾斜配点"]
[null,"到着駅","東京駅",{"$f":"IF(C4=\"東京駅\",2,3)","v":2},null,"所要時間","±0%",{"$f":"VLOOKUP($G4,配点根拠!$AB$3:$AC$23,2,0)","v":1}]
[null,"部屋タイプ","1K",{"$f":"IF(C5=\"1K\",5,6)","v":5},null,"通勤の快適性","±0%",{"$f":"VLOOKUP($G5,配点根拠!$AB$3:$AC$23,2,0)","v":1}]
[null,null,null,null,null,"家賃相場","±0%",{"$f":"VLOOKUP($G6,配点根拠!$AB$3:$AC$23,2,0)","v":1}]
[null,null,null,null,null,"商業施設充実度","±0%",{"$f":"VLOOKUP($G7,配点根拠!$AB$3:$AC$23,2,0)","v":1}]

{"sheet":"ランキング","index":1,"n_rows":96,"n_cols":17,"rows_kept":96,"cut":false,"hidden":false,"merged":[[1,5,1,6],[1,8,1,9]]}
[null,null,null,null,1,2,3,4,5,6,7,8,9,10,11,12,12]
[null,null,null,null,null,"所要時間点数",null,null,"家賃点数"]
[0,"道路名","IC名","鉄道路線","駅名","東京","新宿","快適性点数","1K","2LDK","商業施設","所要時間","快適性","家賃","商業施設","総合点","総合点（百点換算）"]
[{"$f":"A3+1","v":1},"東京湾アクアライン","木更津金田","高速バス","木更津金田BT",32.699999999999989,6.5999999999999943,100,99,100,100,{"$f":"VLOOKUP($E4,$E:$K,ようこそ!$D$4,0)","v":32.699999999999989},{"$f":"VLOOKUP($E4,$E:$K,ランキング!$H$1,0)","v":100},{"$f":"VLOOKUP($E4,$E:$K,ようこそ!$D$5,0)","v":99},{"$f":"VLOOKUP($E4,$E:$K,ランキング!$K$1,0)","v":100},{"$f":"VLOOKUP($E4,$E:$K,ようこそ!$D$4,0)*ようこそ!$H$4+VLOOKUP($E4,$E:$K,ランキング!$H$1,0)*ようこそ!$H$5+VLOOKUP($E4,$E:$K,ようこそ!$D$5,0)*ようこそ!$H$6+VLOOKUP($E4,$E:$K,ランキング!$K$1,0)*ようこそ!$H$7","v":331.7},{"$f":"_xlfn.PERCENTRANK.INC($P$4:$P$96,P4)*100","v":100}]
[{"$f":"A4+1","v":2},"外環道","外環浦和","JR京浜東北線","南浦和",46.8,68.5,92.4,89.2,66.400000000000006,80,{"$f":"VLOOKUP($E5,$E:$K,ようこそ!$D$4,0)","v":46.8},{"$f":"VLOOKUP($E5,$E:$K,ランキング!$H$1,0)","v":92.4},{"$f":"VLOOKUP($E5,$E:$K,ようこそ!$D$5,0)","v":89.2},{"$f":"VLOOKUP($E5,$E:$K,ランキング!$K$1,0)","v":80},{"$f":"VLOOKUP($E5,$E:$K,ようこそ!$D$4,0)*ようこそ!$H$4+VLOOKUP($E5,$E:$K,ランキング!$H$1,0)*ようこそ!$H$5+VLOOKUP($E5,$E:$K,ようこそ!$D$5,0)*ようこそ!$H$6+VLOOKUP($E5,$E:$K,ランキング!$K$1,0)*ようこそ!$H$7","v":308.39999999999998},{"$f":"_xlfn.PERCENTRANK.INC($P$4:$P$96,P5)*100","v":98.9}]
[{"$f":"A5+1","v":3},"外環道","松戸","北総線","北国分",40.300000000000004,13.099999999999994,84.8,96.8,87,80,{"$f":"VLOOKUP($E6,$E:$K,ようこそ!$D$4,0)","v":40.300000000000004},{"$f":"VLOOKUP($E6,$E:$K,ランキング!$H$1,0)","v":84.8},{"$f":"VLOOKUP($E6,$E:$K,ようこそ!$D$5,0)","v":96.8},{"$f":"VLOOKUP($E6,$E:$K,ランキング!$K$1,0)","v":80},{"$f":"VLOOKUP($E6,$E:$K,ようこそ!$D$4,0)*ようこそ!$H$4+VLOOKUP($E6,$E:$K,ランキング!$H$1,0)*ようこそ!$H$5+VLOOKUP($E6,$E:$K,ようこそ!$D$5,0)*ようこそ!$H$6+VLOOKUP($E6,$E:$K,ランキング!$K$1,0)*ようこそ!$H$7","v":301.89999999999998},{"$f":"_xlfn.PERCENTRANK.INC($P$4:$P$96,P6)*100","v":97.8}]
[{"$f":"A6+1","v":4},"東関東自動車道","湾岸千葉IC","JR京葉線","海浜幕張",37,1.0999999999999943,92.4,71.800000000000011,71.800000000000011,100,{"$f":"VLOOKUP($E7,$E:$K,ようこそ!$D$4,0)","v":37},{"$f":"VLOOKUP($E7,$E:$K,ランキング!$H$1,0)","v":92.4},{"$f":"VLOOKUP($E7,$E:$K,ようこそ!$D$5,0)","v":71.800000000000011},{"$f":"VLOOKUP($E7,$E:$K,ランキング!$K$1,0)","v":100},{"$f":"VLOOKUP($E7,$E:$K,ようこそ!$D$4,0)*ようこそ!$H$4+VLOOKUP($E7,$E:$K,ランキング!$H$1,0)*ようこそ!$H$5+VLOOKUP($E7,$E:$K,ようこそ!$D$5,0)*ようこそ!$H$6+VLOOKUP($E7,$E:$K,ランキング!$K$1,0)*ようこそ!$H$7","v":301.20000000000005},{"$f":"_xlfn.PERCENTRANK.INC($P$4:$P$96,P7)*100","v":96.7}]
[{"$f":"A7+1","v":5},"首都高6号三郷線","八潮","つくばエクスプレス","八潮",53.3,31.599999999999994,92.4,42.400000000000006,62,100,{"$f":"VLOOKUP($E8,$E:$K,ようこそ!$D$4,0)","v":53.3},{"$f":"VLOOKUP($E8,$E:$K,ランキング!$H$1,0)","v":92.4},{"$f":"VLOOKUP($E8,$E:$K,ようこそ!$D$5,0)","v":42.400000000000006},{"$f":"VLOOKUP($E8,$E:$K,ランキング!$K$1,0)","v":100},{"$f":"VLOOKUP($E8,$E:$K,ようこそ!$D$4,0)*ようこそ!$H$4+VLOOKUP($E8,$E:$K,ランキング!$H$1,0)*ようこそ!$H$5+VLOOKUP($E8,$E:$K,ようこそ!$D$5,0)*ようこそ!$H$6+VLOOKUP($E8,$E:$K,ランキング!$K$1,0)*ようこそ!$H$7","v":288.10000000000002},{"$f":"_xlfn.PERCENTRANK.INC($P$4:$P$96,P8)*100","v":95.6}]
[{"$f":"A8+1","v":6},"東関東自動車道","谷津船橋IC","JR京葉線","南船橋",55.5,9.7999999999999972,42.400000000000006,88.1,80.5,100,{"$f":"VLOOKUP($E9,$E:$K,ようこそ!$D$4,0)","v":55.5},{"$f":"VLOOKUP($E9,$E:$K,ランキング!$H$1,0)","v":42.400000000000006},{"$f":"VLOOKUP($E9,$E:$K,ようこそ!$D$5,0)","v":88.1},{"$f":"VLOOKUP($E9,$E:$K,ランキング!$K$1,0)","v":100},{"$f":"VLOOKUP($E9,$E:$K,ようこそ!$D$4,0)*ようこそ!$H$4+VLOOKUP($E9,$E:$K,ランキング!$H$1,0)*ようこそ!$H$5+VLOOKUP($E9,$E:$K,ようこそ!$D$5,0)*ようこそ!$H$6+VLOOKUP($E9,$E:$K,ランキング!$K$1,0)*ようこそ!$H$7","v":286},{"$f":"_xlfn.PERCENTRANK.INC($P$4:$P$96,P9)*100","v":94.5}]
[{"$f":"A9+1","v":7},"首都高6号向島線","駒形","都営浅草線","本所吾妻橋",96.8,72.900000000000006,74,10.900000000000006,18.5,100,{"$f":"VLOOKUP($E10,$E:$K,ようこそ!$D$4,0)","v":96.8},{"$f":"VLOOKUP($E10,$E:$K,ランキング!$H$1,0)","v":74},{"$f":"VLOOKUP($E10,$E:$K,ようこそ!$D$5,0)","v":10.900000000000006},{"$f":"VLOOKUP($E10,$E:$K,ランキング!$K$1,0)","v":100},{"$f":"VLOOKUP($E10,$E:$K,ようこそ!$D$4,0)*ようこそ!$H$4+VLOOKUP($E10,$E:$K,ランキング!$H$1,0)*ようこそ!$H$5+VLOOKUP($E10,$E:$K,ようこそ!$D$5,0)*ようこそ!$H$6+VLOOKUP($E10,$E:$K,ランキング!$K$1,0)*ようこそ!$H$7","v":281.70000000000005},{"$f":"_xlfn.PERCENTRANK.INC($P$4:$P$96,P10)*100","v":93.4}]
[{"$f":"A10+1","v":8},"京葉道路","花輪","京成本線","船橋競馬場",26.099999999999994,9.7999999999999972,76.099999999999994,79.400000000000006,75,100,{"$f":"VLOOKUP($E11,$E:$K,ようこそ!$D$4,0)","v":26.099999999999994},{"$f":"VLOOKUP($E11,$E:$K,ランキング!$H$1,0)","v":76.099999999999994},{"$f":"VLOOKUP($E11,$E:$K,ようこそ!$D$5,0)","v":79.400000000000006},{"$f":"VLOOKUP($E11,$E:$K,ランキング!$K$1,0)","v":100},{"$f":"VLOOKUP($E11,$E:$K,ようこそ!$D$4,0)*ようこそ!$H$4+VLOOKUP($E11,$E:$K,ランキング!$H$1,0)*ようこそ!$H$5+VLOOKUP($E11,$E:$K,ようこそ!$D$5,0)*ようこそ!$H$6+VLOOKUP($E11,$E:$K,ランキング!$K$1,0)*ようこそ!$H$7","v":281.60000000000002},{"$f":"_xlfn.PERCENTRANK.INC($P$4:$P$96,P11)*100","v":92.300000000000011}]
[{"$f":"A11+1","v":9},"常磐自動車道","谷和原","つくばエクスプレス","守谷",7.6999999999999886,0,92.4,74,92.4,100,{"$f":"VLOOKUP($E12,$E:$K,ようこそ!$D$4,0)","v":7.6999999999999886},{"$f":"VLOOKUP($E12,$E:$K,ランキング!$H$1,0)","v":92.4},{"$f":"VLOOKUP($E12,$E:$K,ようこそ!$D$5,0)","v":74},{"$f":"VLOOKUP($E12,$E:$K,ランキング!$K$1,0)","v":100},{"$f":"VLOOKUP($E12,$E:$K,ようこそ!$D$4,0)*ようこそ!$H$4+VLOOKUP($E12,$E:$K,ランキング!$H$1,0)*ようこそ!$H$5+VLOOKUP($E12,$E:$K,ようこそ!$D$5,0)*ようこそ!$H$6+VLOOKUP($E12,$E:$K,ランキング!$K$1,0)*ようこそ!$H$7","v":274.10000000000002},{"$f":"_xlfn.PERCENTRANK.INC($P$4:$P$96,P12)*100","v":91.3}]
[{"$f":"A12+1","v":10},"東北自動車道","浦和","埼玉高速鉄道","浦和美園",6.5999999999999943,21.799999999999997,100,67.400000000000006,91.4,100,{"$f":"VLOOKUP($E13,$E:$K,ようこそ!$D$4,0)","v":6.5999999999999943},{"$f":"VLOOKUP($E13,$E:$K,ランキング!$H$1,0)","v":100},{"$f":"VLOOKUP($E13,$E:$K,ようこそ!$D$5,0)","v":67.400000000000006},{"$f":"VLOOKUP($E13,$E:$K,ランキング!$K$1,0)","v":100},{"$f":"VLOOKUP($E13,$E:$K,ようこそ!$D$4,0)*ようこそ!$H$4+VLOOKUP($E13,$E:$K,ランキング!$H$1,0)*ようこそ!$H$5+VLOOKUP($E13,$E:$K,ようこそ!$D$5,0)*ようこそ!$H$6+VLOOKUP($E13,$E:$K,ランキング!$K$1,0)*ようこそ!$H$7","v":274},{"$f":"_xlfn.PERCENTRANK.INC($P$4:$P$96,P13)*100","v":89.1}]
[{"$f":"A13+1","v":11},"外環道","松戸","北総線","矢切",44.599999999999994,20.700000000000003,84.8,94.6,95.7,50,{"$f":"VLOOKUP($E14,$E:$K,ようこそ!$D$4,0)","v":44.599999999999994},{"$f":"VLOOKUP($E14,$E:$K,ランキング!$H$1,0)","v":84.8},{"$f":"VLOOKUP($E14,$E:$K,ようこそ!$D$5,0)","v":94.6},{"$f":"VLOOKUP($E14,$E:$K,ランキング!$K$1,0)","v":50},{"$f":"VLOOKUP($E14,$E:$K,ようこそ!$D$4,0)*ようこそ!$H$4+VLOOKUP($E14,$E:$K,ランキング!$H$1,0)*ようこそ!$H$5+VLOOKUP($E14,$E:$K,ようこそ!$D$5,0)*ようこそ!$H$6+VLOOKUP($E14,$E:$K,ランキング!$K$1,0)*ようこそ!$H$7","v":274},{"$f":"_xlfn.PERCENTRANK.INC($P$4:$P$96,P14)*100","v":89.1}]
[{"$f":"A14+1","v":12},"京葉道路","京葉市川","都営新宿線","本八幡",39.200000000000003,50,100,52.2,57.7,80,{"$f":"VLOOKUP($E15,$E:$K,ようこそ!$D$4,0)","v":39.200000000000003},{"$f":"VLOOKUP($E15,$E:$K,ランキング!$H$1,0)","v":100},{"$f":"VLOOKUP($E15,$E:$K,ようこそ!$D$5,0)","v":52.2},{"$f":"VLOOKUP($E15,$E:$K,ランキング!$K$1,0)","v":80},{"$f":"VLOOKUP($E15,$E:$K,ようこそ!$D$4,0)*ようこそ!$H$4+VLOOKUP($E15,$E:$K,ランキング!$H$1,0)*ようこそ!$H$5+VLOOKUP($E15,$E:$K,ようこそ!$D$5,0)*ようこそ!$H$6+VLOOKUP($E15,$E:$K,ランキング!$K$1,0)*ようこそ!$H$7","v":271.39999999999998},{"$f":"_xlfn.PERCENTRANK.INC($P$4:$P$96,P15)*100","v":88}]
[{"$f":"A15+1","v":13},"外環道","三郷南","JR常磐線","松戸",64.2,49,59.8,65.300000000000011,68.5,80,{"$f":"VLOOKUP($E16,$E:$K,ようこそ!$D$4,0)","v":64.2},{"$f":"VLOOKUP($E16,$E:$K,ランキング!$H$1,0)","v":59.8},{"$f":"VLOOKUP($E16,$E:$K,ようこそ!$D$5,0)","v":65.300000000000011},{"$f":"VLOOKUP($E16,$E:$K,ランキング!$K$1,0)","v":80},{"$f":"VLOOKUP($E16,$E:$K,ようこそ!$D$4,0)*ようこそ!$H$4+VLOOKUP($E16,$E:$K,ランキング!$H$1,0)*ようこそ!$H$5+VLOOKUP($E16,$E:$K,ようこそ!$D$5,0)*ようこそ!$H$6+VLOOKUP($E16,$E:$K,ランキング!$K$1,0)*ようこそ!$H$7","v":269.3},{"$f":"_xlfn.PERCENTRANK.INC($P$4:$P$96,P16)*100","v":86.9}]
[{"$f":"A16+1","v":14},"外環道","草加","東武スカイツリーライン","獨協大学前",27.200000000000003,18.5,63.1,97.9,90.3,80,{"$f":"VLOOKUP($E17,$E:$K,ようこそ!$D$4,0)","v":27.200000000000003},{"$f":"VLOOKUP($E17,$E:$K,ランキング!$H$1,0)","v":63.1},{"$f":"VLOOKUP($E17,$E:$K,ようこそ!$D$5,0)","v":97.9},{"$f":"VLOOKUP($E17,$E:$K,ランキング!$K$1,0)","v":80},{"$f":"VLOOKUP($E17,$E:$K,ようこそ!$D$4,0)*ようこそ!$H$4+VLOOKUP($E17,$E:$K,ランキング!$H$1,0)*ようこそ!$H$5+VLOOKUP($E17,$E:$K,ようこそ!$D$5,0)*ようこそ!$H$6+VLOOKUP($E17,$E:$K,ランキング!$K$1,0)*ようこそ!$H$7","v":268.20000000000005},{"$f":"_xlfn.PERCENTRANK.INC($P$4:$P$96,P17)*100","v":85.8}]
[{"$f":"A17+1","v":15},"外環道","和光","メトロ有楽町線","和光市",37,81.599999999999994,92.4,56.6,44.599999999999994,80,{"$f":"VLOOKUP($E18,$E:$K,ようこそ!$D$4,0)","v":37},{"$f":"VLOOKUP($E18,$E:$K,ランキング!$H$1,0)","v":92.4},{"$f":"VLOOKUP($E18,$E:$K,ようこそ!$D$5,0)","v":56.6},{"$f":"VLOOKUP($E18,$E:$K,ランキング!$K$1,0)","v":80},{"$f":"VLOOKUP($E18,$E:$K,ようこそ!$D$4,0)*ようこそ!$H$4+VLOOKUP($E18,$E:$K,ランキング!$H$1,0)*ようこそ!$H$5+VLOOKUP($E18,$E:$K,ようこそ!$D$5,0)*ようこそ!$H$6+VLOOKUP($E18,$E:$K,ランキング!$K$1,0)*ようこそ!$H$7","v":266},{"$f":"_xlfn.PERCENTRANK.INC($P$4:$P$96,P18)*100","v":84.7}]
[{"$f":"A18+1","v":16},"首都高中央環状線","千住新橋","JR常磐線","北千住",82.7,71.800000000000011,58.7,22.899999999999991,28.299999999999997,100,{"$f":"VLOOKUP($E19,$E:$K,ようこそ!$D$4,0)","v":82.7},{"$f":"VLOOKUP($E19,$E:$K,ランキング!$H$1,0)","v":58.7},{"$f":"VLOOKUP($E19,$E:$K,ようこそ!$D$5,0)","v":22.899999999999991},{"$f":"VLOOKUP($E19,$E:$K,ランキング!$K$1,0)","v":100},{"$f":"VLOOKUP($E19,$E:$K,ようこそ!$D$4,0)*ようこそ!$H$4+VLOOKUP($E19,$E:$K,ランキング!$H$1,0)*ようこそ!$H$5+VLOOKUP($E19,$E:$K,ようこそ!$D$5,0)*ようこそ!$H$6+VLOOKUP($E19,$E:$K,ランキング!$K$1,0)*ようこそ!$H$7","v":264.3},{"$f":"_xlfn.PERCENTRANK.INC($P$4:$P$96,P19)*100","v":83.6}]
[{"$f":"A19+1","v":17},"東北自動車道","岩槻","東武野田線","岩槻",2.2000000000000028,15.299999999999997,79.400000000000006,100,99,80,{"$f":"VLOOKUP($E20,$E:$K,ようこそ!$D$4,0)","v":2.2000000000000028},{"$f":"VLOOKUP($E20,$E:$K,ランキング!$H$1,0)","v":79.400000000000006},{"$f":"VLOOKUP($E20,$E:$K,ようこそ!$D$5,0)","v":100},{"$f":"VLOOKUP($E20,$E:$K,ランキング!$K$1,0)","v":80},{"$f":"VLOOKUP($E20,$E:$K,ようこそ!$D$4,0)*ようこそ!$H$4+VLOOKUP($E20,$E:$K,ランキング!$H$1,0)*ようこそ!$H$5+VLOOKUP($E20,$E:$K,ようこそ!$D$5,0)*ようこそ!$H$6+VLOOKUP($E20,$E:$K,ランキング!$K$1,0)*ようこそ!$H$7","v":261.60000000000002},{"$f":"_xlfn.PERCENTRANK.INC($P$4:$P$96,P20)*100","v":82.6}]
[{"$f":"A20+1","v":18},"京葉道路","原木","メトロ東西線","西船橋",47.9,45.699999999999996,92.4,38.1,45.699999999999996,80,{"$f":"VLOOKUP($E21,$E:$K,ようこそ!$D$4,0)","v":47.9},{"$f":"VLOOKUP($E21,$E:$K,ランキング!$H$1,0)","v":92.4},{"$f":"VLOOKUP($E21,$E:$K,ようこそ!$D$5,0)","v":38.1},{"$f":"VLOOKUP($E21,$E:$K,ランキング!$K$1,0)","v":80},{"$f":"VLOOKUP($E21,$E:$K,ようこそ!$D$4,0)*ようこそ!$H$4+VLOOKUP($E21,$E:$K,ランキング!$H$1,0)*ようこそ!$H$5+VLOOKUP($E21,$E:$K,ようこそ!$D$5,0)*ようこそ!$H$6+VLOOKUP($E21,$E:$K,ランキング!$K$1,0)*ようこそ!$H$7","v":258.39999999999998},{"$f":"_xlfn.PERCENTRANK.INC($P$4:$P$96,P21)*100","v":81.5}]
[{"$f":"A21+1","v":19},"首都高中央環状線","小菅","京成本線","堀切菖蒲園",69.599999999999994,44.599999999999994,76.099999999999994,62,59.8,50,{"$f":"VLOOKUP($E22,$E:$K,ようこそ!$D$4,0)","v":69.599999999999994},{"$f":"VLOOKUP($E22,$E:$K,ランキング!$H$1,0)","v":76.099999999999994},{"$f":"VLOOKUP($E22,$E:$K,ようこそ!$D$5,0)","v":62},{"$f":"VLOOKUP($E22,$E:$K,ランキング!$K$1,0)","v":50},{"$f":"VLOOKUP($E22,$E:$K,ようこそ!$D$4,0)*ようこそ!$H$4+VLOOKUP($E22,$E:$K,ランキング!$H$1,0)*ようこそ!$H$5+VLOOKUP($E22,$E:$K,ようこそ!$D$5,0)*ようこそ!$H$6+VLOOKUP($E22,$E:$K,ランキング!$K$1,0)*ようこそ!$H$7","v":257.7},{"$f":"_xlfn.PERCENTRANK.INC($P$4:$P$96,P22)*100","v":80.400000000000006}]
[{"$f":"A22+1","v":20},"首都高S新都心線","新都心","JR上野東京ライン","さいたま新都心",59.8,68.5,50,44.599999999999994,24,100,{"$f":"VLOOKUP($E23,$E:$K,ようこそ!$D$4,0)","v":59.8},{"$f":"VLOOKUP($E23,$E:$K,ランキング!$H$1,0)","v":50},{"$f":"VLOOKUP($E23,$E:$K,ようこそ!$D$5,0)","v":44.599999999999994},{"$f":"VLOOKUP($E23,$E:$K,ランキング!$K$1,0)","v":100},{"$f":"VLOOKUP($E23,$E:$K,ようこそ!$D$4,0)*ようこそ!$H$4+VLOOKUP($E23,$E:$K,ランキング!$H$1,0)*ようこそ!$H$5+VLOOKUP($E23,$E:$K,ようこそ!$D$5,0)*ようこそ!$H$6+VLOOKUP($E23,$E:$K,ランキング!$K$1,0)*ようこそ!$H$7","v":254.39999999999998},{"$f":"_xlfn.PERCENTRANK.INC($P$4:$P$96,P23)*100","v":79.3}]
[{"$f":"A23+1","v":21},"首都高中央環状線","四つ木","京成押上線","四ツ木",90.3,52.2,65.300000000000011,47.9,41.400000000000006,50,{"$f":"VLOOKUP($E24,$E:$K,ようこそ!$D$4,0)","v":90.3},{"$f":"VLOOKUP($E24,$E:$K,ランキング!$H$1,0)","v":65.300000000000011},{"$f":"VLOOKUP($E24,$E:$K,ようこそ!$D$5,0)","v":47.9},{"$f":"VLOOKUP($E24,$E:$K,ランキング!$K$1,0)","v":50},{"$f":"VLOOKUP($E24,$E:$K,ようこそ!$D$4,0)*ようこそ!$H$4+VLOOKUP($E24,$E:$K,ランキング!$H$1,0)*ようこそ!$H$5+VLOOKUP($E24,$E:$K,ようこそ!$D$5,0)*ようこそ!$H$6+VLOOKUP($E24,$E:$K,ランキング!$K$1,0)*ようこそ!$H$7","v":253.50000000000003},{"$f":"_xlfn.PERCENTRANK.INC($P$4:$P$96,P24)*100","v":78.2}]
[{"$f":"A24+1","v":22},"京葉道路","船橋","JR総武線","船橋",70.7,47.9,30.5,52.2,39.200000000000003,100,{"$f":"VLOOKUP($E25,$E:$K,ようこそ!$D$4,0)","v":70.7},{"$f":"VLOOKUP($E25,$E:$K,ランキング!$H$1,0)","v":30.5},{"$f":"VLOOKUP($E25,$E:$K,ようこそ!$D$5,0)","v":52.2},{"$f":"VLOOKUP($E25,$E:$K,ランキング!$K$1,0)","v":100},{"$f":"VLOOKUP($E25,$E:$K,ようこそ!$D$4,0)*ようこそ!$H$4+VLOOKUP($E25,$E:$K,ランキング!$H$1,0)*ようこそ!$H$5+VLOOKUP($E25,$E:$K,ようこそ!$D$5,0)*ようこそ!$H$6+VLOOKUP($E25,$E:$K,ランキング!$K$1,0)*ようこそ!$H$7","v":253.4},{"$f":"_xlfn.PERCENTRANK.INC($P$4:$P$96,P25)*100","v":77.100000000000009}]
[{"$f":"A25+1","v":23},"首都高5号池袋線","中台","都営三田線","志村三丁目",74,74,52.2,26.099999999999994,37,100,{"$f":"VLOOKUP($E26,$E:$K,ようこそ!$D$4,0)","v":74},{"$f":"VLOOKUP($E26,$E:$K,ランキング!$H$1,0)","v":52.2},{"$f":"VLOOKUP($E26,$E:$K,ようこそ!$D$5,0)","v":26.099999999999994},{"$f":"VLOOKUP($E26,$E:$K,ランキング!$K$1,0)","v":100},{"$f":"VLOOKUP($E26,$E:$K,ようこそ!$D$4,0)*ようこそ!$H$4+VLOOKUP($E26,$E:$K,ランキング!$H$1,0)*ようこそ!$H$5+VLOOKUP($E26,$E:$K,ようこそ!$D$5,0)*ようこそ!$H$6+VLOOKUP($E26,$E:$K,ランキング!$K$1,0)*ようこそ!$H$7","v":252.3},{"$f":"_xlfn.PERCENTRANK.INC($P$4:$P$96,P26)*100","v":76}]
[{"$f":"A26+1","v":24},"首都高6号三郷線","加平","メトロ千代田線","北綾瀬",66.400000000000006,33.700000000000003,100,64.2,56.6,20,{"$f":"VLOOKUP($E27,$E:$K,ようこそ!$D$4,0)","v":66.400000000000006},{"$f":"VLOOKUP($E27,$E:$K,ランキング!$H$1,0)","v":100},{"$f":"VLOOKUP($E27,$E:$K,ようこそ!$D$5,0)","v":64.2},{"$f":"VLOOKUP($E27,$E:$K,ランキング!$K$1,0)","v":20},{"$f":"VLOOKUP($E27,$E:$K,ようこそ!$D$4,0)*ようこそ!$H$4+VLOOKUP($E27,$E:$K,ランキング!$H$1,0)*ようこそ!$H$5+VLOOKUP($E27,$E:$K,ようこそ!$D$5,0)*ようこそ!$H$6+VLOOKUP($E27,$E:$K,ランキング!$K$1,0)*ようこそ!$H$7","v":250.60000000000002},{"$f":"_xlfn.PERCENTRANK.INC($P$4:$P$96,P27)*100","v":75}]
[{"$f":"A27+1","v":25},"首都高川口線","新郷","埼玉高速鉄道","鳩ヶ谷",24,46.8,92.4,83.7,78.3,50,{"$f":"VLOOKUP($E28,$E:$K,ようこそ!$D$4,0)","v":24},{"$f":"VLOOKUP($E28,$E:$K,ランキング!$H$1,0)","v":92.4},{"$f":"VLOOKUP($E28,$E:$K,ようこそ!$D$5,0)","v":83.7},{"$f":"VLOOKUP($E28,$E:$K,ランキング!$K$1,0)","v":50},{"$f":"VLOOKUP($E28,$E:$K,ようこそ!$D$4,0)*ようこそ!$H$4+VLOOKUP($E28,$E:$K,ランキング!$H$1,0)*ようこそ!$H$5+VLOOKUP($E28,$E:$K,ようこそ!$D$5,0)*ようこそ!$H$6+VLOOKUP($E28,$E:$K,ランキング!$K$1,0)*ようこそ!$H$7","v":250.10000000000002},{"$f":"_xlfn.PERCENTRANK.INC($P$4:$P$96,P28)*100","v":73.900000000000006}]
[{"$f":"A28+1","v":26},"東京湾アクアライン","袖ケ浦","高速バス","袖ケ浦BT",9.7999999999999972,2.2000000000000028,100,90.3,99,50,{"$f":"VLOOKUP($E29,$E:$K,ようこそ!$D$4,0)","v":9.7999999999999972},{"$f":"VLOOKUP($E29,$E:$K,ランキング!$H$1,0)","v":100},{"$f":"VLOOKUP($E29,$E:$K,ようこそ!$D$5,0)","v":90.3},{"$f":"VLOOKUP($E29,$E:$K,ランキング!$K$1,0)","v":50},{"$f":"VLOOKUP($E29,$E:$K,ようこそ!$D$4,0)*ようこそ!$H$4+VLOOKUP($E29,$E:$K,ランキング!$H$1,0)*ようこそ!$H$5+VLOOKUP($E29,$E:$K,ようこそ!$D$5,0)*ようこそ!$H$6+VLOOKUP($E29,$E:$K,ランキング!$K$1,0)*ようこそ!$H$7","v":250.1},{"$f":"_xlfn.PERCENTRANK.INC($P$4:$P$96,P29)*100","v":72.8}]
[{"$f":"A29+1","v":27},"首都高湾岸線","浦安","JR京葉線","新浦安",80.5,28.299999999999997,42.400000000000006,45.699999999999996,64.2,80,{"$f":"VLOOKUP($E30,$E:$K,ようこそ!$D$4,0)","v":80.5},{"$f":"VLOOKUP($E30,$E:$K,ランキング!$H$1,0)","v":42.400000000000006},{"$f":"VLOOKUP($E30,$E:$K,ようこそ!$D$5,0)","v":45.699999999999996},{"$f":"VLOOKUP($E30,$E:$K,ランキング!$K$1,0)","v":80},{"$f":"VLOOKUP($E30,$E:$K,ようこそ!$D$4,0)*ようこそ!$H$4+VLOOKUP($E30,$E:$K,ランキング!$H$1,0)*ようこそ!$H$5+VLOOKUP($E30,$E:$K,ようこそ!$D$5,0)*ようこそ!$H$6+VLOOKUP($E30,$E:$K,ランキング!$K$1,0)*ようこそ!$H$7","v":248.6},{"$f":"_xlfn.PERCENTRANK.INC($P$4:$P$96,P30)*100","v":71.7}]
[{"$f":"A30+1","v":28},"首都高川口線","新井宿","埼玉高速鉄道","新井宿",17.400000000000006,37,78.3,92.4,96.8,50,{"$f":"VLOOKUP($E31,$E:$K,ようこそ!$D$4,0)","v":17.400000000000006},{"$f":"VLOOKUP($E31,$E:$K,ランキング!$H$1,0)","v":78.3},{"$f":"VLOOKUP($E31,$E:$K,ようこそ!$D$5,0)","v":92.4},{"$f":"VLOOKUP($E31,$E:$K,ランキング!$K$1,0)","v":50},{"$f":"VLOOKUP($E31,$E:$K,ようこそ!$D$4,0)*ようこそ!$H$4+VLOOKUP($E31,$E:$K,ランキング!$H$1,0)*ようこそ!$H$5+VLOOKUP($E31,$E:$K,ようこそ!$D$5,0)*ようこそ!$H$6+VLOOKUP($E31,$E:$K,ランキング!$K$1,0)*ようこそ!$H$7","v":238.10000000000002},{"$f":"_xlfn.PERCENTRANK.INC($P$4:$P$96,P31)*100","v":70.599999999999994}]
[{"$f":"A31+1","v":29},"外環道","市川中央","JR総武線","市川",84.8,62,30.5,41.400000000000006,29.400000000000006,80,{"$f":"VLOOKUP($E32,$E:$K,ようこそ!$D$4,0)","v":84.8},{"$f":"VLOOKUP($E32,$E:$K,ランキング!$H$1,0)","v":30.5},{"$f":"VLOOKUP($E32,$E:$K,ようこそ!$D$5,0)","v":41.400000000000006},{"$f":"VLOOKUP($E32,$E:$K,ランキング!$K$1,0)","v":80},{"$f":"VLOOKUP($E32,$E:$K,ようこそ!$D$4,0)*ようこそ!$H$4+VLOOKUP($E32,$E:$K,ランキング!$H$1,0)*ようこそ!$H$5+VLOOKUP($E32,$E:$K,ようこそ!$D$5,0)*ようこそ!$H$6+VLOOKUP($E32,$E:$K,ランキング!$K$1,0)*ようこそ!$H$7","v":236.7},{"$f":"_xlfn.PERCENTRANK.INC($P$4:$P$96,P32)*100","v":69.5}]
[{"$f":"A32+1","v":30},"首都高5号池袋線","高島平","都営三田線","西高島平",54.4,51.1,100,80.5,81.599999999999994,0,{"$f":"VLOOKUP($E33,$E:$K,ようこそ!$D$4,0)","v":54.4},{"$f":"VLOOKUP($E33,$E:$K,ランキング!$H$1,0)","v":100},{"$f":"VLOOKUP($E33,$E:$K,ようこそ!$D$5,0)","v":80.5},{"$f":"VLOOKUP($E33,$E:$K,ランキング!$K$1,0)","v":0},{"$f":"VLOOKUP($E33,$E:$K,ようこそ!$D$4,0)*ようこそ!$H$4+VLOOKUP($E33,$E:$K,ランキング!$H$1,0)*ようこそ!$H$5+VLOOKUP($E33,$E:$K,ようこそ!$D$5,0)*ようこそ!$H$6+VLOOKUP($E33,$E:$K,ランキング!$K$1,0)*ようこそ!$H$7","v":234.9},{"$f":"_xlfn.PERCENTRANK.INC($P$4:$P$96,P33)*100","v":68.400000000000006}]
[{"$f":"A33+1","v":31},"東関東自動車道","湾岸習志野IC","JR京葉線","新習志野",42.400000000000006,3.2999999999999972,42.400000000000006,68.5,83.7,80,{"$f":"VLOOKUP($E34,$E:$K,ようこそ!$D$4,0)","v":42.400000000000006},{"$f":"VLOOKUP($E34,$E:$K,ランキング!$H$1,0)","v":42.400000000000006},{"$f":"VLOOKUP($E34,$E:$K,ようこそ!$D$5,0)","v":68.5},{"$f":"VLOOKUP($E34,$E:$K,ランキング!$K$1,0)","v":80},{"$f":"VLOOKUP($E34,$E:$K,ようこそ!$D$4,0)*ようこそ!$H$4+VLOOKUP($E34,$E:$K,ランキング!$H$1,0)*ようこそ!$H$5+VLOOKUP($E34,$E:$K,ようこそ!$D$5,0)*ようこそ!$H$6+VLOOKUP($E34,$E:$K,ランキング!$K$1,0)*ようこそ!$H$7","v":233.3},{"$f":"_xlfn.PERCENTRANK.INC($P$4:$P$96,P34)*100","v":67.300000000000011}]
[{"$f":"A34+1","v":32},"首都高湾岸線","葛西","JR京葉線","葛西臨海公園",93.5,38.1,42.400000000000006,77.2,71.800000000000011,20,{"$f":"VLOOKUP($E35,$E:$K,ようこそ!$D$4,0)","v":93.5},{"$f":"VLOOKUP($E35,$E:$K,ランキング!$H$1,0)","v":42.400000000000006},{"$f":"VLOOKUP($E35,$E:$K,ようこそ!$D$5,0)","v":77.2},{"$f":"VLOOKUP($E35,$E:$K,ランキング!$K$1,0)","v":20},{"$f":"VLOOKUP($E35,$E:$K,ようこそ!$D$4,0)*ようこそ!$H$4+VLOOKUP($E35,$E:$K,ランキング!$H$1,0)*ようこそ!$H$5+VLOOKUP($E35,$E:$K,ようこそ!$D$5,0)*ようこそ!$H$6+VLOOKUP($E35,$E:$K,ランキング!$K$1,0)*ようこそ!$H$7","v":233.10000000000002},{"$f":"_xlfn.PERCENTRANK.INC($P$4:$P$96,P35)*100","v":66.3}]
[{"$f":"A35+1","v":33},"首都高中央環状線","船堀橋","都営新宿線","東大島",75,82.7,57.7,50,14.200000000000003,50,{"$f":"VLOOKUP($E36,$E:$K,ようこそ!$D$4,0)","v":75},{"$f":"VLOOKUP($E36,$E:$K,ランキング!$H$1,0)","v":57.7},{"$f":"VLOOKUP($E36,$E:$K,ようこそ!$D$5,0)","v":50},{"$f":"VLOOKUP($E36,$E:$K,ランキング!$K$1,0)","v":50},{"$f":"VLOOKUP($E36,$E:$K,ようこそ!$D$4,0)*ようこそ!$H$4+VLOOKUP($E36,$E:$K,ランキング!$H$1,0)*ようこそ!$H$5+VLOOKUP($E36,$E:$K,ようこそ!$D$5,0)*ようこそ!$H$6+VLOOKUP($E36,$E:$K,ランキング!$K$1,0)*ようこそ!$H$7","v":232.7},{"$f":"_xlfn.PERCENTRANK.INC($P$4:$P$96,P36)*100","v":65.2}]
[{"$f":"A36+1","v":34},"首都高7号小松川線","錦糸町","JR総武線","錦糸町",95.7,92.4,30.5,2.2000000000000028,9.7999999999999972,100,{"$f":"VLOOKUP($E37,$E:$K,ようこそ!$D$4,0)","v":95.7},{"$f":"VLOOKUP($E37,$E:$K,ランキング!$H$1,0)","v":30.5},{"$f":"VLOOKUP($E37,$E:$K,ようこそ!$D$5,0)","v":2.2000000000000028},{"$f":"VLOOKUP($E37,$E:$K,ランキング!$K$1,0)","v":100},{"$f":"VLOOKUP($E37,$E:$K,ようこそ!$D$4,0)*ようこそ!$H$4+VLOOKUP($E37,$E:$K,ランキング!$H$1,0)*ようこそ!$H$5+VLOOKUP($E37,$E:$K,ようこそ!$D$5,0)*ようこそ!$H$6+VLOOKUP($E37,$E:$K,ランキング!$K$1,0)*ようこそ!$H$7","v":228.4},{"$f":"_xlfn.PERCENTRANK.INC($P$4:$P$96,P37)*100","v":64.099999999999994}]
[{"$f":"A37+1","v":35},"首都高中央環状線","中野長者橋","メトロ丸ノ内線","中野坂上",83.7,100,49,12,5.5,80,{"$f":"VLOOKUP($E38,$E:$K,ようこそ!$D$4,0)","v":83.7},{"$f":"VLOOKUP($E38,$E:$K,ランキング!$H$1,0)","v":49},{"$f":"VLOOKUP($E38,$E:$K,ようこそ!$D$5,0)","v":12},{"$f":"VLOOKUP($E38,$E:$K,ランキング!$K$1,0)","v":80},{"$f":"VLOOKUP($E38,$E:$K,ようこそ!$D$4,0)*ようこそ!$H$4+VLOOKUP($E38,$E:$K,ランキング!$H$1,0)*ようこそ!$H$5+VLOOKUP($E38,$E:$K,ようこそ!$D$5,0)*ようこそ!$H$6+VLOOKUP($E38,$E:$K,ランキング!$K$1,0)*ようこそ!$H$7","v":224.7},{"$f":"_xlfn.PERCENTRANK.INC($P$4:$P$96,P38)*100","v":63}]
[{"$f":"A38+1","v":36},"首都高6号向島線","向島","東武スカイツリーライン","曳舟",92.4,58.7,63.1,18.5,16.400000000000006,50,{"$f":"VLOOKUP($E39,$E:$K,ようこそ!$D$4,0)","v":92.4},{"$f":"VLOOKUP($E39,$E:$K,ランキング!$H$1,0)","v":63.1},{"$f":"VLOOKUP($E39,$E:$K,ようこそ!$D$5,0)","v":18.5},{"$f":"VLOOKUP($E39,$E:$K,ランキング!$K$1,0)","v":50},{"$f":"VLOOKUP($E39,$E:$K,ようこそ!$D$4,0)*ようこそ!$H$4+VLOOKUP($E39,$E:$K,ランキング!$H$1,0)*ようこそ!$H$5+VLOOKUP($E39,$E:$K,ようこそ!$D$5,0)*ようこそ!$H$6+VLOOKUP($E39,$E:$K,ランキング!$K$1,0)*ようこそ!$H$7","v":224},{"$f":"_xlfn.PERCENTRANK.INC($P$4:$P$96,P39)*100","v":61.9}]
[{"$f":"A39+1","v":37},"首都高4号新宿線","幡ヶ谷","京王新線","幡ヶ谷",77.2,99,49,14.200000000000003,1.0999999999999943,80,{"$f":"VLOOKUP($E40,$E:$K,ようこそ!$D$4,0)","v":77.2},{"$f":"VLOOKUP($E40,$E:$K,ランキング!$H$1,0)","v":49},{"$f":"VLOOKUP($E40,$E:$K,ようこそ!$D$5,0)","v":14.200000000000003},{"$f":"VLOOKUP($E40,$E:$K,ランキング!$K$1,0)","v":80},{"$f":"VLOOKUP($E40,$E:$K,ようこそ!$D$4,0)*ようこそ!$H$4+VLOOKUP($E40,$E:$K,ランキング!$H$1,0)*ようこそ!$H$5+VLOOKUP($E40,$E:$K,ようこそ!$D$5,0)*ようこそ!$H$6+VLOOKUP($E40,$E:$K,ランキング!$K$1,0)*ようこそ!$H$7","v":220.4},{"$f":"_xlfn.PERCENTRANK.INC($P$4:$P$96,P40)*100","v":60.8}]
[{"$f":"A40+1","v":38},"首都高5号池袋線","戸田南","JR埼京線","戸田",33.700000000000003,84.8,19.599999999999994,84.8,84.8,80,{"$f":"VLOOKUP($E41,$E:$K,ようこそ!$D$4,0)","v":33.700000000000003},{"$f":"VLOOKUP($E41,$E:$K,ランキング!$H$1,0)","v":19.599999999999994},{"$f":"VLOOKUP($E41,$E:$K,ようこそ!$D$5,0)","v":84.8},{"$f":"VLOOKUP($E41,$E:$K,ランキング!$K$1,0)","v":80},{"$f":"VLOOKUP($E41,$E:$K,ようこそ!$D$4,0)*ようこそ!$H$4+VLOOKUP($E41,$E:$K,ランキング!$H$1,0)*ようこそ!$H$5+VLOOKUP($E41,$E:$K,ようこそ!$D$5,0)*ようこそ!$H$6+VLOOKUP($E41,$E:$K,ランキング!$K$1,0)*ようこそ!$H$7","v":218.1},{"$f":"_xlfn.PERCENTRANK.INC($P$4:$P$96,P41)*100","v":59.699999999999996}]
[{"$f":"A41+1","v":39},"首都高7号小松川線","篠崎","都営新宿線","篠崎",52.2,57.7,57.7,57.7,46.8,50,{"$f":"VLOOKUP($E42,$E:$K,ようこそ!$D$4,0)","v":52.2},{"$f":"VLOOKUP($E42,$E:$K,ランキング!$H$1,0)","v":57.7},{"$f":"VLOOKUP($E42,$E:$K,ようこそ!$D$5,0)","v":57.7},{"$f":"VLOOKUP($E42,$E:$K,ランキング!$K$1,0)","v":50},{"$f":"VLOOKUP($E42,$E:$K,ようこそ!$D$4,0)*ようこそ!$H$4+VLOOKUP($E42,$E:$K,ランキング!$H$1,0)*ようこそ!$H$5+VLOOKUP($E42,$E:$K,ようこそ!$D$5,0)*ようこそ!$H$6+VLOOKUP($E42,$E:$K,ランキング!$K$1,0)*ようこそ!$H$7","v":217.60000000000002},{"$f":"_xlfn.PERCENTRANK.INC($P$4:$P$96,P42)*100","v":58.599999999999994}]
[{"$f":"A42+1","v":40},"外環道","外環三郷西","JR武蔵野線","新三郷",8.7000000000000028,7.6999999999999886,31.599999999999994,77.2,89.2,100,{"$f":"VLOOKUP($E43,$E:$K,ようこそ!$D$4,0)","v":8.7000000000000028},{"$f":"VLOOKUP($E43,$E:$K,ランキング!$H$1,0)","v":31.599999999999994},{"$f":"VLOOKUP($E43,$E:$K,ようこそ!$D$5,0)","v":77.2},{"$f":"VLOOKUP($E43,$E:$K,ランキング!$K$1,0)","v":100},{"$f":"VLOOKUP($E43,$E:$K,ようこそ!$D$4,0)*ようこそ!$H$4+VLOOKUP($E43,$E:$K,ランキング!$H$1,0)*ようこそ!$H$5+VLOOKUP($E43,$E:$K,ようこそ!$D$5,0)*ようこそ!$H$6+VLOOKUP($E43,$E:$K,ランキング!$K$1,0)*ようこそ!$H$7","v":217.5},{"$f":"_xlfn.PERCENTRANK.INC($P$4:$P$96,P43)*100","v":57.599999999999994}]
[{"$f":"A43+1","v":41},"首都高中央環状線","船堀橋","都営新宿線","船堀",68.5,75,57.7,35.900000000000006,25,50,{"$f":"VLOOKUP($E44,$E:$K,ようこそ!$D$4,0)","v":68.5},{"$f":"VLOOKUP($E44,$E:$K,ランキング!$H$1,0)","v":57.7},{"$f":"VLOOKUP($E44,$E:$K,ようこそ!$D$5,0)","v":35.900000000000006},{"$f":"VLOOKUP($E44,$E:$K,ランキング!$K$1,0)","v":50},{"$f":"VLOOKUP($E44,$E:$K,ようこそ!$D$4,0)*ようこそ!$H$4+VLOOKUP($E44,$E:$K,ランキング!$H$1,0)*ようこそ!$H$5+VLOOKUP($E44,$E:$K,ようこそ!$D$5,0)*ようこそ!$H$6+VLOOKUP($E44,$E:$K,ランキング!$K$1,0)*ようこそ!$H$7","v":212.10000000000002},{"$f":"_xlfn.PERCENTRANK.INC($P$4:$P$96,P44)*100","v":56.499999999999993}]
[{"$f":"A44+1","v":42},"首都高1号羽田線","鈴ヶ森","京急本線","大森海岸",51.1,53.3,70.7,8.7000000000000028,12,80,{"$f":"VLOOKUP($E45,$E:$K,ようこそ!$D$4,0)","v":51.1},{"$f":"VLOOKUP($E45,$E:$K,ランキング!$H$1,0)","v":70.7},{"$f":"VLOOKUP($E45,$E:$K,ようこそ!$D$5,0)","v":8.7000000000000028},{"$f":"VLOOKUP($E45,$E:$K,ランキング!$K$1,0)","v":80},{"$f":"VLOOKUP($E45,$E:$K,ようこそ!$D$4,0)*ようこそ!$H$4+VLOOKUP($E45,$E:$K,ランキング!$H$1,0)*ようこそ!$H$5+VLOOKUP($E45,$E:$K,ようこそ!$D$5,0)*ようこそ!$H$6+VLOOKUP($E45,$E:$K,ランキング!$K$1,0)*ようこそ!$H$7","v":210.5},{"$f":"_xlfn.PERCENTRANK.INC($P$4:$P$96,P45)*100","v":55.400000000000006}]
[{"$f":"A45+1","v":43},"首都高7号小松川線","錦糸町","都営新宿線","住吉",99,90.3,57.7,3.2999999999999972,21.799999999999997,50,{"$f":"VLOOKUP($E46,$E:$K,ようこそ!$D$4,0)","v":99},{"$f":"VLOOKUP($E46,$E:$K,ランキング!$H$1,0)","v":57.7},{"$f":"VLOOKUP($E46,$E:$K,ようこそ!$D$5,0)","v":3.2999999999999972},{"$f":"VLOOKUP($E46,$E:$K,ランキング!$K$1,0)","v":50},{"$f":"VLOOKUP($E46,$E:$K,ようこそ!$D$4,0)*ようこそ!$H$4+VLOOKUP($E46,$E:$K,ランキング!$H$1,0)*ようこそ!$H$5+VLOOKUP($E46,$E:$K,ようこそ!$D$5,0)*ようこそ!$H$6+VLOOKUP($E46,$E:$K,ランキング!$K$1,0)*ようこそ!$H$7","v":210},{"$f":"_xlfn.PERCENTRANK.INC($P$4:$P$96,P46)*100","v":54.300000000000004}]
[{"$f":"A46+1","v":44},"首都高中央環状線","平井大橋","JR総武線","新小岩",94.6,78.3,30.5,33.700000000000003,32.699999999999989,50,{"$f":"VLOOKUP($E47,$E:$K,ようこそ!$D$4,0)","v":94.6},{"$f":"VLOOKUP($E47,$E:$K,ランキング!$H$1,0)","v":30.5},{"$f":"VLOOKUP($E47,$E:$K,ようこそ!$D$5,0)","v":33.700000000000003},{"$f":"VLOOKUP($E47,$E:$K,ランキング!$K$1,0)","v":50},{"$f":"VLOOKUP($E47,$E:$K,ようこそ!$D$4,0)*ようこそ!$H$4+VLOOKUP($E47,$E:$K,ランキング!$H$1,0)*ようこそ!$H$5+VLOOKUP($E47,$E:$K,ようこそ!$D$5,0)*ようこそ!$H$6+VLOOKUP($E47,$E:$K,ランキング!$K$1,0)*ようこそ!$H$7","v":208.8},{"$f":"_xlfn.PERCENTRANK.INC($P$4:$P$96,P47)*100","v":53.2}]
[{"$f":"A47+1","v":45},"外環道","市川南","メトロ東西線","妙典",63.1,30.5,3.2999999999999972,60.9,52.2,80,{"$f":"VLOOKUP($E48,$E:$K,ようこそ!$D$4,0)","v":63.1},{"$f":"VLOOKUP($E48,$E:$K,ランキング!$H$1,0)","v":3.2999999999999972},{"$f":"VLOOKUP($E48,$E:$K,ようこそ!$D$5,0)","v":60.9},{"$f":"VLOOKUP($E48,$E:$K,ランキング!$K$1,0)","v":80},{"$f":"VLOOKUP($E48,$E:$K,ようこそ!$D$4,0)*ようこそ!$H$4+VLOOKUP($E48,$E:$K,ランキング!$H$1,0)*ようこそ!$H$5+VLOOKUP($E48,$E:$K,ようこそ!$D$5,0)*ようこそ!$H$6+VLOOKUP($E48,$E:$K,ランキング!$K$1,0)*ようこそ!$H$7","v":207.3},{"$f":"_xlfn.PERCENTRANK.INC($P$4:$P$96,P48)*100","v":52.1}]
[{"$f":"A48+1","v":46},"首都高中央環状線","王子北","JR京浜東北線","王子",89.2,88.1,33.700000000000003,30.5,22.899999999999991,50,{"$f":"VLOOKUP($E49,$E:$K,ようこそ!$D$4,0)","v":89.2},{"$f":"VLOOKUP($E49,$E:$K,ランキング!$H$1,0)","v":33.700000000000003},{"$f":"VLOOKUP($E49,$E:$K,ようこそ!$D$5,0)","v":30.5},{"$f":"VLOOKUP($E49,$E:$K,ランキング!$K$1,0)","v":50},{"$f":"VLOOKUP($E49,$E:$K,ようこそ!$D$4,0)*ようこそ!$H$4+VLOOKUP($E49,$E:$K,ランキング!$H$1,0)*ようこそ!$H$5+VLOOKUP($E49,$E:$K,ようこそ!$D$5,0)*ようこそ!$H$6+VLOOKUP($E49,$E:$K,ランキング!$K$1,0)*ようこそ!$H$7","v":203.4},{"$f":"_xlfn.PERCENTRANK.INC($P$4:$P$96,P49)*100","v":51}]
[{"$f":"A49+1","v":47},"首都高K1号横羽線","汐入","JR鶴見線","弁天橋",34.799999999999997,26.099999999999994,82.7,83.7,69.599999999999994,0,{"$f":"VLOOKUP($E50,$E:$K,ようこそ!$D$4,0)","v":34.799999999999997},{"$f":"VLOOKUP($E50,$E:$K,ランキング!$H$1,0)","v":82.7},{"$f":"VLOOKUP($E50,$E:$K,ようこそ!$D$5,0)","v":83.7},{"$f":"VLOOKUP($E50,$E:$K,ランキング!$K$1,0)","v":0},{"$f":"VLOOKUP($E50,$E:$K,ようこそ!$D$4,0)*ようこそ!$H$4+VLOOKUP($E50,$E:$K,ランキング!$H$1,0)*ようこそ!$H$5+VLOOKUP($E50,$E:$K,ようこそ!$D$5,0)*ようこそ!$H$6+VLOOKUP($E50,$E:$K,ランキング!$K$1,0)*ようこそ!$H$7","v":201.2},{"$f":"_xlfn.PERCENTRANK.INC($P$4:$P$96,P50)*100","v":50}]
[{"$f":"A50+1","v":48},"首都高S新都心線","新都心西","JR埼京線","北与野",15.299999999999997,59.8,19.599999999999994,64.2,76.099999999999994,100,{"$f":"VLOOKUP($E51,$E:$K,ようこそ!$D$4,0)","v":15.299999999999997},{"$f":"VLOOKUP($E51,$E:$K,ランキング!$H$1,0)","v":19.599999999999994},{"$f":"VLOOKUP($E51,$E:$K,ようこそ!$D$5,0)","v":64.2},{"$f":"VLOOKUP($E51,$E:$K,ランキング!$K$1,0)","v":100},{"$f":"VLOOKUP($E51,$E:$K,ようこそ!$D$4,0)*ようこそ!$H$4+VLOOKUP($E51,$E:$K,ランキング!$H$1,0)*ようこそ!$H$5+VLOOKUP($E51,$E:$K,ようこそ!$D$5,0)*ようこそ!$H$6+VLOOKUP($E51,$E:$K,ランキング!$K$1,0)*ようこそ!$H$7","v":199.1},{"$f":"_xlfn.PERCENTRANK.INC($P$4:$P$96,P51)*100","v":48.9}]
[{"$f":"A51+1","v":49},"首都高K3号狩場線","花之木","京急本線","南太田",20.700000000000003,27.200000000000003,70.7,87,49,20,{"$f":"VLOOKUP($E52,$E:$K,ようこそ!$D$4,0)","v":20.700000000000003},{"$f":"VLOOKUP($E52,$E:$K,ランキング!$H$1,0)","v":70.7},{"$f":"VLOOKUP($E52,$E:$K,ようこそ!$D$5,0)","v":87},{"$f":"VLOOKUP($E52,$E:$K,ランキング!$K$1,0)","v":20},{"$f":"VLOOKUP($E52,$E:$K,ようこそ!$D$4,0)*ようこそ!$H$4+VLOOKUP($E52,$E:$K,ランキング!$H$1,0)*ようこそ!$H$5+VLOOKUP($E52,$E:$K,ようこそ!$D$5,0)*ようこそ!$H$6+VLOOKUP($E52,$E:$K,ランキング!$K$1,0)*ようこそ!$H$7","v":198.4},{"$f":"_xlfn.PERCENTRANK.INC($P$4:$P$96,P52)*100","v":47.8}]
[{"$f":"A52+1","v":50},"首都高6号三郷線","三郷","つくばエクスプレス","三郷中央",38.1,25,38.1,40.300000000000004,88.1,80,{"$f":"VLOOKUP($E53,$E:$K,ようこそ!$D$4,0)","v":38.1},{"$f":"VLOOKUP($E53,$E:$K,ランキング!$H$1,0)","v":38.1},{"$f":"VLOOKUP($E53,$E:$K,ようこそ!$D$5,0)","v":40.300000000000004},{"$f":"VLOOKUP($E53,$E:$K,ランキング!$K$1,0)","v":80},{"$f":"VLOOKUP($E53,$E:$K,ようこそ!$D$4,0)*ようこそ!$H$4+VLOOKUP($E53,$E:$K,ランキング!$H$1,0)*ようこそ!$H$5+VLOOKUP($E53,$E:$K,ようこそ!$D$5,0)*ようこそ!$H$6+VLOOKUP($E53,$E:$K,ランキング!$K$1,0)*ようこそ!$H$7","v":196.5},{"$f":"_xlfn.PERCENTRANK.INC($P$4:$P$96,P53)*100","v":46.7}]
[{"$f":"A53+1","v":51},"外環道","川口西","JR京浜東北線","蕨",58.7,77.2,33.700000000000003,53.3,50,50,{"$f":"VLOOKUP($E54,$E:$K,ようこそ!$D$4,0)","v":58.7},{"$f":"VLOOKUP($E54,$E:$K,ランキング!$H$1,0)","v":33.700000000000003},{"$f":"VLOOKUP($E54,$E:$K,ようこそ!$D$5,0)","v":53.3},{"$f":"VLOOKUP($E54,$E:$K,ランキング!$K$1,0)","v":50},{"$f":"VLOOKUP($E54,$E:$K,ようこそ!$D$4,0)*ようこそ!$H$4+VLOOKUP($E54,$E:$K,ランキング!$H$1,0)*ようこそ!$H$5+VLOOKUP($E54,$E:$K,ようこそ!$D$5,0)*ようこそ!$H$6+VLOOKUP($E54,$E:$K,ランキング!$K$1,0)*ようこそ!$H$7","v":195.7},{"$f":"_xlfn.PERCENTRANK.INC($P$4:$P$96,P54)*100","v":45.6}]
[{"$f":"A54+1","v":52},"外環道","川口東","埼玉高速鉄道","戸塚安行",12,29.400000000000006,78.3,78.3,93.5,20,{"$f":"VLOOKUP($E55,$E:$K,ようこそ!$D$4,0)","v":12},{"$f":"VLOOKUP($E55,$E:$K,ランキング!$H$1,0)","v":78.3},{"$f":"VLOOKUP($E55,$E:$K,ようこそ!$D$5,0)","v":78.3},{"$f":"VLOOKUP($E55,$E:$K,ランキング!$K$1,0)","v":20},{"$f":"VLOOKUP($E55,$E:$K,ようこそ!$D$4,0)*ようこそ!$H$4+VLOOKUP($E55,$E:$K,ランキング!$H$1,0)*ようこそ!$H$5+VLOOKUP($E55,$E:$K,ようこそ!$D$5,0)*ようこそ!$H$6+VLOOKUP($E55,$E:$K,ランキング!$K$1,0)*ようこそ!$H$7","v":188.6},{"$f":"_xlfn.PERCENTRANK.INC($P$4:$P$96,P55)*100","v":44.5}]
[{"$f":"A55+1","v":53},"首都高7号小松川線","一之江","都営新宿線","一之江",62,70.7,57.7,47.9,58.7,20,{"$f":"VLOOKUP($E56,$E:$K,ようこそ!$D$4,0)","v":62},{"$f":"VLOOKUP($E56,$E:$K,ランキング!$H$1,0)","v":57.7},{"$f":"VLOOKUP($E56,$E:$K,ようこそ!$D$5,0)","v":47.9},{"$f":"VLOOKUP($E56,$E:$K,ランキング!$K$1,0)","v":20},{"$f":"VLOOKUP($E56,$E:$K,ようこそ!$D$4,0)*ようこそ!$H$4+VLOOKUP($E56,$E:$K,ランキング!$H$1,0)*ようこそ!$H$5+VLOOKUP($E56,$E:$K,ようこそ!$D$5,0)*ようこそ!$H$6+VLOOKUP($E56,$E:$K,ランキング!$K$1,0)*ようこそ!$H$7","v":187.6},{"$f":"_xlfn.PERCENTRANK.INC($P$4:$P$96,P56)*100","v":42.3}]
[{"$f":"A56+1","v":54},"首都高2号目黒線","戸越","都営浅草線","戸越",85.9,89.2,74,7.6999999999999886,6.5999999999999943,20,{"$f":"VLOOKUP($E57,$E:$K,ようこそ!$D$4,0)","v":85.9},{"$f":"VLOOKUP($E57,$E:$K,ランキング!$H$1,0)","v":74},{"$f":"VLOOKUP($E57,$E:$K,ようこそ!$D$5,0)","v":7.6999999999999886},{"$f":"VLOOKUP($E57,$E:$K,ランキング!$K$1,0)","v":20},{"$f":"VLOOKUP($E57,$E:$K,ようこそ!$D$4,0)*ようこそ!$H$4+VLOOKUP($E57,$E:$K,ランキング!$H$1,0)*ようこそ!$H$5+VLOOKUP($E57,$E:$K,ようこそ!$D$5,0)*ようこそ!$H$6+VLOOKUP($E57,$E:$K,ランキング!$K$1,0)*ようこそ!$H$7","v":187.6},{"$f":"_xlfn.PERCENTRANK.INC($P$4:$P$96,P57)*100","v":42.3}]
[{"$f":"A57+1","v":55},"東名高速道路","横浜町田","東急田園都市線","南町田",1.0999999999999943,5.5,26.099999999999994,59.8,72.900000000000006,100,{"$f":"VLOOKUP($E58,$E:$K,ようこそ!$D$4,0)","v":1.0999999999999943},{"$f":"VLOOKUP($E58,$E:$K,ランキング!$H$1,0)","v":26.099999999999994},{"$f":"VLOOKUP($E58,$E:$K,ようこそ!$D$5,0)","v":59.8},{"$f":"VLOOKUP($E58,$E:$K,ランキング!$K$1,0)","v":100},{"$f":"VLOOKUP($E58,$E:$K,ようこそ!$D$4,0)*ようこそ!$H$4+VLOOKUP($E58,$E:$K,ランキング!$H$1,0)*ようこそ!$H$5+VLOOKUP($E58,$E:$K,ようこそ!$D$5,0)*ようこそ!$H$6+VLOOKUP($E58,$E:$K,ランキング!$K$1,0)*ようこそ!$H$7","v":187},{"$f":"_xlfn.PERCENTRANK.INC($P$4:$P$96,P58)*100","v":41.3}]
[{"$f":"A58+1","v":56},"首都高9号深川線","木場","メトロ東西線","木場",97.9,80.5,3.2999999999999972,5.5,8.7000000000000028,80,{"$f":"VLOOKUP($E59,$E:$K,ようこそ!$D$4,0)","v":97.9},{"$f":"VLOOKUP($E59,$E:$K,ランキング!$H$1,0)","v":3.2999999999999972},{"$f":"VLOOKUP($E59,$E:$K,ようこそ!$D$5,0)","v":5.5},{"$f":"VLOOKUP($E59,$E:$K,ランキング!$K$1,0)","v":80},{"$f":"VLOOKUP($E59,$E:$K,ようこそ!$D$4,0)*ようこそ!$H$4+VLOOKUP($E59,$E:$K,ランキング!$H$1,0)*ようこそ!$H$5+VLOOKUP($E59,$E:$K,ようこそ!$D$5,0)*ようこそ!$H$6+VLOOKUP($E59,$E:$K,ランキング!$K$1,0)*ようこそ!$H$7","v":186.7},{"$f":"_xlfn.PERCENTRANK.INC($P$4:$P$96,P59)*100","v":40.200000000000003}]
[{"$f":"A59+1","v":57},"首都高中央環状線","扇大橋","都営日暮里舎人ライナー","扇大橋",76.099999999999994,64.2,10.900000000000006,49,67.400000000000006,50,{"$f":"VLOOKUP($E60,$E:$K,ようこそ!$D$4,0)","v":76.099999999999994},{"$f":"VLOOKUP($E60,$E:$K,ランキング!$H$1,0)","v":10.900000000000006},{"$f":"VLOOKUP($E60,$E:$K,ようこそ!$D$5,0)","v":49},{"$f":"VLOOKUP($E60,$E:$K,ランキング!$K$1,0)","v":50},{"$f":"VLOOKUP($E60,$E:$K,ようこそ!$D$4,0)*ようこそ!$H$4+VLOOKUP($E60,$E:$K,ランキング!$H$1,0)*ようこそ!$H$5+VLOOKUP($E60,$E:$K,ようこそ!$D$5,0)*ようこそ!$H$6+VLOOKUP($E60,$E:$K,ランキング!$K$1,0)*ようこそ!$H$7","v":186},{"$f":"_xlfn.PERCENTRANK.INC($P$4:$P$96,P60)*100","v":39.1}]
[{"$f":"A60+1","v":58},"常磐自動車道","流山","つくばエクスプレス","流山おおたかの森",18.5,10.900000000000006,38.1,27.200000000000003,35.900000000000006,100,{"$f":"VLOOKUP($E61,$E:$K,ようこそ!$D$4,0)","v":18.5},{"$f":"VLOOKUP($E61,$E:$K,ランキング!$H$1,0)","v":38.1},{"$f":"VLOOKUP($E61,$E:$K,ようこそ!$D$5,0)","v":27.200000000000003},{"$f":"VLOOKUP($E61,$E:$K,ランキング!$K$1,0)","v":100},{"$f":"VLOOKUP($E61,$E:$K,ようこそ!$D$4,0)*ようこそ!$H$4+VLOOKUP($E61,$E:$K,ランキング!$H$1,0)*ようこそ!$H$5+VLOOKUP($E61,$E:$K,ようこそ!$D$5,0)*ようこそ!$H$6+VLOOKUP($E61,$E:$K,ランキング!$K$1,0)*ようこそ!$H$7","v":183.8},{"$f":"_xlfn.PERCENTRANK.INC($P$4:$P$96,P61)*100","v":38}]
[{"$f":"A61+1","v":59},"首都高5号池袋線","板橋本町","都営三田線","板橋本町",89.2,87,52.2,21.799999999999997,17.400000000000006,20,{"$f":"VLOOKUP($E62,$E:$K,ようこそ!$D$4,0)","v":89.2},{"$f":"VLOOKUP($E62,$E:$K,ランキング!$H$1,0)","v":52.2},{"$f":"VLOOKUP($E62,$E:$K,ようこそ!$D$5,0)","v":21.799999999999997},{"$f":"VLOOKUP($E62,$E:$K,ランキング!$K$1,0)","v":20},{"$f":"VLOOKUP($E62,$E:$K,ようこそ!$D$4,0)*ようこそ!$H$4+VLOOKUP($E62,$E:$K,ランキング!$H$1,0)*ようこそ!$H$5+VLOOKUP($E62,$E:$K,ようこそ!$D$5,0)*ようこそ!$H$6+VLOOKUP($E62,$E:$K,ランキング!$K$1,0)*ようこそ!$H$7","v":183.2},{"$f":"_xlfn.PERCENTRANK.INC($P$4:$P$96,P62)*100","v":36.9}]
[{"$f":"A62+1","v":60},"首都高3号渋谷線","用賀","東急田園都市線","用賀",56.6,76.099999999999994,26.099999999999994,19.599999999999994,7.6999999999999886,80,{"$f":"VLOOKUP($E63,$E:$K,ようこそ!$D$4,0)","v":56.6},{"$f":"VLOOKUP($E63,$E:$K,ランキング!$H$1,0)","v":26.099999999999994},{"$f":"VLOOKUP($E63,$E:$K,ようこそ!$D$5,0)","v":19.599999999999994},{"$f":"VLOOKUP($E63,$E:$K,ランキング!$K$1,0)","v":80},{"$f":"VLOOKUP($E63,$E:$K,ようこそ!$D$4,0)*ようこそ!$H$4+VLOOKUP($E63,$E:$K,ランキング!$H$1,0)*ようこそ!$H$5+VLOOKUP($E63,$E:$K,ようこそ!$D$5,0)*ようこそ!$H$6+VLOOKUP($E63,$E:$K,ランキング!$K$1,0)*ようこそ!$H$7","v":182.29999999999998},{"$f":"_xlfn.PERCENTRANK.INC($P$4:$P$96,P63)*100","v":35.799999999999997}]
[{"$f":"A63+1","v":61},"首都高6号向島線","堤通","東武スカイツリーライン","鐘ヶ淵",67.400000000000006,39.200000000000003,63.1,31.599999999999994,31.599999999999994,20,{"$f":"VLOOKUP($E64,$E:$K,ようこそ!$D$4,0)","v":67.400000000000006},{"$f":"VLOOKUP($E64,$E:$K,ランキング!$H$1,0)","v":63.1},{"$f":"VLOOKUP($E64,$E:$K,ようこそ!$D$5,0)","v":31.599999999999994},{"$f":"VLOOKUP($E64,$E:$K,ランキング!$K$1,0)","v":20},{"$f":"VLOOKUP($E64,$E:$K,ようこそ!$D$4,0)*ようこそ!$H$4+VLOOKUP($E64,$E:$K,ランキング!$H$1,0)*ようこそ!$H$5+VLOOKUP($E64,$E:$K,ようこそ!$D$5,0)*ようこそ!$H$6+VLOOKUP($E64,$E:$K,ランキング!$K$1,0)*ようこそ!$H$7","v":182.1},{"$f":"_xlfn.PERCENTRANK.INC($P$4:$P$96,P64)*100","v":34.699999999999996}]
[{"$f":"A64+1","v":62},"首都高S大宮線","浦和南","JR埼京線","南与野",16.400000000000006,69.599999999999994,19.599999999999994,95.7,85.9,50,{"$f":"VLOOKUP($E65,$E:$K,ようこそ!$D$4,0)","v":16.400000000000006},{"$f":"VLOOKUP($E65,$E:$K,ランキング!$H$1,0)","v":19.599999999999994},{"$f":"VLOOKUP($E65,$E:$K,ようこそ!$D$5,0)","v":95.7},{"$f":"VLOOKUP($E65,$E:$K,ランキング!$K$1,0)","v":50},{"$f":"VLOOKUP($E65,$E:$K,ようこそ!$D$4,0)*ようこそ!$H$4+VLOOKUP($E65,$E:$K,ランキング!$H$1,0)*ようこそ!$H$5+VLOOKUP($E65,$E:$K,ようこそ!$D$5,0)*ようこそ!$H$6+VLOOKUP($E65,$E:$K,ランキング!$K$1,0)*ようこそ!$H$7","v":181.7},{"$f":"_xlfn.PERCENTRANK.INC($P$4:$P$96,P65)*100","v":32.6}]
[{"$f":"A65+1","v":63},"首都高中央環状線","平井大橋","JR総武線","平井",89.2,83.7,7.6999999999999886,34.799999999999997,34.799999999999997,50,{"$f":"VLOOKUP($E66,$E:$K,ようこそ!$D$4,0)","v":89.2},{"$f":"VLOOKUP($E66,$E:$K,ランキング!$H$1,0)","v":7.6999999999999886},{"$f":"VLOOKUP($E66,$E:$K,ようこそ!$D$5,0)","v":34.799999999999997},{"$f":"VLOOKUP($E66,$E:$K,ランキング!$K$1,0)","v":50},{"$f":"VLOOKUP($E66,$E:$K,ようこそ!$D$4,0)*ようこそ!$H$4+VLOOKUP($E66,$E:$K,ランキング!$H$1,0)*ようこそ!$H$5+VLOOKUP($E66,$E:$K,ようこそ!$D$5,0)*ようこそ!$H$6+VLOOKUP($E66,$E:$K,ランキング!$K$1,0)*ようこそ!$H$7","v":181.7},{"$f":"_xlfn.PERCENTRANK.INC($P$4:$P$96,P66)*100","v":32.6}]
[{"$f":"A66+1","v":64},"首都高K1号横羽線","浜川崎","JR南武支線","浜川崎",25,14.200000000000003,100,54.4,60.9,0,{"$f":"VLOOKUP($E67,$E:$K,ようこそ!$D$4,0)","v":25},{"$f":"VLOOKUP($E67,$E:$K,ランキング!$H$1,0)","v":100},{"$f":"VLOOKUP($E67,$E:$K,ようこそ!$D$5,0)","v":54.4},{"$f":"VLOOKUP($E67,$E:$K,ランキング!$K$1,0)","v":0},{"$f":"VLOOKUP($E67,$E:$K,ようこそ!$D$4,0)*ようこそ!$H$4+VLOOKUP($E67,$E:$K,ランキング!$H$1,0)*ようこそ!$H$5+VLOOKUP($E67,$E:$K,ようこそ!$D$5,0)*ようこそ!$H$6+VLOOKUP($E67,$E:$K,ランキング!$K$1,0)*ようこそ!$H$7","v":179.4},{"$f":"_xlfn.PERCENTRANK.INC($P$4:$P$96,P67)*100","v":31.5}]
[{"$f":"A67+1","v":65},"首都高1号羽田線","平和島","京急本線","平和島",71.800000000000011,65.300000000000011,70.7,16.400000000000006,27.200000000000003,20,{"$f":"VLOOKUP($E68,$E:$K,ようこそ!$D$4,0)","v":71.800000000000011},{"$f":"VLOOKUP($E68,$E:$K,ランキング!$H$1,0)","v":70.7},{"$f":"VLOOKUP($E68,$E:$K,ようこそ!$D$5,0)","v":16.400000000000006},{"$f":"VLOOKUP($E68,$E:$K,ランキング!$K$1,0)","v":20},{"$f":"VLOOKUP($E68,$E:$K,ようこそ!$D$4,0)*ようこそ!$H$4+VLOOKUP($E68,$E:$K,ランキング!$H$1,0)*ようこそ!$H$5+VLOOKUP($E68,$E:$K,ようこそ!$D$5,0)*ようこそ!$H$6+VLOOKUP($E68,$E:$K,ランキング!$K$1,0)*ようこそ!$H$7","v":178.9},{"$f":"_xlfn.PERCENTRANK.INC($P$4:$P$96,P68)*100","v":30.4}]
[{"$f":"A68+1","v":66},"首都高K1号横羽線","大師","京急大師線","大師橋",24,22.899999999999991,82.7,70.7,55.5,0,{"$f":"VLOOKUP($E69,$E:$K,ようこそ!$D$4,0)","v":24},{"$f":"VLOOKUP($E69,$E:$K,ランキング!$H$1,0)","v":82.7},{"$f":"VLOOKUP($E69,$E:$K,ようこそ!$D$5,0)","v":70.7},{"$f":"VLOOKUP($E69,$E:$K,ランキング!$K$1,0)","v":0},{"$f":"VLOOKUP($E69,$E:$K,ようこそ!$D$4,0)*ようこそ!$H$4+VLOOKUP($E69,$E:$K,ランキング!$H$1,0)*ようこそ!$H$5+VLOOKUP($E69,$E:$K,ようこそ!$D$5,0)*ようこそ!$H$6+VLOOKUP($E69,$E:$K,ランキング!$K$1,0)*ようこそ!$H$7","v":177.4},{"$f":"_xlfn.PERCENTRANK.INC($P$4:$P$96,P69)*100","v":29.299999999999997}]
[{"$f":"A69+1","v":67},"首都高中央環状線","清新町","メトロ東西線","西葛西",91.4,63.1,3.2999999999999972,32.699999999999989,47.9,50,{"$f":"VLOOKUP($E70,$E:$K,ようこそ!$D$4,0)","v":91.4},{"$f":"VLOOKUP($E70,$E:$K,ランキング!$H$1,0)","v":3.2999999999999972},{"$f":"VLOOKUP($E70,$E:$K,ようこそ!$D$5,0)","v":32.699999999999989},{"$f":"VLOOKUP($E70,$E:$K,ランキング!$K$1,0)","v":50},{"$f":"VLOOKUP($E70,$E:$K,ようこそ!$D$4,0)*ようこそ!$H$4+VLOOKUP($E70,$E:$K,ランキング!$H$1,0)*ようこそ!$H$5+VLOOKUP($E70,$E:$K,ようこそ!$D$5,0)*ようこそ!$H$6+VLOOKUP($E70,$E:$K,ランキング!$K$1,0)*ようこそ!$H$7","v":177.39999999999998},{"$f":"_xlfn.PERCENTRANK.INC($P$4:$P$96,P70)*100","v":28.199999999999996}]
[{"$f":"A70+1","v":68},"首都高1号羽田線","勝島","京急本線","立会川",74,66.400000000000006,70.7,9.7999999999999972,20.700000000000003,20,{"$f":"VLOOKUP($E71,$E:$K,ようこそ!$D$4,0)","v":74},{"$f":"VLOOKUP($E71,$E:$K,ランキング!$H$1,0)","v":70.7},{"$f":"VLOOKUP($E71,$E:$K,ようこそ!$D$5,0)","v":9.7999999999999972},{"$f":"VLOOKUP($E71,$E:$K,ランキング!$K$1,0)","v":20},{"$f":"VLOOKUP($E71,$E:$K,ようこそ!$D$4,0)*ようこそ!$H$4+VLOOKUP($E71,$E:$K,ランキング!$H$1,0)*ようこそ!$H$5+VLOOKUP($E71,$E:$K,ようこそ!$D$5,0)*ようこそ!$H$6+VLOOKUP($E71,$E:$K,ランキング!$K$1,0)*ようこそ!$H$7","v":174.5},{"$f":"_xlfn.PERCENTRANK.INC($P$4:$P$96,P71)*100","v":27.1}]
[{"$f":"A71+1","v":69},"首都高K1号横羽線","生麦","京急本線","生麦",21.799999999999997,19.599999999999994,70.7,59.8,44.599999999999994,20,{"$f":"VLOOKUP($E72,$E:$K,ようこそ!$D$4,0)","v":21.799999999999997},{"$f":"VLOOKUP($E72,$E:$K,ランキング!$H$1,0)","v":70.7},{"$f":"VLOOKUP($E72,$E:$K,ようこそ!$D$5,0)","v":59.8},{"$f":"VLOOKUP($E72,$E:$K,ランキング!$K$1,0)","v":20},{"$f":"VLOOKUP($E72,$E:$K,ようこそ!$D$4,0)*ようこそ!$H$4+VLOOKUP($E72,$E:$K,ランキング!$H$1,0)*ようこそ!$H$5+VLOOKUP($E72,$E:$K,ようこそ!$D$5,0)*ようこそ!$H$6+VLOOKUP($E72,$E:$K,ランキング!$K$1,0)*ようこそ!$H$7","v":172.3},{"$f":"_xlfn.PERCENTRANK.INC($P$4:$P$96,P72)*100","v":26}]
[{"$f":"A72+1","v":70},"外環道","戸田東","JR埼京線","北戸田",29.400000000000006,80.5,19.599999999999994,72.900000000000006,82.7,50,{"$f":"VLOOKUP($E73,$E:$K,ようこそ!$D$4,0)","v":29.400000000000006},{"$f":"VLOOKUP($E73,$E:$K,ランキング!$H$1,0)","v":19.599999999999994},{"$f":"VLOOKUP($E73,$E:$K,ようこそ!$D$5,0)","v":72.900000000000006},{"$f":"VLOOKUP($E73,$E:$K,ランキング!$K$1,0)","v":50},{"$f":"VLOOKUP($E73,$E:$K,ようこそ!$D$4,0)*ようこそ!$H$4+VLOOKUP($E73,$E:$K,ランキング!$H$1,0)*ようこそ!$H$5+VLOOKUP($E73,$E:$K,ようこそ!$D$5,0)*ようこそ!$H$6+VLOOKUP($E73,$E:$K,ランキング!$K$1,0)*ようこそ!$H$7","v":171.9},{"$f":"_xlfn.PERCENTRANK.INC($P$4:$P$96,P73)*100","v":25}]
[{"$f":"A73+1","v":71},"首都高4号新宿線","高井戸","京王井の頭線","高井戸",30.5,92.4,65.300000000000011,20.700000000000003,19.599999999999994,50,{"$f":"VLOOKUP($E74,$E:$K,ようこそ!$D$4,0)","v":30.5},{"$f":"VLOOKUP($E74,$E:$K,ランキング!$H$1,0)","v":65.300000000000011},{"$f":"VLOOKUP($E74,$E:$K,ようこそ!$D$5,0)","v":20.700000000000003},{"$f":"VLOOKUP($E74,$E:$K,ランキング!$K$1,0)","v":50},{"$f":"VLOOKUP($E74,$E:$K,ようこそ!$D$4,0)*ようこそ!$H$4+VLOOKUP($E74,$E:$K,ランキング!$H$1,0)*ようこそ!$H$5+VLOOKUP($E74,$E:$K,ようこそ!$D$5,0)*ようこそ!$H$6+VLOOKUP($E74,$E:$K,ランキング!$K$1,0)*ようこそ!$H$7","v":166.5},{"$f":"_xlfn.PERCENTRANK.INC($P$4:$P$96,P74)*100","v":23.9}]
[{"$f":"A74+1","v":72},"首都高5号池袋線","北池袋","メトロ有楽町線","要町",79.400000000000006,96.8,49,17.400000000000006,10.900000000000006,20,{"$f":"VLOOKUP($E75,$E:$K,ようこそ!$D$4,0)","v":79.400000000000006},{"$f":"VLOOKUP($E75,$E:$K,ランキング!$H$1,0)","v":49},{"$f":"VLOOKUP($E75,$E:$K,ようこそ!$D$5,0)","v":17.400000000000006},{"$f":"VLOOKUP($E75,$E:$K,ランキング!$K$1,0)","v":20},{"$f":"VLOOKUP($E75,$E:$K,ようこそ!$D$4,0)*ようこそ!$H$4+VLOOKUP($E75,$E:$K,ランキング!$H$1,0)*ようこそ!$H$5+VLOOKUP($E75,$E:$K,ようこそ!$D$5,0)*ようこそ!$H$6+VLOOKUP($E75,$E:$K,ランキング!$K$1,0)*ようこそ!$H$7","v":165.8},{"$f":"_xlfn.PERCENTRANK.INC($P$4:$P$96,P75)*100","v":22.8}]
[{"$f":"A75+1","v":73},"首都高K3号狩場線","永田","JR横須賀線","保土ヶ谷",49,56.6,4.4000000000000057,91.4,63.1,20,{"$f":"VLOOKUP($E76,$E:$K,ようこそ!$D$4,0)","v":49},{"$f":"VLOOKUP($E76,$E:$K,ランキング!$H$1,0)","v":4.4000000000000057},{"$f":"VLOOKUP($E76,$E:$K,ようこそ!$D$5,0)","v":91.4},{"$f":"VLOOKUP($E76,$E:$K,ランキング!$K$1,0)","v":20},{"$f":"VLOOKUP($E76,$E:$K,ようこそ!$D$4,0)*ようこそ!$H$4+VLOOKUP($E76,$E:$K,ランキング!$H$1,0)*ようこそ!$H$5+VLOOKUP($E76,$E:$K,ようこそ!$D$5,0)*ようこそ!$H$6+VLOOKUP($E76,$E:$K,ランキング!$K$1,0)*ようこそ!$H$7","v":164.8},{"$f":"_xlfn.PERCENTRANK.INC($P$4:$P$96,P76)*100","v":21.7}]
[{"$f":"A76+1","v":74},"中央自動車道","調布","京王線","西調布",5.5,55.5,49,85.9,54.4,20,{"$f":"VLOOKUP($E77,$E:$K,ようこそ!$D$4,0)","v":5.5},{"$f":"VLOOKUP($E77,$E:$K,ランキング!$H$1,0)","v":49},{"$f":"VLOOKUP($E77,$E:$K,ようこそ!$D$5,0)","v":85.9},{"$f":"VLOOKUP($E77,$E:$K,ランキング!$K$1,0)","v":20},{"$f":"VLOOKUP($E77,$E:$K,ようこそ!$D$4,0)*ようこそ!$H$4+VLOOKUP($E77,$E:$K,ランキング!$H$1,0)*ようこそ!$H$5+VLOOKUP($E77,$E:$K,ようこそ!$D$5,0)*ようこそ!$H$6+VLOOKUP($E77,$E:$K,ランキング!$K$1,0)*ようこそ!$H$7","v":160.4},{"$f":"_xlfn.PERCENTRANK.INC($P$4:$P$96,P77)*100","v":20.599999999999998}]
[{"$f":"A77+1","v":75},"首都高K1号横羽線","子安","JR京浜東北線","新子安",57.7,34.799999999999997,13.099999999999994,39.200000000000003,53.3,50,{"$f":"VLOOKUP($E78,$E:$K,ようこそ!$D$4,0)","v":57.7},{"$f":"VLOOKUP($E78,$E:$K,ランキング!$H$1,0)","v":13.099999999999994},{"$f":"VLOOKUP($E78,$E:$K,ようこそ!$D$5,0)","v":39.200000000000003},{"$f":"VLOOKUP($E78,$E:$K,ランキング!$K$1,0)","v":50},{"$f":"VLOOKUP($E78,$E:$K,ようこそ!$D$4,0)*ようこそ!$H$4+VLOOKUP($E78,$E:$K,ランキング!$H$1,0)*ようこそ!$H$5+VLOOKUP($E78,$E:$K,ようこそ!$D$5,0)*ようこそ!$H$6+VLOOKUP($E78,$E:$K,ランキング!$K$1,0)*ようこそ!$H$7","v":160},{"$f":"_xlfn.PERCENTRANK.INC($P$4:$P$96,P78)*100","v":19.5}]
[{"$f":"A78+1","v":76},"首都高3号渋谷線","三軒茶屋","東急田園都市線","三軒茶屋",79.400000000000006,93.5,26.099999999999994,4.4000000000000057,2.2000000000000028,50,{"$f":"VLOOKUP($E79,$E:$K,ようこそ!$D$4,0)","v":79.400000000000006},{"$f":"VLOOKUP($E79,$E:$K,ランキング!$H$1,0)","v":26.099999999999994},{"$f":"VLOOKUP($E79,$E:$K,ようこそ!$D$5,0)","v":4.4000000000000057},{"$f":"VLOOKUP($E79,$E:$K,ランキング!$K$1,0)","v":50},{"$f":"VLOOKUP($E79,$E:$K,ようこそ!$D$4,0)*ようこそ!$H$4+VLOOKUP($E79,$E:$K,ランキング!$H$1,0)*ようこそ!$H$5+VLOOKUP($E79,$E:$K,ようこそ!$D$5,0)*ようこそ!$H$6+VLOOKUP($E79,$E:$K,ランキング!$K$1,0)*ようこそ!$H$7","v":159.9},{"$f":"_xlfn.PERCENTRANK.INC($P$4:$P$96,P79)*100","v":18.399999999999999}]
[{"$f":"A79+1","v":77},"首都高4号新宿線","永福","京王線","下高井戸",44.599999999999994,97.9,49,15.299999999999997,4.4000000000000057,50,{"$f":"VLOOKUP($E80,$E:$K,ようこそ!$D$4,0)","v":44.599999999999994},{"$f":"VLOOKUP($E80,$E:$K,ランキング!$H$1,0)","v":49},{"$f":"VLOOKUP($E80,$E:$K,ようこそ!$D$5,0)","v":15.299999999999997},{"$f":"VLOOKUP($E80,$E:$K,ランキング!$K$1,0)","v":50},{"$f":"VLOOKUP($E80,$E:$K,ようこそ!$D$4,0)*ようこそ!$H$4+VLOOKUP($E80,$E:$K,ランキング!$H$1,0)*ようこそ!$H$5+VLOOKUP($E80,$E:$K,ようこそ!$D$5,0)*ようこそ!$H$6+VLOOKUP($E80,$E:$K,ランキング!$K$1,0)*ようこそ!$H$7","v":158.89999999999998},{"$f":"_xlfn.PERCENTRANK.INC($P$4:$P$96,P80)*100","v":17.299999999999997}]
[{"$f":"A80+1","v":78},"首都高4号新宿線","高井戸","京王線","八幡山",28.299999999999997,94.6,49,30.5,13.099999999999994,50,{"$f":"VLOOKUP($E81,$E:$K,ようこそ!$D$4,0)","v":28.299999999999997},{"$f":"VLOOKUP($E81,$E:$K,ランキング!$H$1,0)","v":49},{"$f":"VLOOKUP($E81,$E:$K,ようこそ!$D$5,0)","v":30.5},{"$f":"VLOOKUP($E81,$E:$K,ランキング!$K$1,0)","v":50},{"$f":"VLOOKUP($E81,$E:$K,ようこそ!$D$4,0)*ようこそ!$H$4+VLOOKUP($E81,$E:$K,ランキング!$H$1,0)*ようこそ!$H$5+VLOOKUP($E81,$E:$K,ようこそ!$D$5,0)*ようこそ!$H$6+VLOOKUP($E81,$E:$K,ランキング!$K$1,0)*ようこそ!$H$7","v":157.80000000000001},{"$f":"_xlfn.PERCENTRANK.INC($P$4:$P$96,P81)*100","v":16.3}]
[{"$f":"A81+1","v":79},"首都高1号羽田線","羽田","京急空港線","穴守稲荷",41.400000000000006,41.400000000000006,82.7,13.099999999999994,33.700000000000003,20,{"$f":"VLOOKUP($E82,$E:$K,ようこそ!$D$4,0)","v":41.400000000000006},{"$f":"VLOOKUP($E82,$E:$K,ランキング!$H$1,0)","v":82.7},{"$f":"VLOOKUP($E82,$E:$K,ようこそ!$D$5,0)","v":13.099999999999994},{"$f":"VLOOKUP($E82,$E:$K,ランキング!$K$1,0)","v":20},{"$f":"VLOOKUP($E82,$E:$K,ようこそ!$D$4,0)*ようこそ!$H$4+VLOOKUP($E82,$E:$K,ランキング!$H$1,0)*ようこそ!$H$5+VLOOKUP($E82,$E:$K,ようこそ!$D$5,0)*ようこそ!$H$6+VLOOKUP($E82,$E:$K,ランキング!$K$1,0)*ようこそ!$H$7","v":157.19999999999999},{"$f":"_xlfn.PERCENTRANK.INC($P$4:$P$96,P82)*100","v":15.2}]
[{"$f":"A82+1","v":80},"常磐自動車道","柏","つくばエクスプレス","柏の葉キャンパス",12,4.4000000000000057,38.1,6.5999999999999943,15.299999999999997,100,{"$f":"VLOOKUP($E83,$E:$K,ようこそ!$D$4,0)","v":12},{"$f":"VLOOKUP($E83,$E:$K,ランキング!$H$1,0)","v":38.1},{"$f":"VLOOKUP($E83,$E:$K,ようこそ!$D$5,0)","v":6.5999999999999943},{"$f":"VLOOKUP($E83,$E:$K,ランキング!$K$1,0)","v":100},{"$f":"VLOOKUP($E83,$E:$K,ようこそ!$D$4,0)*ようこそ!$H$4+VLOOKUP($E83,$E:$K,ランキング!$H$1,0)*ようこそ!$H$5+VLOOKUP($E83,$E:$K,ようこそ!$D$5,0)*ようこそ!$H$6+VLOOKUP($E83,$E:$K,ランキング!$K$1,0)*ようこそ!$H$7","v":156.69999999999999},{"$f":"_xlfn.PERCENTRANK.INC($P$4:$P$96,P83)*100","v":14.099999999999998}]
[{"$f":"A83+1","v":81},"首都高9号深川線","福住","メトロ東西線","門前仲町",100,85.9,3.2999999999999972,1.0999999999999943,3.2999999999999972,50,{"$f":"VLOOKUP($E84,$E:$K,ようこそ!$D$4,0)","v":100},{"$f":"VLOOKUP($E84,$E:$K,ランキング!$H$1,0)","v":3.2999999999999972},{"$f":"VLOOKUP($E84,$E:$K,ようこそ!$D$5,0)","v":1.0999999999999943},{"$f":"VLOOKUP($E84,$E:$K,ランキング!$K$1,0)","v":50},{"$f":"VLOOKUP($E84,$E:$K,ようこそ!$D$4,0)*ようこそ!$H$4+VLOOKUP($E84,$E:$K,ランキング!$H$1,0)*ようこそ!$H$5+VLOOKUP($E84,$E:$K,ようこそ!$D$5,0)*ようこそ!$H$6+VLOOKUP($E84,$E:$K,ランキング!$K$1,0)*ようこそ!$H$7","v":154.39999999999998},{"$f":"_xlfn.PERCENTRANK.INC($P$4:$P$96,P84)*100","v":13}]
[{"$f":"A84+1","v":82},"首都高川口線","鹿浜橋","都営日暮里舎人ライナー","江北",66.400000000000006,54.4,10.900000000000006,55.5,26.099999999999994,20,{"$f":"VLOOKUP($E85,$E:$K,ようこそ!$D$4,0)","v":66.400000000000006},{"$f":"VLOOKUP($E85,$E:$K,ランキング!$H$1,0)","v":10.900000000000006},{"$f":"VLOOKUP($E85,$E:$K,ようこそ!$D$5,0)","v":55.5},{"$f":"VLOOKUP($E85,$E:$K,ランキング!$K$1,0)","v":20},{"$f":"VLOOKUP($E85,$E:$K,ようこそ!$D$4,0)*ようこそ!$H$4+VLOOKUP($E85,$E:$K,ランキング!$H$1,0)*ようこそ!$H$5+VLOOKUP($E85,$E:$K,ようこそ!$D$5,0)*ようこそ!$H$6+VLOOKUP($E85,$E:$K,ランキング!$K$1,0)*ようこそ!$H$7","v":152.80000000000001},{"$f":"_xlfn.PERCENTRANK.INC($P$4:$P$96,P85)*100","v":11.899999999999999}]
[{"$f":"A85+1","v":83},"首都高K3号狩場線","阪東橋","横浜地下鉄ブルーライン","阪東橋",15.299999999999997,24,71.800000000000011,44.599999999999994,38.1,20,{"$f":"VLOOKUP($E86,$E:$K,ようこそ!$D$4,0)","v":15.299999999999997},{"$f":"VLOOKUP($E86,$E:$K,ランキング!$H$1,0)","v":71.800000000000011},{"$f":"VLOOKUP($E86,$E:$K,ようこそ!$D$5,0)","v":44.599999999999994},{"$f":"VLOOKUP($E86,$E:$K,ランキング!$K$1,0)","v":20},{"$f":"VLOOKUP($E86,$E:$K,ようこそ!$D$4,0)*ようこそ!$H$4+VLOOKUP($E86,$E:$K,ランキング!$H$1,0)*ようこそ!$H$5+VLOOKUP($E86,$E:$K,ようこそ!$D$5,0)*ようこそ!$H$6+VLOOKUP($E86,$E:$K,ランキング!$K$1,0)*ようこそ!$H$7","v":151.69999999999999},{"$f":"_xlfn.PERCENTRANK.INC($P$4:$P$96,P86)*100","v":10.8}]
[{"$f":"A86+1","v":84},"首都高川口線","足立入谷","都営日暮里舎人ライナー","舎人",51.1,43.500000000000007,10.900000000000006,66.400000000000006,79.400000000000006,20,{"$f":"VLOOKUP($E87,$E:$K,ようこそ!$D$4,0)","v":51.1},{"$f":"VLOOKUP($E87,$E:$K,ランキング!$H$1,0)","v":10.900000000000006},{"$f":"VLOOKUP($E87,$E:$K,ようこそ!$D$5,0)","v":66.400000000000006},{"$f":"VLOOKUP($E87,$E:$K,ランキング!$K$1,0)","v":20},{"$f":"VLOOKUP($E87,$E:$K,ようこそ!$D$4,0)*ようこそ!$H$4+VLOOKUP($E87,$E:$K,ランキング!$H$1,0)*ようこそ!$H$5+VLOOKUP($E87,$E:$K,ようこそ!$D$5,0)*ようこそ!$H$6+VLOOKUP($E87,$E:$K,ランキング!$K$1,0)*ようこそ!$H$7","v":148.4},{"$f":"_xlfn.PERCENTRANK.INC($P$4:$P$96,P87)*100","v":9.7000000000000011}]
[{"$f":"A87+1","v":85},"京葉道路","武石","JR総武線","幕張",20.700000000000003,12,7.6999999999999886,69.599999999999994,94.6,50,{"$f":"VLOOKUP($E88,$E:$K,ようこそ!$D$4,0)","v":20.700000000000003},{"$f":"VLOOKUP($E88,$E:$K,ランキング!$H$1,0)","v":7.6999999999999886},{"$f":"VLOOKUP($E88,$E:$K,ようこそ!$D$5,0)","v":69.599999999999994},{"$f":"VLOOKUP($E88,$E:$K,ランキング!$K$1,0)","v":50},{"$f":"VLOOKUP($E88,$E:$K,ようこそ!$D$4,0)*ようこそ!$H$4+VLOOKUP($E88,$E:$K,ランキング!$H$1,0)*ようこそ!$H$5+VLOOKUP($E88,$E:$K,ようこそ!$D$5,0)*ようこそ!$H$6+VLOOKUP($E88,$E:$K,ランキング!$K$1,0)*ようこそ!$H$7","v":148},{"$f":"_xlfn.PERCENTRANK.INC($P$4:$P$96,P88)*100","v":8.6}]
[{"$f":"A88+1","v":86},"首都高6号三郷線","加平","つくばエクスプレス","六町",60.9,43.500000000000007,38.1,25,40.300000000000004,20,{"$f":"VLOOKUP($E89,$E:$K,ようこそ!$D$4,0)","v":60.9},{"$f":"VLOOKUP($E89,$E:$K,ランキング!$H$1,0)","v":38.1},{"$f":"VLOOKUP($E89,$E:$K,ようこそ!$D$5,0)","v":25},{"$f":"VLOOKUP($E89,$E:$K,ランキング!$K$1,0)","v":20},{"$f":"VLOOKUP($E89,$E:$K,ようこそ!$D$4,0)*ようこそ!$H$4+VLOOKUP($E89,$E:$K,ランキング!$H$1,0)*ようこそ!$H$5+VLOOKUP($E89,$E:$K,ようこそ!$D$5,0)*ようこそ!$H$6+VLOOKUP($E89,$E:$K,ランキング!$K$1,0)*ようこそ!$H$7","v":144},{"$f":"_xlfn.PERCENTRANK.INC($P$4:$P$96,P89)*100","v":7.6}]
[{"$f":"A89+1","v":87},"中央自動車道","稲城","JR南武線","稲城長沼",5.5,60.9,15.299999999999997,93.5,74,20,{"$f":"VLOOKUP($E90,$E:$K,ようこそ!$D$4,0)","v":5.5},{"$f":"VLOOKUP($E90,$E:$K,ランキング!$H$1,0)","v":15.299999999999997},{"$f":"VLOOKUP($E90,$E:$K,ようこそ!$D$5,0)","v":93.5},{"$f":"VLOOKUP($E90,$E:$K,ランキング!$K$1,0)","v":20},{"$f":"VLOOKUP($E90,$E:$K,ようこそ!$D$4,0)*ようこそ!$H$4+VLOOKUP($E90,$E:$K,ランキング!$H$1,0)*ようこそ!$H$5+VLOOKUP($E90,$E:$K,ようこそ!$D$5,0)*ようこそ!$H$6+VLOOKUP($E90,$E:$K,ランキング!$K$1,0)*ようこそ!$H$7","v":134.30000000000001},{"$f":"_xlfn.PERCENTRANK.INC($P$4:$P$96,P90)*100","v":6.5}]
[{"$f":"A90+1","v":88},"京葉道路","幕張","JR総武線","幕張本郷",31.599999999999994,18.5,7.6999999999999886,75,77.2,20,{"$f":"VLOOKUP($E91,$E:$K,ようこそ!$D$4,0)","v":31.599999999999994},{"$f":"VLOOKUP($E91,$E:$K,ランキング!$H$1,0)","v":7.6999999999999886},{"$f":"VLOOKUP($E91,$E:$K,ようこそ!$D$5,0)","v":75},{"$f":"VLOOKUP($E91,$E:$K,ランキング!$K$1,0)","v":20},{"$f":"VLOOKUP($E91,$E:$K,ようこそ!$D$4,0)*ようこそ!$H$4+VLOOKUP($E91,$E:$K,ランキング!$H$1,0)*ようこそ!$H$5+VLOOKUP($E91,$E:$K,ようこそ!$D$5,0)*ようこそ!$H$6+VLOOKUP($E91,$E:$K,ランキング!$K$1,0)*ようこそ!$H$7","v":134.29999999999998},{"$f":"_xlfn.PERCENTRANK.INC($P$4:$P$96,P91)*100","v":5.4}]
[{"$f":"A91+1","v":89},"首都高K1号横羽線","東神奈川","JR京浜東北線","東神奈川",46.8,41.400000000000006,13.099999999999994,24,30.5,50,{"$f":"VLOOKUP($E92,$E:$K,ようこそ!$D$4,0)","v":46.8},{"$f":"VLOOKUP($E92,$E:$K,ランキング!$H$1,0)","v":13.099999999999994},{"$f":"VLOOKUP($E92,$E:$K,ようこそ!$D$5,0)","v":24},{"$f":"VLOOKUP($E92,$E:$K,ランキング!$K$1,0)","v":50},{"$f":"VLOOKUP($E92,$E:$K,ようこそ!$D$4,0)*ようこそ!$H$4+VLOOKUP($E92,$E:$K,ランキング!$H$1,0)*ようこそ!$H$5+VLOOKUP($E92,$E:$K,ようこそ!$D$5,0)*ようこそ!$H$6+VLOOKUP($E92,$E:$K,ランキング!$K$1,0)*ようこそ!$H$7","v":133.89999999999998},{"$f":"_xlfn.PERCENTRANK.INC($P$4:$P$96,P92)*100","v":4.3}]
[{"$f":"A92+1","v":90},"首都高3号渋谷線","池尻","東急田園都市線","池尻大橋",81.599999999999994,95.7,26.099999999999994,0,0,20,{"$f":"VLOOKUP($E93,$E:$K,ようこそ!$D$4,0)","v":81.599999999999994},{"$f":"VLOOKUP($E93,$E:$K,ランキング!$H$1,0)","v":26.099999999999994},{"$f":"VLOOKUP($E93,$E:$K,ようこそ!$D$5,0)","v":0},{"$f":"VLOOKUP($E93,$E:$K,ランキング!$K$1,0)","v":20},{"$f":"VLOOKUP($E93,$E:$K,ようこそ!$D$4,0)*ようこそ!$H$4+VLOOKUP($E93,$E:$K,ランキング!$H$1,0)*ようこそ!$H$5+VLOOKUP($E93,$E:$K,ようこそ!$D$5,0)*ようこそ!$H$6+VLOOKUP($E93,$E:$K,ランキング!$K$1,0)*ようこそ!$H$7","v":127.69999999999999},{"$f":"_xlfn.PERCENTRANK.INC($P$4:$P$96,P93)*100","v":3.2}]
[{"$f":"A93+1","v":91},"東名高速道路","横浜青葉","東急田園都市線","市が尾",3.2999999999999972,16.400000000000006,26.099999999999994,38.1,51.1,50,{"$f":"VLOOKUP($E94,$E:$K,ようこそ!$D$4,0)","v":3.2999999999999972},{"$f":"VLOOKUP($E94,$E:$K,ランキング!$H$1,0)","v":26.099999999999994},{"$f":"VLOOKUP($E94,$E:$K,ようこそ!$D$5,0)","v":38.1},{"$f":"VLOOKUP($E94,$E:$K,ランキング!$K$1,0)","v":50},{"$f":"VLOOKUP($E94,$E:$K,ようこそ!$D$4,0)*ようこそ!$H$4+VLOOKUP($E94,$E:$K,ランキング!$H$1,0)*ようこそ!$H$5+VLOOKUP($E94,$E:$K,ようこそ!$D$5,0)*ようこそ!$H$6+VLOOKUP($E94,$E:$K,ランキング!$K$1,0)*ようこそ!$H$7","v":117.5},{"$f":"_xlfn.PERCENTRANK.INC($P$4:$P$96,P94)*100","v":2.1}]
[{"$f":"A94+1","v":92},"東名高速道路","東名川崎","東急田園都市線","宮前平",13.099999999999994,32.699999999999989,26.099999999999994,28.299999999999997,42.400000000000006,50,{"$f":"VLOOKUP($E95,$E:$K,ようこそ!$D$4,0)","v":13.099999999999994},{"$f":"VLOOKUP($E95,$E:$K,ランキング!$H$1,0)","v":26.099999999999994},{"$f":"VLOOKUP($E95,$E:$K,ようこそ!$D$5,0)","v":28.299999999999997},{"$f":"VLOOKUP($E95,$E:$K,ランキング!$K$1,0)","v":50},{"$f":"VLOOKUP($E95,$E:$K,ようこそ!$D$4,0)*ようこそ!$H$4+VLOOKUP($E95,$E:$K,ランキング!$H$1,0)*ようこそ!$H$5+VLOOKUP($E95,$E:$K,ようこそ!$D$5,0)*ようこそ!$H$6+VLOOKUP($E95,$E:$K,ランキング!$K$1,0)*ようこそ!$H$7","v":117.49999999999999},{"$f":"_xlfn.PERCENTRANK.INC($P$4:$P$96,P95)*100","v":1}]
[{"$f":"A95+1","v":93},"中央自動車道","国立府中","JR南武線","谷保",0,35.900000000000006,15.299999999999997,81.599999999999994,65.300000000000011,20,{"$f":"VLOOKUP($E96,$E:$K,ようこそ!$D$4,0)","v":0},{"$f":"VLOOKUP($E96,$E:$K,ランキング!$H$1,0)","v":15.299999999999997},{"$f":"VLOOKUP($E96,$E:$K,ようこそ!$D$5,0)","v":81.599999999999994},{"$f":"VLOOKUP($E96,$E:$K,ランキング!$K$1,0)","v":20},{"$f":"VLOOKUP($E96,$E:$K,ようこそ!$D$4,0)*ようこそ!$H$4+VLOOKUP($E96,$E:$K,ランキング!$H$1,0)*ようこそ!$H$5+VLOOKUP($E96,$E:$K,ようこそ!$D$5,0)*ようこそ!$H$6+VLOOKUP($E96,$E:$K,ランキング!$K$1,0)*ようこそ!$H$7","v":116.89999999999999},{"$f":"_xlfn.PERCENTRANK.INC($P$4:$P$96,P96)*100","v":0}]

{"sheet":"所要時間","index":2,"n_rows":96,"n_cols":21,"rows_kept":96,"cut":false,"hidden":false,"merged":[[1,19,1,20],[1,5,1,7],[1,8,1,10],[1,11,1,13],[1,14,1,16],[1,17,1,18]]}
[]
[null,null,null,null,null,"東京駅周辺到着",null,null,"新宿駅周辺到着",null,null,"東京駅周辺到着所要時間",null,null,"新宿駅周辺到着所要時間",null,null,"平均所要時間（分）",null,"所要時間点数"]
[0,"道路名","IC名","鉄道路線","駅名","8時着","8時半着","9時着","8時着","8時半着","9時着","8時着","8時半着","9時着","8時着","8時半着","9時着","東京","新宿","東京","新宿"]
[{"$f":"A3+1","v":1},"首都高中央環状線","中野長者橋","メトロ丸ノ内線","中野坂上","07:37:00","08:07:00","08:35:00","07:56:00","08:26:00","08:55:00",22.999999999999918,23,24.999999999999993,3.9999999999999858,3.9999999999999858,5.0000000000000622,23.666666666666639,4.3333333333333446,83.7,100]
[2,"首都高4号新宿線","幡ヶ谷","京王新線","幡ヶ谷","07:31:00","08:05:00","08:34:00","07:53:00","08:23:00","08:55:00",28.999999999999979,24.999999999999993,25.999999999999986,6.9999999999999751,7.0000000000000551,5.0000000000000622,26.666666666666654,6.3333333333333641,77.2,99]
[3,"首都高4号新宿線","永福","京王線","下高井戸","07:20:00","07:53:00","08:18:00","07:46:00","08:11:00","08:47:00",40.000000000000014,37.000000000000028,41.999999999999929,13.99999999999995,19.000000000000014,13.000000000000034,39.666666666666657,15.333333333333334,44.599999999999994,97.9]
[4,"首都高5号池袋線","北池袋","メトロ有楽町線","要町","07:32:00","08:06:00","08:33:00","07:45:00","08:13:00","08:42:00",27.999999999999979,24.000000000000075,26.999999999999986,14.999999999999947,17.000000000000021,18.000000000000014,26.333333333333346,16.666666666666661,79.400000000000006,96.8]
[5,"首都高3号渋谷線","池尻","東急田園都市線","池尻大橋","07:34:00","08:08:00","08:36:00","07:41:00","08:08:00","08:36:00",25.999999999999986,22.000000000000082,23.999999999999993,18.999999999999932,22.000000000000082,23.999999999999993,24.000000000000018,21.666666666666668,81.599999999999994,95.7]
[6,"首都高4号新宿線","高井戸","京王線","八幡山","07:15:00","07:46:00","08:12:00","07:40:00","08:05:00","08:39:00",45,44,48.000000000000071,19.999999999999929,24.999999999999993,21.000000000000007,45.666666666666686,21.999999999999975,28.299999999999997,94.6]
[7,"首都高3号渋谷線","三軒茶屋","東急田園都市線","三軒茶屋","07:32:00","08:06:00","08:33:00","07:39:00","08:06:00","08:33:00",27.999999999999979,24.000000000000075,26.999999999999986,20.999999999999925,24.000000000000075,26.999999999999986,26.333333333333346,23.999999999999996,79.400000000000006,93.5]
[8,"首都高7号小松川線","錦糸町","JR総武線","錦糸町","07:48:00","08:20:00","08:46:00","07:36:00","08:08:00","08:34:00",11.999999999999957,9.9999999999999645,13.99999999999995,23.999999999999993,22.000000000000082,25.999999999999986,11.999999999999957,24.000000000000018,95.7,92.4]
[9,"首都高4号新宿線","高井戸","京王井の頭線","高井戸","07:16:00","07:45:00","08:13:00","07:36:00","08:06:00","08:36:00",44,45,46.999999999999993,23.999999999999993,24.000000000000075,23.999999999999993,45.333333333333336,24.000000000000018,30.5,92.4]
[10,"首都高7号小松川線","錦糸町","都営新宿線","住吉","07:51:00","08:21:00","08:50:00","07:35:00","08:05:00","08:36:00",8.999999999999968,9.000000000000048,9.9999999999999645,24.999999999999993,24.999999999999993,23.999999999999993,9.3333333333333268,24.666666666666657,99,90.3]
[11,"首都高2号目黒線","戸越","都営浅草線","戸越","07:36:00","08:06:00","08:39:00","07:36:00","08:06:00","08:33:00",23.999999999999993,24.000000000000075,21.000000000000007,23.999999999999993,24.000000000000075,26.999999999999986,23.000000000000028,25.000000000000018,85.9,89.2]
[12,"首都高中央環状線","王子北","JR京浜東北線","王子","07:36:00","08:09:00","08:37:00","07:33:00","08:04:00","08:34:00",23.999999999999993,21.000000000000007,23,26.999999999999986,26.000000000000068,25.999999999999986,22.666666666666668,26.333333333333346,89.2,88.1]
[13,"首都高5号池袋線","板橋本町","都営三田線","板橋本町","07:37:00","08:08:00","08:37:00","07:37:00","07:58:00","08:30:00",22.999999999999918,22.000000000000082,23,22.999999999999918,32.000000000000043,29.999999999999972,22.666666666666668,28.333333333333311,89.2,87]
[14,"首都高9号深川線","福住","メトロ東西線","門前仲町","07:52:00","08:23:00","08:51:00","07:32:00","07:59:00","08:32:00",7.9999999999999716,7.0000000000000551,9.000000000000048,27.999999999999979,31.00000000000005,27.999999999999979,8.0000000000000249,29,100,85.9]
[15,"首都高5号池袋線","戸田南","JR埼京線","戸田","07:18:00","07:47:00","08:15:00","07:29:00","08:01:00","08:31:00",42.000000000000014,43.000000000000007,45,30.999999999999972,28.999999999999979,28.999999999999979,43.333333333333343,29.666666666666643,33.700000000000003,84.8]
[16,"首都高中央環状線","平井大橋","JR総武線","平井","07:38:00","08:09:00","08:35:00","07:30:00","08:02:00","08:29:00",22,21.000000000000007,24.999999999999993,29.999999999999972,28.00000000000006,31.00000000000005,22.666666666666668,29.666666666666696,89.2,83.7]
[17,"首都高中央環状線","船堀橋","都営新宿線","東大島","07:28:00","08:03:00","08:34:00","07:28:00","07:59:00","08:30:00",31.999999999999964,26.999999999999986,25.999999999999986,31.999999999999964,31.00000000000005,29.999999999999972,28.333333333333314,30.999999999999996,75,82.7]
[18,"外環道","和光","メトロ有楽町線","和光市","07:16:00","07:48:00","08:16:00","07:29:00","07:59:00","08:28:00",44,42.000000000000014,43.999999999999922,30.999999999999972,31.00000000000005,31.999999999999964,43.333333333333314,31.333333333333329,37,81.599999999999994]
[19,"首都高9号深川線","木場","メトロ東西線","木場","07:50:00","08:20:00","08:48:00","07:29:00","07:57:00","08:29:00",9.9999999999999645,9.9999999999999645,11.999999999999957,30.999999999999972,33.000000000000043,31.00000000000005,10.666666666666629,31.666666666666686,97.9,80.5]
[20,"外環道","戸田東","JR埼京線","北戸田","07:16:00","07:44:00","08:13:00","07:27:00","07:59:00","08:29:00",44,46,46.999999999999993,32.999999999999964,31.00000000000005,31.00000000000005,45.666666666666664,31.666666666666686,29.400000000000006,80.5]
[21,"首都高中央環状線","平井大橋","JR総武線","新小岩","07:43:00","08:14:00","08:41:00","07:27:00","07:59:00","08:26:00",16.99999999999994,16.000000000000103,19.000000000000014,32.999999999999964,31.00000000000005,33.999999999999957,17.333333333333353,32.666666666666657,94.6,78.3]
[22,"外環道","川口西","JR京浜東北線","蕨","07:26:00","07:56:00","08:22:00","07:28:00","07:56:00","08:27:00",33.999999999999957,34.000000000000043,37.999999999999943,31.999999999999964,34.000000000000043,33.000000000000043,35.333333333333314,33.000000000000014,58.7,77.2]
[23,"首都高3号渋谷線","用賀","東急田園都市線","用賀","07:21:00","07:57:00","08:23:00","07:30:00","07:57:00","08:23:00",39.000000000000021,33.000000000000043,37.000000000000028,29.999999999999972,33.000000000000043,37.000000000000028,36.333333333333364,33.33333333333335,56.6,76.099999999999994]
[24,"首都高中央環状線","船堀橋","都営新宿線","船堀","07:26:00","08:00:00","08:31:00","07:26:00","07:56:00","08:27:00",33.999999999999957,30.000000000000053,28.999999999999979,33.999999999999957,34.000000000000043,33.000000000000043,31,33.666666666666679,68.5,75]
[25,"首都高5号池袋線","中台","都営三田線","志村三丁目","07:31:00","08:02:00","08:32:00","07:31:00","07:53:00","08:24:00",28.999999999999979,28.00000000000006,27.999999999999979,28.999999999999979,37.000000000000028,35.99999999999995,28.333333333333343,33.999999999999979,74,74]
[26,"首都高6号向島線","駒形","都営浅草線","本所吾妻橋","07:49:00","08:19:00","08:50:00","07:24:00","07:57:00","08:27:00",10.999999999999961,11.000000000000041,9.9999999999999645,35.99999999999995,33.000000000000043,33.000000000000043,10.666666666666655,34.000000000000014,96.8,72.900000000000006]
[27,"首都高中央環状線","千住新橋","JR常磐線","北千住","07:36:00","08:09:00","08:34:00","07:27:00","07:57:00","08:22:00",23.999999999999993,21.000000000000007,25.999999999999986,32.999999999999964,33.000000000000043,37.999999999999943,23.666666666666661,34.66666666666665,82.7,71.800000000000011]
[28,"首都高7号小松川線","一之江","都営新宿線","一之江","07:24:00","07:57:00","08:29:00","07:24:00","07:54:00","08:25:00",35.99999999999995,33.000000000000043,31.00000000000005,35.99999999999995,36.000000000000028,35.000000000000036,33.33333333333335,35.666666666666664,62,70.7]
[29,"首都高S大宮線","浦和南","JR埼京線","南与野","07:09:00","07:43:00","08:07:00","07:23:00","07:51:00","08:28:00",50.999999999999979,46.999999999999993,52.999999999999972,36.99999999999995,39.000000000000021,31.999999999999964,50.333333333333314,35.999999999999979,16.400000000000006,69.599999999999994]
[30,"首都高S新都心線","新都心","JR上野東京ライン","さいたま新都心","07:26:00","07:56:00","08:23:00","07:26:00","07:50:00","08:23:00",33.999999999999957,34.000000000000043,37.000000000000028,33.999999999999957,40.000000000000014,37.000000000000028,35.000000000000007,37,59.8,68.5]
[31,"外環道","外環浦和","JR京浜東北線","南浦和","07:22:00","07:52:00","08:18:00","07:24:00","07:52:00","08:23:00",38.000000000000028,38.000000000000028,41.999999999999929,35.99999999999995,38.000000000000028,37.000000000000028,39.333333333333329,37,46.8,68.5]
[32,"首都高1号羽田線","勝島","京急本線","立会川","07:33:00","08:04:00","08:28:00","07:25:00","07:55:00","08:19:00",26.999999999999986,26.000000000000068,31.999999999999964,34.999999999999957,35.000000000000036,41.000000000000014,28.333333333333343,37.000000000000007,74,66.400000000000006]
[{"$f":"A35+1","v":33},"首都高1号羽田線","平和島","京急本線","平和島","07:34:00","08:02:00","08:29:00","07:24:00","07:53:00","08:19:00",25.999999999999986,28.00000000000006,31.00000000000005,35.99999999999995,37.000000000000028,41.000000000000014,28.333333333333361,37.999999999999993,71.800000000000011,65.300000000000011]
[34,"首都高中央環状線","扇大橋","都営日暮里舎人ライナー","扇大橋","07:32:00","08:02:00","08:32:00","07:22:00","07:52:00","08:22:00",27.999999999999979,28.00000000000006,27.999999999999979,38.000000000000028,38.000000000000028,37.999999999999943,28.000000000000011,38,76.099999999999994,64.2]
[35,"首都高中央環状線","清新町","メトロ東西線","西葛西","07:40:00","08:10:00","08:41:00","07:21:00","07:49:00","08:20:00",19.999999999999929,20.000000000000089,19.000000000000014,39.000000000000021,41.000000000000014,39.999999999999936,19.666666666666675,39.999999999999993,91.4,63.1]
[36,"外環道","市川中央","JR総武線","市川","07:37:00","08:08:00","08:35:00","07:20:00","07:51:00","08:19:00",22.999999999999918,22.000000000000082,24.999999999999993,40.000000000000014,39.000000000000021,41.000000000000014,23.333333333333332,40.000000000000014,84.8,62]
[37,"中央自動車道","稲城","JR南武線","稲城長沼","07:01:00","07:31:00","07:58:00","07:18:00","07:55:00","08:16:00",58.99999999999995,59.000000000000028,62.000000000000021,42.000000000000014,35.000000000000036,43.999999999999922,60,40.333333333333321,5.5,60.9]
[38,"首都高S新都心線","新都心西","JR埼京線","北与野","07:12:00","07:39:00","08:08:00","07:19:00","07:47:00","08:23:00",47.999999999999986,50.999999999999979,52.000000000000057,41.000000000000014,43.000000000000007,37.000000000000028,50.333333333333343,40.33333333333335,15.299999999999997,59.8]
[39,"首都高6号向島線","向島","東武スカイツリーライン","曳舟","07:40:00","08:13:00","08:39:00","07:19:00","07:52:00","08:17:00",19.999999999999929,17.000000000000021,21.000000000000007,41.000000000000014,38.000000000000028,43.000000000000007,19.333333333333318,40.666666666666686,92.4,58.7]
[40,"首都高7号小松川線","篠崎","都営新宿線","篠崎","07:18:00","07:52:00","08:24:00","07:18:00","07:49:00","08:20:00",42.000000000000014,38.000000000000028,35.99999999999995,42.000000000000014,41.000000000000014,39.999999999999936,38.666666666666664,40.999999999999993,52.2,57.7]
[41,"首都高K3号狩場線","永田","JR横須賀線","保土ヶ谷","07:23:00","07:53:00","08:16:00","07:20:00","07:49:00","08:16:00",36.99999999999995,37.000000000000028,43.999999999999922,40.000000000000014,41.000000000000014,43.999999999999922,39.333333333333293,41.66666666666665,49,56.6]
[42,"中央自動車道","調布","京王線","西調布","07:04:00","07:29:00","07:57:00","07:17:00","07:49:00","08:19:00",55.999999999999957,61.000000000000021,63.000000000000014,43.000000000000007,41.000000000000014,41.000000000000014,60,41.666666666666679,5.5,55.5]
[43,"首都高川口線","鹿浜橋","都営日暮里舎人ライナー","江北","07:28:00","07:58:00","08:28:00","07:18:00","07:48:00","08:18:00",31.999999999999964,32.000000000000043,31.999999999999964,42.000000000000014,42.000000000000014,41.999999999999929,31.999999999999989,41.999999999999986,66.400000000000006,54.4]
[44,"首都高1号羽田線","鈴ヶ森","京急本線","大森海岸","07:21:00","07:55:00","08:17:00","07:21:00","07:46:00","08:17:00",39.000000000000021,35.000000000000036,43.000000000000007,39.000000000000021,44,43.000000000000007,39.000000000000021,42.000000000000007,51.1,53.3]
[45,"外環道","松戸","北総線","北国分","07:19:00","07:48:00","08:18:00","06:54:00","08:28:00","07:59:00",41.000000000000014,42.000000000000014,41.999999999999929,65.999999999999929,1.9999999999999929,61.000000000000021,41.66666666666665,42.999999999999979,40.300000000000004,52.2]
[46,"首都高中央環状線","四つ木","京成押上線","四ツ木","07:38:00","08:09:00","08:39:00","07:15:00","07:49:00","08:15:00",22,21.000000000000007,21.000000000000007,45,41.000000000000014,45,21.333333333333339,43.666666666666664,90.3,51.1]
[47,"首都高5号池袋線","高島平","都営三田線","西高島平","07:22:00","07:53:00","08:22:00","07:22:00","07:43:00","08:14:00",38.000000000000028,37.000000000000028,37.999999999999943,38.000000000000028,46.999999999999993,46.000000000000078,37.666666666666664,43.666666666666707,54.4,50]
[48,"京葉道路","京葉市川","都営新宿線","本八幡","07:15:00","07:49:00","08:20:00","07:15:00","07:45:00","08:16:00",45,41.000000000000014,39.999999999999936,45,45,43.999999999999922,41.999999999999979,44.666666666666636,39.200000000000003,49]
[49,"外環道","三郷南","JR常磐線","松戸","07:29:00","07:58:00","08:26:00","07:15:00","07:47:00","08:12:00",30.999999999999972,32.000000000000043,33.999999999999957,45,43.000000000000007,48.000000000000071,32.333333333333321,45.33333333333335,64.2,47.9]
[50,"京葉道路","船橋","JR総武線","船橋","07:31:00","08:02:00","08:29:00","07:14:00","07:45:00","08:12:00",28.999999999999979,28.00000000000006,31.00000000000005,46,45,48.000000000000071,29.333333333333361,46.33333333333335,70.7,46.8]
[51,"首都高川口線","新郷","埼玉高速鉄道","鳩ヶ谷","07:13:00","07:46:00","08:09:00","07:13:00","07:46:00","08:09:00",46.999999999999993,44,50.999999999999979,46.999999999999993,44,50.999999999999979,47.333333333333321,47.333333333333321,24,45.699999999999996]
[52,"京葉道路","原木","メトロ東西線","西船橋","07:19:00","07:49:00","08:24:00","07:11:00","07:44:00","08:11:00",41.000000000000014,41.000000000000014,35.99999999999995,48.999999999999986,46,48.999999999999986,39.333333333333321,47.999999999999993,47.9,44.599999999999994]
[53,"首都高中央環状線","小菅","京成本線","堀切菖蒲園","07:32:00","07:59:00","08:28:00","07:12:00","07:42:00","08:12:00",27.999999999999979,31.00000000000005,31.999999999999964,47.999999999999986,47.999999999999986,48.000000000000071,30.333333333333332,48.000000000000021,69.599999999999994,43.500000000000007]
[54,"首都高6号三郷線","加平","つくばエクスプレス","六町","07:24:00","07:56:00","08:27:00","07:12:00","07:42:00","08:09:00",35.99999999999995,34.000000000000043,33.000000000000043,47.999999999999986,47.999999999999986,50.999999999999979,34.33333333333335,48.999999999999979,60.9,42.400000000000006]
[55,"首都高川口線","足立入谷","都営日暮里舎人ライナー","舎人","07:21:00","07:51:00","08:21:00","07:11:00","07:41:00","08:11:00",39.000000000000021,39.000000000000021,39.000000000000021,48.999999999999986,48.999999999999986,48.999999999999986,39.000000000000021,48.999999999999979,51.1,42.400000000000006]
[56,"首都高K1号横羽線","東神奈川","JR京浜東北線","東神奈川","07:23:00","07:50:00","08:19:00","07:14:00","07:42:00","08:06:00",36.99999999999995,40.000000000000014,41.000000000000014,46,47.999999999999986,54.00000000000005,39.333333333333329,49.333333333333343,46.8,40.300000000000004]
[57,"首都高1号羽田線","羽田","京急空港線","穴守稲荷","07:21:00","07:51:00","08:15:00","07:12:00","07:42:00","08:08:00",39.000000000000021,39.000000000000021,45,47.999999999999986,47.999999999999986,52.000000000000057,41.000000000000014,49.333333333333343,41.400000000000006,40.300000000000004]
[58,"首都高6号向島線","堤通","東武スカイツリーライン","鐘ヶ淵","07:33:00","07:59:00","08:25:00","07:13:00","07:45:00","08:04:00",26.999999999999986,31.00000000000005,35.000000000000036,46.999999999999993,45,56.000000000000043,31.000000000000025,49.33333333333335,67.400000000000006,38.1]
[59,"首都高湾岸線","葛西","JR京葉線","葛西臨海公園","07:43:00","08:09:00","08:42:00","07:09:00","07:43:00","08:09:00",16.99999999999994,21.000000000000007,18.000000000000014,50.999999999999979,46.999999999999993,50.999999999999979,18.666666666666654,49.66666666666665,93.5,37]
[60,"首都高川口線","新井宿","埼玉高速鉄道","新井宿","07:10:00","07:43:00","08:07:00","07:10:00","07:43:00","08:07:00",49.999999999999986,46.999999999999993,52.999999999999972,49.999999999999986,46.999999999999993,52.999999999999972,49.999999999999979,49.999999999999979,17.400000000000006,35.900000000000006]
[61,"中央自動車道","国立府中","JR南武線","谷保","06:47:00","07:17:00","07:47:00","07:05:00","07:43:00","08:12:00",72.999999999999986,73.000000000000057,72.999999999999986,54.999999999999964,46.999999999999993,48.000000000000071,73.000000000000014,50.000000000000007,0,34.799999999999997]
[62,"首都高K1号横羽線","子安","JR京浜東北線","新子安","07:26:00","07:53:00","08:22:00","07:11:00","07:39:00","08:09:00",33.999999999999957,37.000000000000028,37.999999999999943,48.999999999999986,50.999999999999979,50.999999999999979,36.333333333333307,50.333333333333314,57.7,33.700000000000003]
[63,"首都高6号三郷線","加平","メトロ千代田線","北綾瀬","07:28:00","07:58:00","08:28:00","07:15:00","07:38:00","08:06:00",31.999999999999964,32.000000000000043,31.999999999999964,45,52.000000000000057,54.00000000000005,31.999999999999989,50.333333333333371,66.400000000000006,32.699999999999989]
[64,"東名高速道路","東名川崎","東急田園都市線","宮前平","07:13:00","07:39:00","08:05:00","07:13:00","07:39:00","08:05:00",46.999999999999993,50.999999999999979,54.999999999999964,46.999999999999993,50.999999999999979,54.999999999999964,50.999999999999979,50.999999999999979,13.099999999999994,31.599999999999994]
[{"$f":"A67+1","v":65},"首都高6号三郷線","八潮","つくばエクスプレス","八潮","07:20:00","07:52:00","08:23:00","07:09:00","07:38:00","08:05:00",40.000000000000014,38.000000000000028,37.000000000000028,50.999999999999979,52.000000000000057,54.999999999999964,38.333333333333357,52.666666666666664,53.3,30.5]
[66,"外環道","市川南","メトロ東西線","妙典","07:27:00","07:58:00","08:26:00","07:09:00","07:35:00","08:08:00",32.999999999999964,32.000000000000043,33.999999999999957,50.999999999999979,55.000000000000043,52.000000000000057,32.999999999999986,52.666666666666693,63.1,29.400000000000006]
[67,"外環道","川口東","埼玉高速鉄道","戸塚安行","07:07:00","07:40:00","08:04:00","07:07:00","07:40:00","08:04:00",52.999999999999972,49.999999999999986,56.000000000000043,52.999999999999972,49.999999999999986,56.000000000000043,53,53,12,28.299999999999997]
[68,"首都高湾岸線","浦安","JR京葉線","新浦安","07:36:00","08:03:00","08:35:00","07:09:00","07:36:00","08:03:00",23.999999999999993,26.999999999999986,24.999999999999993,50.999999999999979,54.00000000000005,56.999999999999957,25.333333333333325,54,80.5,27.200000000000003]
[69,"首都高K3号狩場線","花之木","京急本線","南太田","07:14:00","07:40:00","08:13:00","07:09:00","07:35:00","08:01:00",46,49.999999999999986,46.999999999999993,50.999999999999979,55.000000000000043,58.99999999999995,47.666666666666657,54.999999999999993,20.700000000000003,26.099999999999994]
[70,"首都高K1号横羽線","汐入","JR鶴見線","弁天橋","07:20:00","07:45:00","08:15:00","07:03:00","07:39:00","08:02:00",40.000000000000014,45,45,56.999999999999957,50.999999999999979,58.000000000000036,43.333333333333336,55.333333333333321,34.799999999999997,25]
[71,"首都高6号三郷線","三郷","つくばエクスプレス","三郷中央","07:16:00","07:48:00","08:19:00","07:05:00","07:35:00","08:01:00",44,42.000000000000014,41.000000000000014,54.999999999999964,55.000000000000043,58.99999999999995,42.333333333333343,56.333333333333314,38.1,24]
[72,"首都高K3号狩場線","阪東橋","横浜地下鉄ブルーライン","阪東橋","07:12:00","07:38:00","08:09:00","07:04:00","07:33:00","08:01:00",47.999999999999986,52.000000000000057,50.999999999999979,55.999999999999957,57.000000000000036,58.99999999999995,50.333333333333343,57.333333333333314,15.299999999999997,22.899999999999991]
[73,"首都高K1号横羽線","大師","京急大師線","大師橋","07:16:00","07:41:00","08:11:00","07:01:00","07:31:00","08:01:00",44,48.999999999999986,48.999999999999986,58.99999999999995,59.000000000000028,58.99999999999995,47.333333333333321,58.999999999999972,24,21.799999999999997]
[74,"東北自動車道","浦和","埼玉高速鉄道","浦和美園","07:01:00","07:34:00","07:58:00","07:01:00","07:34:00","07:58:00",58.99999999999995,56.000000000000043,62.000000000000021,58.99999999999995,56.000000000000043,62.000000000000021,59.000000000000007,59.000000000000007,6.5999999999999943,20.700000000000003]
[75,"外環道","松戸","北総線","矢切","07:21:00","07:50:00","08:20:00","06:59:00","07:30:00","08:01:00",39.000000000000021,40.000000000000014,39.999999999999936,60.999999999999943,60.000000000000028,58.99999999999995,39.666666666666657,59.999999999999972,44.599999999999994,19.599999999999994]
[76,"首都高K1号横羽線","生麦","京急本線","生麦","07:14:00","07:44:00","08:10:00","07:00:00","07:30:00","08:00:00",46,46,50.000000000000064,59.999999999999943,60.000000000000028,60.000000000000028,47.33333333333335,60,21.799999999999997,18.5]
[77,"京葉道路","幕張","JR総武線","幕張本郷","07:16:00","07:46:00","08:14:00","07:00:00","07:31:00","07:58:00",44,44,46.000000000000078,59.999999999999943,59.000000000000028,62.000000000000021,44.666666666666693,60.333333333333336,31.599999999999994,17.400000000000006]
[78,"外環道","草加","東武スカイツリーライン","獨協大学前","07:13:00","07:43:00","08:16:00","06:59:00","07:33:00","07:57:00",46.999999999999993,46.999999999999993,43.999999999999922,60.999999999999943,57.000000000000036,63.000000000000014,45.999999999999972,60.333333333333336,27.200000000000003,17.400000000000006]
[79,"東名高速道路","横浜青葉","東急田園都市線","市が尾","06:59:00","07:30:00","07:56:00","06:59:00","07:30:00","07:56:00",60.999999999999943,60.000000000000028,64.000000000000014,60.999999999999943,60.000000000000028,64.000000000000014,61.666666666666664,61.666666666666664,3.2999999999999972,15.299999999999997]
[80,"東北自動車道","岩槻","東武野田線","岩槻","06:58:00","07:31:00","07:54:00","06:58:00","07:27:00","07:59:00",61.999999999999943,59.000000000000028,66,61.999999999999943,63.000000000000014,61.000000000000021,62.333333333333321,61.999999999999993,2.2000000000000028,14.200000000000003]
[81,"首都高K1号横羽線","浜川崎","JR南武支線","浜川崎","07:14:00","07:40:00","08:17:00","07:02:00","07:27:00","07:54:00",46,49.999999999999986,43.000000000000007,57.999999999999957,63.000000000000014,66,46.333333333333336,62.333333333333321,25,13.099999999999994]
[82,"京葉道路","武石","JR総武線","幕張","07:13:00","07:43:00","08:11:00","06:58:00","07:28:00","07:55:00",46.999999999999993,46.999999999999993,48.999999999999986,61.999999999999943,62.000000000000021,65.000000000000014,47.666666666666657,63,20.700000000000003,12]
[83,"常磐自動車道","流山","つくばエクスプレス","流山おおたかの森","07:09:00","07:40:00","08:12:00","06:57:00","07:28:00","07:54:00",50.999999999999979,49.999999999999986,48.000000000000071,62.999999999999936,62.000000000000021,66,49.666666666666686,63.66666666666665,18.5,10.900000000000006]
[84,"東関東自動車道","谷津船橋IC","JR京葉線","南船橋","07:26:00","07:52:00","08:22:00","07:00:00","07:26:00","07:52:00",33.999999999999957,38.000000000000028,37.999999999999943,59.999999999999943,64.000000000000014,68,36.666666666666643,63.999999999999979,55.5,9.7999999999999972]
[85,"京葉道路","花輪","京成本線","船橋競馬場","07:15:00","07:48:00","08:09:00","06:55:00","07:28:00","07:55:00",45,42.000000000000014,50.999999999999979,64.999999999999929,62.000000000000021,65.000000000000014,46,63.999999999999979,26.099999999999994,9.7999999999999972]
[86,"外環道","外環三郷西","JR武蔵野線","新三郷","07:02:00","07:34:00","07:59:00","06:54:00","07:25:00","07:57:00",57.999999999999957,56.000000000000043,61.000000000000021,65.999999999999929,65.000000000000014,63.000000000000014,58.333333333333343,64.666666666666643,8.7000000000000028,7.6999999999999886]
[87,"東京湾アクアライン","木更津金田","高速バス","木更津金田BT","07:17:00","07:47:00","08:14:00","06:55:00","07:25:00","07:55:00",43.000000000000007,43.000000000000007,46.000000000000078,64.999999999999929,65.000000000000014,65.000000000000014,44.000000000000028,64.999999999999986,32.699999999999989,6.5999999999999943]
[88,"東名高速道路","横浜町田","東急田園都市線","南町田","06:53:00","07:24:00","07:50:00","06:53:00","07:24:00","07:55:00",67,66,69.999999999999986,67,66,65.000000000000014,67.666666666666671,66,1.0999999999999943,5.5]
[89,"常磐自動車道","柏","つくばエクスプレス","柏の葉キャンパス","07:06:00","07:37:00","08:08:00","06:54:00","07:24:00","07:50:00",53.999999999999972,52.999999999999972,52.000000000000057,65.999999999999929,66,69.999999999999986,53,67.333333333333314,12,4.4000000000000057]
[90,"東関東自動車道","湾岸習志野IC","JR京葉線","新習志野","07:23:00","07:49:00","08:19:00","06:54:00","07:23:00","07:49:00",36.99999999999995,41.000000000000014,41.000000000000014,65.999999999999929,67,70.999999999999986,39.666666666666664,67.999999999999986,42.400000000000006,3.2999999999999972]
[91,"東京湾アクアライン","袖ケ浦","高速バス","袖ケ浦BT","07:00:00","07:30:00","08:05:00","07:02:00","07:17:00","07:47:00",59.999999999999943,60.000000000000028,54.999999999999964,57.999999999999957,73.000000000000057,72.999999999999986,58.333333333333314,68,9.7999999999999972,2.2000000000000028]
[92,"東関東自動車道","湾岸千葉IC","JR京葉線","海浜幕張","07:19:00","07:45:00","08:16:00","06:55:00","07:19:00","07:45:00",41.000000000000014,45,43.999999999999922,64.999999999999929,71.000000000000071,74.999999999999972,43.333333333333314,70.333333333333329,37,1.0999999999999943]
[93,"常磐自動車道","谷和原","つくばエクスプレス","守谷","07:00:00","07:30:00","08:03:00","06:49:00","07:19:00","07:45:00",59.999999999999943,60.000000000000028,56.999999999999957,70.999999999999986,71.000000000000071,74.999999999999972,58.999999999999979,72.333333333333343,7.6999999999999886,0]

{"sheet":"家賃相場","index":3,"n_rows":96,"n_cols":11,"rows_kept":96,"cut":false,"hidden":false,"merged":[[1,7,1,8],[1,5,1,6]]}
[]
[null,null,null,null,null,"家賃相場（万円）",null,"家賃点数",null,null,"点数"]
[0,"道路名","IC名","鉄道路線","駅名","1K","2LDK","1K","2LDK","商業施設","商業施設"]
[{"$f":"A3+1","v":1},"東京湾アクアライン","木更津金田","高速バス","木更津金田BT",4.5,6.1,{"$f":"100-_xlfn.PERCENTRANK.INC(F$4:F$96,F4)*100","v":99},{"$f":"100-_xlfn.PERCENTRANK.INC(G$4:G$96,G4)*100","v":100},"◎",{"$f":"VLOOKUP(J4,配点根拠!$G$3:$H$7,2,0)","v":100}]
[2,"東北自動車道","岩槻","東武野田線","岩槻",4.4000000000000004,6.31,100,99,"○",{"$f":"VLOOKUP(J5,配点根拠!$G$3:$H$7,2,0)","v":80}]
[3,"東京湾アクアライン","袖ケ浦","高速バス","袖ケ浦BT",5.28,6.31,90.3,99,"■",{"$f":"VLOOKUP(J6,配点根拠!$G$3:$H$7,2,0)","v":50}]
[4,"首都高川口線","新井宿","埼玉高速鉄道","新井宿",5.2,6.88,92.4,96.8,"■",{"$f":"VLOOKUP(J7,配点根拠!$G$3:$H$7,2,0)","v":50}]
[5,"外環道","松戸","北総線","矢切",5.05,7.6,94.6,95.7,"■",{"$f":"VLOOKUP(J8,配点根拠!$G$3:$H$7,2,0)","v":50}]
[6,"京葉道路","武石","JR総武線","幕張",6.04,7.97,69.599999999999994,94.6,"■",{"$f":"VLOOKUP(J9,配点根拠!$G$3:$H$7,2,0)","v":50}]
[7,"外環道","川口東","埼玉高速鉄道","戸塚安行",5.88,8.02,78.3,93.5,"△",{"$f":"VLOOKUP(J10,配点根拠!$G$3:$H$7,2,0)","v":20}]
[8,"常磐自動車道","谷和原","つくばエクスプレス","守谷",5.93,8.09,74,92.4,"◎",{"$f":"VLOOKUP(J11,配点根拠!$G$3:$H$7,2,0)","v":100}]
[9,"東北自動車道","浦和","埼玉高速鉄道","浦和美園",6.13,8.3000000000000007,67.400000000000006,91.4,"◎",{"$f":"VLOOKUP(J12,配点根拠!$G$3:$H$7,2,0)","v":100}]
[10,"外環道","草加","東武スカイツリーライン","獨協大学前",4.82,8.36,97.9,90.3,"○",{"$f":"VLOOKUP(J13,配点根拠!$G$3:$H$7,2,0)","v":80}]
[11,"外環道","外環三郷西","JR武蔵野線","新三郷",5.9,8.4,77.2,89.2,"◎",{"$f":"VLOOKUP(J14,配点根拠!$G$3:$H$7,2,0)","v":100}]
[12,"首都高6号三郷線","三郷","つくばエクスプレス","三郷中央",6.88,8.5,40.300000000000004,88.1,"○",{"$f":"VLOOKUP(J15,配点根拠!$G$3:$H$7,2,0)","v":80}]
[13,"外環道","松戸","北総線","北国分",4.8600000000000003,8.5500000000000007,96.8,87,"○",{"$f":"VLOOKUP(J16,配点根拠!$G$3:$H$7,2,0)","v":80}]
[14,"首都高S大宮線","浦和南","JR埼京線","南与野",4.96,8.6,95.7,85.9,"■",{"$f":"VLOOKUP(J17,配点根拠!$G$3:$H$7,2,0)","v":50}]
[15,"首都高5号池袋線","戸田南","JR埼京線","戸田",5.69,8.68,84.8,84.8,"○",{"$f":"VLOOKUP(J18,配点根拠!$G$3:$H$7,2,0)","v":80}]
[16,"東関東自動車道","湾岸習志野IC","JR京葉線","新習志野",6.1,8.6999999999999993,68.5,83.7,"○",{"$f":"VLOOKUP(J19,配点根拠!$G$3:$H$7,2,0)","v":80}]
[17,"外環道","戸田東","JR埼京線","北戸田",5.97,8.73,72.900000000000006,82.7,"■",{"$f":"VLOOKUP(J20,配点根拠!$G$3:$H$7,2,0)","v":50}]
[18,"首都高5号池袋線","高島平","都営三田線","西高島平",5.77,8.8000000000000007,80.5,81.599999999999994,"×",{"$f":"VLOOKUP(J21,配点根拠!$G$3:$H$7,2,0)","v":0}]
[19,"東関東自動車道","谷津船橋IC","JR京葉線","南船橋",5.5,9,88.1,80.5,"◎",{"$f":"VLOOKUP(J22,配点根拠!$G$3:$H$7,2,0)","v":100}]
[20,"首都高川口線","足立入谷","都営日暮里舎人ライナー","舎人",6.19,9.08,66.400000000000006,79.400000000000006,"△",{"$f":"VLOOKUP(J23,配点根拠!$G$3:$H$7,2,0)","v":20}]
[21,"首都高川口線","新郷","埼玉高速鉄道","鳩ヶ谷",5.73,9.1199999999999992,83.7,78.3,"■",{"$f":"VLOOKUP(J24,配点根拠!$G$3:$H$7,2,0)","v":50}]
[22,"京葉道路","幕張","JR総武線","幕張本郷",5.91,9.24,75,77.2,"△",{"$f":"VLOOKUP(J25,配点根拠!$G$3:$H$7,2,0)","v":20}]
[23,"首都高S新都心線","新都心西","JR埼京線","北与野",6.31,9.32,64.2,76.099999999999994,"◎",{"$f":"VLOOKUP(J26,配点根拠!$G$3:$H$7,2,0)","v":100}]
[24,"京葉道路","花輪","京成本線","船橋競馬場",5.81,9.4,79.400000000000006,75,"◎",{"$f":"VLOOKUP(J27,配点根拠!$G$3:$H$7,2,0)","v":100}]
[25,"中央自動車道","稲城","JR南武線","稲城長沼",5.07,9.5,93.5,74,"△",{"$f":"VLOOKUP(J28,配点根拠!$G$3:$H$7,2,0)","v":20}]
[26,"東名高速道路","横浜町田","東急田園都市線","南町田",6.41,9.5399999999999991,59.8,72.900000000000006,"◎",{"$f":"VLOOKUP(J29,配点根拠!$G$3:$H$7,2,0)","v":100}]
[27,"首都高湾岸線","葛西","JR京葉線","葛西臨海公園",5.9,10,77.2,71.800000000000011,"△",{"$f":"VLOOKUP(J30,配点根拠!$G$3:$H$7,2,0)","v":20}]
[28,"東関東自動車道","湾岸千葉IC","JR京葉線","海浜幕張",6,10,71.800000000000011,71.800000000000011,"◎",{"$f":"VLOOKUP(J31,配点根拠!$G$3:$H$7,2,0)","v":100}]
[29,"首都高K1号横羽線","汐入","JR鶴見線","弁天橋",5.73,10.1,83.7,69.599999999999994,"×",{"$f":"VLOOKUP(J32,配点根拠!$G$3:$H$7,2,0)","v":0}]
[30,"外環道","三郷南","JR常磐線","松戸",6.23,10.11,65.300000000000011,68.5,"○",{"$f":"VLOOKUP(J33,配点根拠!$G$3:$H$7,2,0)","v":80}]
[31,"首都高中央環状線","扇大橋","都営日暮里舎人ライナー","扇大橋",6.65,10.220000000000001,49,67.400000000000006,"■",{"$f":"VLOOKUP(J34,配点根拠!$G$3:$H$7,2,0)","v":50}]
[32,"外環道","外環浦和","JR京浜東北線","南浦和",5.43,10.24,89.2,66.400000000000006,"○",{"$f":"VLOOKUP(J35,配点根拠!$G$3:$H$7,2,0)","v":80}]
[{"$f":"A35+1","v":33},"中央自動車道","国立府中","JR南武線","谷保",5.76,10.29,{"$f":"100-_xlfn.PERCENTRANK.INC(F$4:F$96,F36)*100","v":81.599999999999994},{"$f":"100-_xlfn.PERCENTRANK.INC(G$4:G$96,G36)*100","v":65.300000000000011},"△",{"$f":"VLOOKUP(J36,配点根拠!$G$3:$H$7,2,0)","v":20}]
[34,"首都高湾岸線","浦安","JR京葉線","新浦安",6.74,10.36,45.699999999999996,64.2,"○",{"$f":"VLOOKUP(J37,配点根拠!$G$3:$H$7,2,0)","v":80}]
[35,"首都高K3号狩場線","永田","JR横須賀線","保土ヶ谷",5.26,10.6,91.4,63.1,"△",{"$f":"VLOOKUP(J38,配点根拠!$G$3:$H$7,2,0)","v":20}]
[36,"首都高6号三郷線","八潮","つくばエクスプレス","八潮",6.79,10.78,42.400000000000006,62,"◎",{"$f":"VLOOKUP(J39,配点根拠!$G$3:$H$7,2,0)","v":100}]
[37,"首都高K1号横羽線","浜川崎","JR南武支線","浜川崎",6.52,10.8,54.4,60.9,"×",{"$f":"VLOOKUP(J40,配点根拠!$G$3:$H$7,2,0)","v":0}]
[38,"首都高中央環状線","小菅","京成本線","堀切菖蒲園",6.35,10.84,62,59.8,"■",{"$f":"VLOOKUP(J41,配点根拠!$G$3:$H$7,2,0)","v":50}]
[39,"首都高7号小松川線","一之江","都営新宿線","一之江",6.68,11.01,47.9,58.7,"△",{"$f":"VLOOKUP(J42,配点根拠!$G$3:$H$7,2,0)","v":20}]
[40,"京葉道路","京葉市川","都営新宿線","本八幡",6.62,11.1,52.2,57.7,"○",{"$f":"VLOOKUP(J43,配点根拠!$G$3:$H$7,2,0)","v":80}]
[41,"首都高6号三郷線","加平","メトロ千代田線","北綾瀬",6.31,11.13,64.2,56.6,"△",{"$f":"VLOOKUP(J44,配点根拠!$G$3:$H$7,2,0)","v":20}]
[42,"首都高K1号横羽線","大師","京急大師線","大師橋",6.03,11.14,70.7,55.5,"×",{"$f":"VLOOKUP(J45,配点根拠!$G$3:$H$7,2,0)","v":0}]
[43,"中央自動車道","調布","京王線","西調布",5.61,11.2,85.9,54.4,"△",{"$f":"VLOOKUP(J46,配点根拠!$G$3:$H$7,2,0)","v":20}]
[44,"首都高K1号横羽線","子安","JR京浜東北線","新子安",7.02,11.22,39.200000000000003,53.3,"■",{"$f":"VLOOKUP(J47,配点根拠!$G$3:$H$7,2,0)","v":50}]
[45,"外環道","市川南","メトロ東西線","妙典",6.38,11.32,60.9,52.2,"○",{"$f":"VLOOKUP(J48,配点根拠!$G$3:$H$7,2,0)","v":80}]
[46,"東名高速道路","横浜青葉","東急田園都市線","市が尾",7.03,11.34,38.1,51.1,"■",{"$f":"VLOOKUP(J49,配点根拠!$G$3:$H$7,2,0)","v":50}]
[47,"外環道","川口西","JR京浜東北線","蕨",6.56,11.45,53.3,50,"■",{"$f":"VLOOKUP(J50,配点根拠!$G$3:$H$7,2,0)","v":50}]
[48,"首都高K3号狩場線","花之木","京急本線","南太田",5.53,11.5,87,49,"△",{"$f":"VLOOKUP(J51,配点根拠!$G$3:$H$7,2,0)","v":20}]
[49,"首都高中央環状線","清新町","メトロ東西線","西葛西",7.25,11.61,32.699999999999989,47.9,"■",{"$f":"VLOOKUP(J52,配点根拠!$G$3:$H$7,2,0)","v":50}]
[50,"首都高7号小松川線","篠崎","都営新宿線","篠崎",6.44,11.67,57.7,46.8,"■",{"$f":"VLOOKUP(J53,配点根拠!$G$3:$H$7,2,0)","v":50}]
[51,"京葉道路","原木","メトロ東西線","西船橋",7.03,11.75,38.1,45.699999999999996,"○",{"$f":"VLOOKUP(J54,配点根拠!$G$3:$H$7,2,0)","v":80}]
[52,"首都高K1号横羽線","生麦","京急本線","生麦",6.41,11.79,59.8,44.599999999999994,"△",{"$f":"VLOOKUP(J55,配点根拠!$G$3:$H$7,2,0)","v":20}]
[53,"外環道","和光","メトロ有楽町線","和光市",6.46,11.79,56.6,44.599999999999994,"○",{"$f":"VLOOKUP(J56,配点根拠!$G$3:$H$7,2,0)","v":80}]
[54,"東名高速道路","東名川崎","東急田園都市線","宮前平",7.33,11.81,28.299999999999997,42.400000000000006,"■",{"$f":"VLOOKUP(J57,配点根拠!$G$3:$H$7,2,0)","v":50}]
[55,"首都高中央環状線","四つ木","京成押上線","四ツ木",6.68,11.82,47.9,41.400000000000006,"■",{"$f":"VLOOKUP(J58,配点根拠!$G$3:$H$7,2,0)","v":50}]
[56,"首都高6号三郷線","加平","つくばエクスプレス","六町",7.58,11.86,25,40.300000000000004,"△",{"$f":"VLOOKUP(J59,配点根拠!$G$3:$H$7,2,0)","v":20}]
[57,"京葉道路","船橋","JR総武線","船橋",6.62,11.93,52.2,39.200000000000003,"◎",{"$f":"VLOOKUP(J60,配点根拠!$G$3:$H$7,2,0)","v":100}]
[58,"首都高K3号狩場線","阪東橋","横浜地下鉄ブルーライン","阪東橋",6.76,11.96,44.599999999999994,38.1,"△",{"$f":"VLOOKUP(J61,配点根拠!$G$3:$H$7,2,0)","v":20}]
[59,"首都高5号池袋線","中台","都営三田線","志村三丁目",7.51,12.08,26.099999999999994,37,"◎",{"$f":"VLOOKUP(J62,配点根拠!$G$3:$H$7,2,0)","v":100}]
[60,"常磐自動車道","流山","つくばエクスプレス","流山おおたかの森",7.47,12.54,27.200000000000003,35.900000000000006,"◎",{"$f":"VLOOKUP(J63,配点根拠!$G$3:$H$7,2,0)","v":100}]
[61,"首都高中央環状線","平井大橋","JR総武線","平井",7.19,12.59,34.799999999999997,34.799999999999997,"■",{"$f":"VLOOKUP(J64,配点根拠!$G$3:$H$7,2,0)","v":50}]
[62,"首都高1号羽田線","羽田","京急空港線","穴守稲荷",9.09,12.6,13.099999999999994,33.700000000000003,"△",{"$f":"VLOOKUP(J65,配点根拠!$G$3:$H$7,2,0)","v":20}]
[63,"首都高中央環状線","平井大橋","JR総武線","新小岩",7.21,12.81,33.700000000000003,32.699999999999989,"■",{"$f":"VLOOKUP(J66,配点根拠!$G$3:$H$7,2,0)","v":50}]
[64,"首都高6号向島線","堤通","東武スカイツリーライン","鐘ヶ淵",7.26,13.05,31.599999999999994,31.599999999999994,"△",{"$f":"VLOOKUP(J67,配点根拠!$G$3:$H$7,2,0)","v":20}]
[{"$f":"A67+1","v":65},"首都高K1号横羽線","東神奈川","JR京浜東北線","東神奈川",7.66,13.2,{"$f":"100-_xlfn.PERCENTRANK.INC(F$4:F$96,F68)*100","v":24},{"$f":"100-_xlfn.PERCENTRANK.INC(G$4:G$96,G68)*100","v":30.5},"■",{"$f":"VLOOKUP(J68,配点根拠!$G$3:$H$7,2,0)","v":50}]
[66,"外環道","市川中央","JR総武線","市川",6.85,13.25,41.400000000000006,29.400000000000006,"○",{"$f":"VLOOKUP(J69,配点根拠!$G$3:$H$7,2,0)","v":80}]
[67,"首都高中央環状線","千住新橋","JR常磐線","北千住",7.81,13.4,22.899999999999991,28.299999999999997,"◎",{"$f":"VLOOKUP(J70,配点根拠!$G$3:$H$7,2,0)","v":100}]
[68,"首都高1号羽田線","平和島","京急本線","平和島",8.43,13.5,16.400000000000006,27.200000000000003,"△",{"$f":"VLOOKUP(J71,配点根拠!$G$3:$H$7,2,0)","v":20}]
[69,"首都高川口線","鹿浜橋","都営日暮里舎人ライナー","江北",6.5,13.75,55.5,26.099999999999994,"△",{"$f":"VLOOKUP(J72,配点根拠!$G$3:$H$7,2,0)","v":20}]
[70,"首都高中央環状線","船堀橋","都営新宿線","船堀",7.14,13.98,35.900000000000006,25,"■",{"$f":"VLOOKUP(J73,配点根拠!$G$3:$H$7,2,0)","v":50}]
[71,"首都高S新都心線","新都心","JR上野東京ライン","さいたま新都心",6.76,14.53,44.599999999999994,24,"◎",{"$f":"VLOOKUP(J74,配点根拠!$G$3:$H$7,2,0)","v":100}]
[72,"首都高中央環状線","王子北","JR京浜東北線","王子",7.3,15.15,30.5,22.899999999999991,"■",{"$f":"VLOOKUP(J75,配点根拠!$G$3:$H$7,2,0)","v":50}]
[73,"首都高7号小松川線","錦糸町","都営新宿線","住吉",10.78,15.57,3.2999999999999972,21.799999999999997,"■",{"$f":"VLOOKUP(J76,配点根拠!$G$3:$H$7,2,0)","v":50}]
[74,"首都高1号羽田線","勝島","京急本線","立会川",9.6,15.71,9.7999999999999972,20.700000000000003,"△",{"$f":"VLOOKUP(J77,配点根拠!$G$3:$H$7,2,0)","v":20}]
[75,"首都高4号新宿線","高井戸","京王井の頭線","高井戸",8.06,15.98,20.700000000000003,19.599999999999994,"■",{"$f":"VLOOKUP(J78,配点根拠!$G$3:$H$7,2,0)","v":50}]
[76,"首都高6号向島線","駒形","都営浅草線","本所吾妻橋",9.48,16.059999999999999,10.900000000000006,18.5,"◎",{"$f":"VLOOKUP(J79,配点根拠!$G$3:$H$7,2,0)","v":100}]
[77,"首都高5号池袋線","板橋本町","都営三田線","板橋本町",7.92,16.3,21.799999999999997,17.400000000000006,"△",{"$f":"VLOOKUP(J80,配点根拠!$G$3:$H$7,2,0)","v":20}]
[78,"首都高6号向島線","向島","東武スカイツリーライン","曳舟",8.1300000000000008,16.420000000000002,18.5,16.400000000000006,"■",{"$f":"VLOOKUP(J81,配点根拠!$G$3:$H$7,2,0)","v":50}]
[79,"常磐自動車道","柏","つくばエクスプレス","柏の葉キャンパス",10.199999999999999,17.21,6.5999999999999943,15.299999999999997,"◎",{"$f":"VLOOKUP(J82,配点根拠!$G$3:$H$7,2,0)","v":100}]
[80,"首都高中央環状線","船堀橋","都営新宿線","東大島",6.64,17.600000000000001,50,14.200000000000003,"■",{"$f":"VLOOKUP(J83,配点根拠!$G$3:$H$7,2,0)","v":50}]
[81,"首都高4号新宿線","高井戸","京王線","八幡山",7.3,17.84,30.5,13.099999999999994,"■",{"$f":"VLOOKUP(J84,配点根拠!$G$3:$H$7,2,0)","v":50}]
[82,"首都高1号羽田線","鈴ヶ森","京急本線","大森海岸",9.6199999999999992,17.86,8.7000000000000028,12,"○",{"$f":"VLOOKUP(J85,配点根拠!$G$3:$H$7,2,0)","v":80}]
[83,"首都高5号池袋線","北池袋","メトロ有楽町線","要町",8.2899999999999991,17.899999999999999,17.400000000000006,10.900000000000006,"△",{"$f":"VLOOKUP(J86,配点根拠!$G$3:$H$7,2,0)","v":20}]
[84,"首都高7号小松川線","錦糸町","JR総武線","錦糸町",10.85,18.05,2.2000000000000028,9.7999999999999972,"◎",{"$f":"VLOOKUP(J87,配点根拠!$G$3:$H$7,2,0)","v":100}]
[85,"首都高9号深川線","木場","メトロ東西線","木場",10.4,19.309999999999999,5.5,8.7000000000000028,"○",{"$f":"VLOOKUP(J88,配点根拠!$G$3:$H$7,2,0)","v":80}]
[86,"首都高3号渋谷線","用賀","東急田園都市線","用賀",8.11,19.670000000000002,19.599999999999994,7.6999999999999886,"○",{"$f":"VLOOKUP(J89,配点根拠!$G$3:$H$7,2,0)","v":80}]
[87,"首都高2号目黒線","戸越","都営浅草線","戸越",10.19,20.63,7.6999999999999886,6.5999999999999943,"△",{"$f":"VLOOKUP(J90,配点根拠!$G$3:$H$7,2,0)","v":20}]
[88,"首都高中央環状線","中野長者橋","メトロ丸ノ内線","中野坂上",9.19,21.81,12,5.5,"○",{"$f":"VLOOKUP(J91,配点根拠!$G$3:$H$7,2,0)","v":80}]
[89,"首都高4号新宿線","永福","京王線","下高井戸",8.9499999999999993,21.84,15.299999999999997,4.4000000000000057,"■",{"$f":"VLOOKUP(J92,配点根拠!$G$3:$H$7,2,0)","v":50}]
[90,"首都高9号深川線","福住","メトロ東西線","門前仲町",10.98,22.57,1.0999999999999943,3.2999999999999972,"■",{"$f":"VLOOKUP(J93,配点根拠!$G$3:$H$7,2,0)","v":50}]
[91,"首都高3号渋谷線","三軒茶屋","東急田園都市線","三軒茶屋",10.64,22.9,4.4000000000000057,2.2000000000000028,"■",{"$f":"VLOOKUP(J94,配点根拠!$G$3:$H$7,2,0)","v":50}]
[92,"首都高4号新宿線","幡ヶ谷","京王新線","幡ヶ谷",8.99,24.01,14.200000000000003,1.0999999999999943,"○",{"$f":"VLOOKUP(J95,配点根拠!$G$3:$H$7,2,0)","v":80}]
[93,"首都高3号渋谷線","池尻","東急田園都市線","池尻大橋",11.12,32.700000000000003,0,0,"△",{"$f":"VLOOKUP(J96,配点根拠!$G$3:$H$7,2,0)","v":20}]

{"sheet":"配点根拠","index":4,"n_rows":23,"n_cols":29,"rows_kept":23,"cut":false,"hidden":false,"merged":[]}
[]
[null,"通勤の快適性点数",null,"目安",null,null,"商業施設点数",null,"目安",null,null,null,null,null,null,null,null,null,null,null,null,null,null,null,null,null,null,"傾斜配点"]
[null,"◎",0.5,"全ての列車が当駅始発等、着席が可能である",null,null,"◎",100,"大型商業施設が近隣に存在",null,null,null,null,null,null,null,null,null,null,null,null,null,null,null,null,null,null,{"$f":"AC3-1","v":1},2]
[null,"〇",0.8,"一部列車が当駅始発等、着席の機会がある",null,null,"○",80,"有名スーパーマーケット等が複数存在",null,null,null,null,null,null,null,null,null,null,null,null,null,null,null,null,null,null,{"$f":"AC4-1","v":0.89999999999999991},1.9]
[null,"他","国交省発表の混雑率データ通り","各路線の最高混雑率データをそのまま適用",null,null,"■",50,"スーパー等小規模なものが存在",null,null,null,null,null,null,null,null,null,null,null,null,null,null,null,null,null,null,0.8,1.8]
[null,null,null,null,null,null,"△",20,"スーパー以外の施設が存在",null,null,null,null,null,null,null,null,null,null,null,null,null,null,null,null,null,null,0.7,1.7]
[null,null,null,null,null,null,"×",0,"コンビニ等以外は商業施設が無い",null,null,null,null,null,null,null,null,null,null,null,null,null,null,null,null,null,null,0.60000000000000009,1.6]
[null,null,null,null,null,null,null,null,null,null,null,null,null,null,null,null,null,null,null,null,null,null,null,null,null,null,null,0.5,1.5]
[null,null,"点数算出方法",null,null,null,null,null,null,null,null,null,null,null,null,null,null,null,null,null,null,null,null,null,null,null,null,0.39999999999999991,1.4]
[null,null,"所要時間","東京駅or新宿駅までの所要時間分数の平均値を基に、短い順に百分率順位を使用",null,null,null,null,null,null,null,null,null,null,null,null,null,null,null,null,null,null,null,null,null,null,null,0.30000000000000004,1.3]
[null,null,"通勤の快適性","混雑率データ等を基に、混雑率が低い順に百分率順位を使用",null,null,null,null,null,null,null,null,null,null,null,null,null,null,null,null,null,null,null,null,null,null,null,0.19999999999999996,1.2]
[null,null,"家賃相場","家賃相場データを基に、家賃が安い順に百分率順位を使用",null,null,null,null,null,null,null,null,null,null,null,null,null,null,null,null,null,null,null,null,null,null,null,0.10000000000000009,1.1000000000000001]
[null,null,null,null,null,null,null,null,null,null,null,null,null,null,null,null,null,null,null,null,null,null,null,null,null,null,null,"±0%",1]
[null,null,"データ取得","いずれも取得日は2020年3月21日（電車は直近平日の値）",null,null,null,null,null,null,null,null,null,null,null,null,null,null,null,null,null,null,null,null,null,null,null,-9.9999999999999978E-2,0.9]
[null,null,"所要時間","Yahoo!路線情報にて、各到着駅の到着時間を「8:00」「8:30」「9:00」と３パターン検索。原則は最安経路、ただし左記より\n5分以上の短縮が見込まれる場合は当該短縮経路を使用。\n出発駅発車時間を記録し、3つの時刻までの所要時間を\n計算。（例えば8：20到着駅に到着する場合でも、8」30到着とみなす。これにより使用電車の柔軟性（＝本数の多さ）を同時に考慮するもの）",null,null,null,null,null,null,null,null,null,null,null,null,null,null,null,null,null,null,null,null,null,null,null,-0.19999999999999996,0.8]
[null,null,"家賃相場","「HOMES」の家賃相場情報にて、「ワンルーム・1K・1DK」「2LDK・3K・3DK」の相場を利用。利用できない場合は「SUUMO」にて同様の相場を利用。いずれも不可の場合は、近似値。",null,null,null,null,null,null,null,null,null,null,null,null,null,null,null,null,null,null,null,null,null,null,null,-0.30000000000000004,0.7]
[null,null,null,null,null,null,null,null,null,null,null,null,null,null,null,null,null,null,null,null,null,null,null,null,null,null,null,-0.4,0.6]
[null,null,null,null,null,null,null,null,null,null,null,null,null,null,null,null,null,null,null,null,null,null,null,null,null,null,null,-0.5,0.5]
[null,null,null,null,null,null,null,null,null,null,null,null,null,null,null,null,null,null,null,null,null,null,null,null,null,null,null,-0.6,0.4]
[null,null,null,null,null,null,null,null,null,null,null,null,null,null,null,null,null,null,null,null,null,null,null,null,null,null,null,-0.7,0.3]
[null,null,null,null,null,null,null,null,null,null,null,null,null,null,null,null,null,null,null,null,null,null,null,null,null,null,null,-0.8,0.2]
[null,null,null,null,null,null,null,null,null,null,null,null,null,null,null,null,null,null,null,null,null,null,null,null,null,null,null,-0.9,0.1]
[null,null,null,null,null,null,null,null,null,null,null,null,null,null,null,null,null,null,null,null,null,null,null,null,null,null,null,-1,0]

{"sheet":"全データ","index":5,"n_rows":96,"n_cols":29,"rows_kept":96,"cut":false,"hidden":false,"merged":[[1,18,1,19],[1,25,1,26],[1,4,1,6],[1,7,1,9],[1,10,1,12],[1,13,1,15],[1,16,1,17]]}
[]
[null,null,null,null,"東京駅周辺到着",null,null,"新宿駅周辺到着",null,null,"東京駅周辺到着所要時間",null,null,"新宿駅周辺到着所要時間",null,null,"平均所要時間",null,"所要時間点数",null,null,null,null,null,null,"家賃点数",null,null,"点数"]
["道路名","IC名","鉄道路線","駅名","08:00:00","08:30:00","09:00:00","08:00:00","08:30:00","09:00:00","08:00:00","08:30:00","09:00:00","08:00:00","08:30:00","09:00:00","東京","新宿","東京","新宿","混雑率","始発あり","快適性点数","1K","2LDK","1K","2LDK","商業施設","商業施設"]
["東北自動車道","岩槻","東武野田線","岩槻","06:58:00","07:31:00","07:54:00","06:58:00","07:27:00","07:59:00",{"$f":"(K$3-E4)*24*60","v":61.999999999999943},{"$f":"(L$3-F4)*24*60","v":59.000000000000028},{"$f":"(M$3-G4)*24*60","v":66},{"$f":"(N$3-H4)*24*60","v":61.999999999999943},{"$f":"(O$3-I4)*24*60","v":63.000000000000014},{"$f":"(P$3-J4)*24*60","v":61.000000000000021},{"$f":"AVERAGE(K4:M4)","v":62.333333333333321},{"$f":"AVERAGE(N4:P4)","v":61.999999999999993},{"$f":"100-_xlfn.PERCENTRANK.INC(Q$4:Q$96,Q4)*100","v":2.2000000000000028},{"$f":"100-_xlfn.PERCENTRANK.INC(R$4:R$96,R4)*100","v":15.299999999999997},125,"×",{"$f":"100-_xlfn.PERCENTRANK.INC(U$4:U$96,U4)*100","v":79.400000000000006},4.4000000000000004,6.31,{"$f":"100-_xlfn.PERCENTRANK.INC(X$4:X$96,X4)*100","v":100},{"$f":"100-_xlfn.PERCENTRANK.INC(Y$4:Y$96,Y4)*100","v":99},"○",{"$f":"VLOOKUP(AB4,配点根拠!$G$3:$H$7,2,0)","v":80}]
["東京湾アクアライン","木更津金田","高速バス","木更津金田BT","07:17:00","07:47:00","08:14:00","06:55:00","07:25:00","07:55:00",{"$f":"(K$3-E5)*24*60","v":43.000000000000007},{"$f":"(L$3-F5)*24*60","v":43.000000000000007},{"$f":"(M$3-G5)*24*60","v":46.000000000000078},{"$f":"(N$3-H5)*24*60","v":64.999999999999929},{"$f":"(O$3-I5)*24*60","v":65.000000000000014},{"$f":"(P$3-J5)*24*60","v":65.000000000000014},{"$f":"AVERAGE(K5:M5)","v":44.000000000000028},{"$f":"AVERAGE(N5:P5)","v":64.999999999999986},{"$f":"100-_xlfn.PERCENTRANK.INC(Q$4:Q$96,Q5)*100","v":32.699999999999989},{"$f":"100-_xlfn.PERCENTRANK.INC(R$4:R$96,R5)*100","v":6.5999999999999943},50,"×",{"$f":"100-_xlfn.PERCENTRANK.INC(U$4:U$96,U5)*100","v":100},4.5,6.1,{"$f":"100-_xlfn.PERCENTRANK.INC(X$4:X$96,X5)*100","v":99},{"$f":"100-_xlfn.PERCENTRANK.INC(Y$4:Y$96,Y5)*100","v":100},"◎",{"$f":"VLOOKUP(AB5,配点根拠!$G$3:$H$7,2,0)","v":100}]
["外環道","草加","東武スカイツリーライン","獨協大学前","07:13:00","07:43:00","08:16:00","06:59:00","07:33:00","07:57:00",{"$f":"(K$3-E6)*24*60","v":46.999999999999993},{"$f":"(L$3-F6)*24*60","v":46.999999999999993},{"$f":"(M$3-G6)*24*60","v":43.999999999999922},{"$f":"(N$3-H6)*24*60","v":60.999999999999943},{"$f":"(O$3-I6)*24*60","v":57.000000000000036},{"$f":"(P$3-J6)*24*60","v":63.000000000000014},{"$f":"AVERAGE(K6:M6)","v":45.999999999999972},{"$f":"AVERAGE(N6:P6)","v":60.333333333333336},{"$f":"100-_xlfn.PERCENTRANK.INC(Q$4:Q$96,Q6)*100","v":27.200000000000003},{"$f":"100-_xlfn.PERCENTRANK.INC(R$4:R$96,R6)*100","v":18.5},150,"×",{"$f":"100-_xlfn.PERCENTRANK.INC(U$4:U$96,U6)*100","v":63.1},4.82,8.36,{"$f":"100-_xlfn.PERCENTRANK.INC(X$4:X$96,X6)*100","v":97.9},{"$f":"100-_xlfn.PERCENTRANK.INC(Y$4:Y$96,Y6)*100","v":90.3},"○",{"$f":"VLOOKUP(AB6,配点根拠!$G$3:$H$7,2,0)","v":80}]
["外環道","松戸","北総線","北国分","07:19:00","07:48:00","08:18:00","06:54:00","07:28:00","07:59:00",{"$f":"(K$3-E7)*24*60","v":41.000000000000014},{"$f":"(L$3-F7)*24*60","v":42.000000000000014},{"$f":"(M$3-G7)*24*60","v":41.999999999999929},{"$f":"(N$3-H7)*24*60","v":65.999999999999929},{"$f":"(O$3-I7)*24*60","v":62.000000000000021},{"$f":"(P$3-J7)*24*60","v":61.000000000000021},{"$f":"AVERAGE(K7:M7)","v":41.66666666666665},{"$f":"AVERAGE(N7:P7)","v":62.999999999999993},{"$f":"100-_xlfn.PERCENTRANK.INC(Q$4:Q$96,Q7)*100","v":40.300000000000004},{"$f":"100-_xlfn.PERCENTRANK.INC(R$4:R$96,R7)*100","v":13.099999999999994},91,"×",{"$f":"100-_xlfn.PERCENTRANK.INC(U$4:U$96,U7)*100","v":84.8},4.8600000000000003,8.5500000000000007,{"$f":"100-_xlfn.PERCENTRANK.INC(X$4:X$96,X7)*100","v":96.8},{"$f":"100-_xlfn.PERCENTRANK.INC(Y$4:Y$96,Y7)*100","v":87},"○",{"$f":"VLOOKUP(AB7,配点根拠!$G$3:$H$7,2,0)","v":80}]
["首都高S大宮線","浦和南","JR埼京線","南与野","07:09:00","07:43:00","08:07:00","07:23:00","07:51:00","08:28:00",{"$f":"(K$3-E8)*24*60","v":50.999999999999979},{"$f":"(L$3-F8)*24*60","v":46.999999999999993},{"$f":"(M$3-G8)*24*60","v":52.999999999999972},{"$f":"(N$3-H8)*24*60","v":36.99999999999995},{"$f":"(O$3-I8)*24*60","v":39.000000000000021},{"$f":"(P$3-J8)*24*60","v":31.999999999999964},{"$f":"AVERAGE(K8:M8)","v":50.333333333333314},{"$f":"AVERAGE(N8:P8)","v":35.999999999999979},{"$f":"100-_xlfn.PERCENTRANK.INC(Q$4:Q$96,Q8)*100","v":16.400000000000006},{"$f":"100-_xlfn.PERCENTRANK.INC(R$4:R$96,R8)*100","v":69.599999999999994},183,"×",{"$f":"100-_xlfn.PERCENTRANK.INC(U$4:U$96,U8)*100","v":19.599999999999994},4.96,8.6,{"$f":"100-_xlfn.PERCENTRANK.INC(X$4:X$96,X8)*100","v":95.7},{"$f":"100-_xlfn.PERCENTRANK.INC(Y$4:Y$96,Y8)*100","v":85.9},"■",{"$f":"VLOOKUP(AB8,配点根拠!$G$3:$H$7,2,0)","v":50}]
["外環道","松戸","北総線","矢切","07:21:00","07:50:00","08:20:00","06:59:00","07:30:00","08:01:00",{"$f":"(K$3-E9)*24*60","v":39.000000000000021},{"$f":"(L$3-F9)*24*60","v":40.000000000000014},{"$f":"(M$3-G9)*24*60","v":39.999999999999936},{"$f":"(N$3-H9)*24*60","v":60.999999999999943},{"$f":"(O$3-I9)*24*60","v":60.000000000000028},{"$f":"(P$3-J9)*24*60","v":58.99999999999995},{"$f":"AVERAGE(K9:M9)","v":39.666666666666657},{"$f":"AVERAGE(N9:P9)","v":59.999999999999972},{"$f":"100-_xlfn.PERCENTRANK.INC(Q$4:Q$96,Q9)*100","v":44.599999999999994},{"$f":"100-_xlfn.PERCENTRANK.INC(R$4:R$96,R9)*100","v":20.700000000000003},91,"×",{"$f":"100-_xlfn.PERCENTRANK.INC(U$4:U$96,U9)*100","v":84.8},5.05,7.6,{"$f":"100-_xlfn.PERCENTRANK.INC(X$4:X$96,X9)*100","v":94.6},{"$f":"100-_xlfn.PERCENTRANK.INC(Y$4:Y$96,Y9)*100","v":95.7},"■",{"$f":"VLOOKUP(AB9,配点根拠!$G$3:$H$7,2,0)","v":50}]
["中央自動車道","稲城","JR南武線","稲城長沼","07:01:00","07:31:00","07:58:00","07:18:00","07:55:00","08:16:00",{"$f":"(K$3-E10)*24*60","v":58.99999999999995},{"$f":"(L$3-F10)*24*60","v":59.000000000000028},{"$f":"(M$3-G10)*24*60","v":62.000000000000021},{"$f":"(N$3-H10)*24*60","v":42.000000000000014},{"$f":"(O$3-I10)*24*60","v":35.000000000000036},{"$f":"(P$3-J10)*24*60","v":43.999999999999922},{"$f":"AVERAGE(K10:M10)","v":60},{"$f":"AVERAGE(N10:P10)","v":40.333333333333321},{"$f":"100-_xlfn.PERCENTRANK.INC(Q$4:Q$96,Q10)*100","v":5.5},{"$f":"100-_xlfn.PERCENTRANK.INC(R$4:R$96,R10)*100","v":60.9},184,"×",{"$f":"100-_xlfn.PERCENTRANK.INC(U$4:U$96,U10)*100","v":15.299999999999997},5.07,9.5,{"$f":"100-_xlfn.PERCENTRANK.INC(X$4:X$96,X10)*100","v":93.5},{"$f":"100-_xlfn.PERCENTRANK.INC(Y$4:Y$96,Y10)*100","v":74},"△",{"$f":"VLOOKUP(AB10,配点根拠!$G$3:$H$7,2,0)","v":20}]
["首都高川口線","新井宿","埼玉高速鉄道","新井宿","07:10:00","07:43:00","08:07:00","07:10:00","07:43:00","08:07:00",{"$f":"(K$3-E11)*24*60","v":49.999999999999986},{"$f":"(L$3-F11)*24*60","v":46.999999999999993},{"$f":"(M$3-G11)*24*60","v":52.999999999999972},{"$f":"(N$3-H11)*24*60","v":49.999999999999986},{"$f":"(O$3-I11)*24*60","v":46.999999999999993},{"$f":"(P$3-J11)*24*60","v":52.999999999999972},{"$f":"AVERAGE(K11:M11)","v":49.999999999999979},{"$f":"AVERAGE(N11:P11)","v":49.999999999999979},{"$f":"100-_xlfn.PERCENTRANK.INC(Q$4:Q$96,Q11)*100","v":17.400000000000006},{"$f":"100-_xlfn.PERCENTRANK.INC(R$4:R$96,R11)*100","v":37},128,"×",{"$f":"100-_xlfn.PERCENTRANK.INC(U$4:U$96,U11)*100","v":78.3},5.2,6.88,{"$f":"100-_xlfn.PERCENTRANK.INC(X$4:X$96,X11)*100","v":92.4},{"$f":"100-_xlfn.PERCENTRANK.INC(Y$4:Y$96,Y11)*100","v":96.8},"■",{"$f":"VLOOKUP(AB11,配点根拠!$G$3:$H$7,2,0)","v":50}]
["首都高K3号狩場線","永田","JR横須賀線","保土ヶ谷","07:23:00","07:53:00","08:16:00","07:20:00","07:49:00","08:16:00",{"$f":"(K$3-E12)*24*60","v":36.99999999999995},{"$f":"(L$3-F12)*24*60","v":37.000000000000028},{"$f":"(M$3-G12)*24*60","v":43.999999999999922},{"$f":"(N$3-H12)*24*60","v":40.000000000000014},{"$f":"(O$3-I12)*24*60","v":41.000000000000014},{"$f":"(P$3-J12)*24*60","v":43.999999999999922},{"$f":"AVERAGE(K12:M12)","v":39.333333333333293},{"$f":"AVERAGE(N12:P12)","v":41.66666666666665},{"$f":"100-_xlfn.PERCENTRANK.INC(Q$4:Q$96,Q12)*100","v":49},{"$f":"100-_xlfn.PERCENTRANK.INC(R$4:R$96,R12)*100","v":56.6},197,"×",{"$f":"100-_xlfn.PERCENTRANK.INC(U$4:U$96,U12)*100","v":4.4000000000000057},5.26,10.6,{"$f":"100-_xlfn.PERCENTRANK.INC(X$4:X$96,X12)*100","v":91.4},{"$f":"100-_xlfn.PERCENTRANK.INC(Y$4:Y$96,Y12)*100","v":63.1},"△",{"$f":"VLOOKUP(AB12,配点根拠!$G$3:$H$7,2,0)","v":20}]
["東京湾アクアライン","袖ケ浦","高速バス","袖ケ浦BT","07:00:00","07:30:00","08:05:00","07:02:00","07:17:00","07:47:00",{"$f":"(K$3-E13)*24*60","v":59.999999999999943},{"$f":"(L$3-F13)*24*60","v":60.000000000000028},{"$f":"(M$3-G13)*24*60","v":54.999999999999964},{"$f":"(N$3-H13)*24*60","v":57.999999999999957},{"$f":"(O$3-I13)*24*60","v":73.000000000000057},{"$f":"(P$3-J13)*24*60","v":72.999999999999986},{"$f":"AVERAGE(K13:M13)","v":58.333333333333314},{"$f":"AVERAGE(N13:P13)","v":68},{"$f":"100-_xlfn.PERCENTRANK.INC(Q$4:Q$96,Q13)*100","v":9.7999999999999972},{"$f":"100-_xlfn.PERCENTRANK.INC(R$4:R$96,R13)*100","v":2.2000000000000028},50,"△",{"$f":"100-_xlfn.PERCENTRANK.INC(U$4:U$96,U13)*100","v":100},5.28,6.31,{"$f":"100-_xlfn.PERCENTRANK.INC(X$4:X$96,X13)*100","v":90.3},{"$f":"100-_xlfn.PERCENTRANK.INC(Y$4:Y$96,Y13)*100","v":99},"■",{"$f":"VLOOKUP(AB13,配点根拠!$G$3:$H$7,2,0)","v":50}]
["外環道","外環浦和","JR京浜東北線","南浦和","07:22:00","07:52:00","08:18:00","07:24:00","07:52:00","08:23:00",{"$f":"(K$3-E14)*24*60","v":38.000000000000028},{"$f":"(L$3-F14)*24*60","v":38.000000000000028},{"$f":"(M$3-G14)*24*60","v":41.999999999999929},{"$f":"(N$3-H14)*24*60","v":35.99999999999995},{"$f":"(O$3-I14)*24*60","v":38.000000000000028},{"$f":"(P$3-J14)*24*60","v":37.000000000000028},{"$f":"AVERAGE(K14:M14)","v":39.333333333333329},{"$f":"AVERAGE(N14:P14)","v":37},{"$f":"100-_xlfn.PERCENTRANK.INC(Q$4:Q$96,Q14)*100","v":46.8},{"$f":"100-_xlfn.PERCENTRANK.INC(R$4:R$96,R14)*100","v":68.5},80,"○",{"$f":"100-_xlfn.PERCENTRANK.INC(U$4:U$96,U14)*100","v":92.4},5.43,10.24,{"$f":"100-_xlfn.PERCENTRANK.INC(X$4:X$96,X14)*100","v":89.2},{"$f":"100-_xlfn.PERCENTRANK.INC(Y$4:Y$96,Y14)*100","v":66.400000000000006},"○",{"$f":"VLOOKUP(AB14,配点根拠!$G$3:$H$7,2,0)","v":80}]
["東関東自動車道","谷津船橋IC","JR京葉線","南船橋","07:26:00","07:52:00","08:22:00","07:00:00","07:26:00","07:52:00",{"$f":"(K$3-E15)*24*60","v":33.999999999999957},{"$f":"(L$3-F15)*24*60","v":38.000000000000028},{"$f":"(M$3-G15)*24*60","v":37.999999999999943},{"$f":"(N$3-H15)*24*60","v":59.999999999999943},{"$f":"(O$3-I15)*24*60","v":64.000000000000014},{"$f":"(P$3-J15)*24*60","v":68},{"$f":"AVERAGE(K15:M15)","v":36.666666666666643},{"$f":"AVERAGE(N15:P15)","v":63.999999999999979},{"$f":"100-_xlfn.PERCENTRANK.INC(Q$4:Q$96,Q15)*100","v":55.5},{"$f":"100-_xlfn.PERCENTRANK.INC(R$4:R$96,R15)*100","v":9.7999999999999972},166,"△",{"$f":"100-_xlfn.PERCENTRANK.INC(U$4:U$96,U15)*100","v":42.400000000000006},5.5,9,{"$f":"100-_xlfn.PERCENTRANK.INC(X$4:X$96,X15)*100","v":88.1},{"$f":"100-_xlfn.PERCENTRANK.INC(Y$4:Y$96,Y15)*100","v":80.5},"◎",{"$f":"VLOOKUP(AB15,配点根拠!$G$3:$H$7,2,0)","v":100}]
["首都高K3号狩場線","花之木","京急本線","南太田","07:14:00","07:40:00","08:13:00","07:09:00","07:35:00","08:01:00",{"$f":"(K$3-E16)*24*60","v":46},{"$f":"(L$3-F16)*24*60","v":49.999999999999986},{"$f":"(M$3-G16)*24*60","v":46.999999999999993},{"$f":"(N$3-H16)*24*60","v":50.999999999999979},{"$f":"(O$3-I16)*24*60","v":55.000000000000043},{"$f":"(P$3-J16)*24*60","v":58.99999999999995},{"$f":"AVERAGE(K16:M16)","v":47.666666666666657},{"$f":"AVERAGE(N16:P16)","v":54.999999999999993},{"$f":"100-_xlfn.PERCENTRANK.INC(Q$4:Q$96,Q16)*100","v":20.700000000000003},{"$f":"100-_xlfn.PERCENTRANK.INC(R$4:R$96,R16)*100","v":27.200000000000003},143,"×",{"$f":"100-_xlfn.PERCENTRANK.INC(U$4:U$96,U16)*100","v":70.7},5.53,11.5,{"$f":"100-_xlfn.PERCENTRANK.INC(X$4:X$96,X16)*100","v":87},{"$f":"100-_xlfn.PERCENTRANK.INC(Y$4:Y$96,Y16)*100","v":49},"△",{"$f":"VLOOKUP(AB16,配点根拠!$G$3:$H$7,2,0)","v":20}]
["中央自動車道","調布","京王線","西調布","07:04:00","07:29:00","07:57:00","07:17:00","07:49:00","08:19:00",{"$f":"(K$3-E17)*24*60","v":55.999999999999957},{"$f":"(L$3-F17)*24*60","v":61.000000000000021},{"$f":"(M$3-G17)*24*60","v":63.000000000000014},{"$f":"(N$3-H17)*24*60","v":43.000000000000007},{"$f":"(O$3-I17)*24*60","v":41.000000000000014},{"$f":"(P$3-J17)*24*60","v":41.000000000000014},{"$f":"AVERAGE(K17:M17)","v":60},{"$f":"AVERAGE(N17:P17)","v":41.666666666666679},{"$f":"100-_xlfn.PERCENTRANK.INC(Q$4:Q$96,Q17)*100","v":5.5},{"$f":"100-_xlfn.PERCENTRANK.INC(R$4:R$96,R17)*100","v":55.5},165,"×",{"$f":"100-_xlfn.PERCENTRANK.INC(U$4:U$96,U17)*100","v":49},5.61,11.2,{"$f":"100-_xlfn.PERCENTRANK.INC(X$4:X$96,X17)*100","v":85.9},{"$f":"100-_xlfn.PERCENTRANK.INC(Y$4:Y$96,Y17)*100","v":54.4},"△",{"$f":"VLOOKUP(AB17,配点根拠!$G$3:$H$7,2,0)","v":20}]
["首都高5号池袋線","戸田南","JR埼京線","戸田","07:18:00","07:47:00","08:15:00","07:29:00","08:01:00","08:31:00",{"$f":"(K$3-E18)*24*60","v":42.000000000000014},{"$f":"(L$3-F18)*24*60","v":43.000000000000007},{"$f":"(M$3-G18)*24*60","v":45},{"$f":"(N$3-H18)*24*60","v":30.999999999999972},{"$f":"(O$3-I18)*24*60","v":28.999999999999979},{"$f":"(P$3-J18)*24*60","v":28.999999999999979},{"$f":"AVERAGE(K18:M18)","v":43.333333333333343},{"$f":"AVERAGE(N18:P18)","v":29.666666666666643},{"$f":"100-_xlfn.PERCENTRANK.INC(Q$4:Q$96,Q18)*100","v":33.700000000000003},{"$f":"100-_xlfn.PERCENTRANK.INC(R$4:R$96,R18)*100","v":84.8},183,"×",{"$f":"100-_xlfn.PERCENTRANK.INC(U$4:U$96,U18)*100","v":19.599999999999994},5.69,8.68,{"$f":"100-_xlfn.PERCENTRANK.INC(X$4:X$96,X18)*100","v":84.8},{"$f":"100-_xlfn.PERCENTRANK.INC(Y$4:Y$96,Y18)*100","v":84.8},"○",{"$f":"VLOOKUP(AB18,配点根拠!$G$3:$H$7,2,0)","v":80}]
["首都高K1号横羽線","汐入","JR鶴見線","弁天橋","07:20:00","07:45:00","08:15:00","07:03:00","07:39:00","08:02:00",{"$f":"(K$3-E19)*24*60","v":40.000000000000014},{"$f":"(L$3-F19)*24*60","v":45},{"$f":"(M$3-G19)*24*60","v":45},{"$f":"(N$3-H19)*24*60","v":56.999999999999957},{"$f":"(O$3-I19)*24*60","v":50.999999999999979},{"$f":"(P$3-J19)*24*60","v":58.000000000000036},{"$f":"AVERAGE(K19:M19)","v":43.333333333333336},{"$f":"AVERAGE(N19:P19)","v":55.333333333333321},{"$f":"100-_xlfn.PERCENTRANK.INC(Q$4:Q$96,Q19)*100","v":34.799999999999997},{"$f":"100-_xlfn.PERCENTRANK.INC(R$4:R$96,R19)*100","v":26.099999999999994},110,"×",{"$f":"100-_xlfn.PERCENTRANK.INC(U$4:U$96,U19)*100","v":82.7},5.73,10.1,{"$f":"100-_xlfn.PERCENTRANK.INC(X$4:X$96,X19)*100","v":83.7},{"$f":"100-_xlfn.PERCENTRANK.INC(Y$4:Y$96,Y19)*100","v":69.599999999999994},"×",{"$f":"VLOOKUP(AB19,配点根拠!$G$3:$H$7,2,0)","v":0}]
["首都高川口線","新郷","埼玉高速鉄道","鳩ヶ谷","07:13:00","07:46:00","08:09:00","07:13:00","07:46:00","08:09:00",{"$f":"(K$3-E20)*24*60","v":46.999999999999993},{"$f":"(L$3-F20)*24*60","v":44},{"$f":"(M$3-G20)*24*60","v":50.999999999999979},{"$f":"(N$3-H20)*24*60","v":46.999999999999993},{"$f":"(O$3-I20)*24*60","v":44},{"$f":"(P$3-J20)*24*60","v":50.999999999999979},{"$f":"AVERAGE(K20:M20)","v":47.333333333333321},{"$f":"AVERAGE(N20:P20)","v":47.333333333333321},{"$f":"100-_xlfn.PERCENTRANK.INC(Q$4:Q$96,Q20)*100","v":24},{"$f":"100-_xlfn.PERCENTRANK.INC(R$4:R$96,R20)*100","v":46.8},80,"○",{"$f":"100-_xlfn.PERCENTRANK.INC(U$4:U$96,U20)*100","v":92.4},5.73,9.1199999999999992,{"$f":"100-_xlfn.PERCENTRANK.INC(X$4:X$96,X20)*100","v":83.7},{"$f":"100-_xlfn.PERCENTRANK.INC(Y$4:Y$96,Y20)*100","v":78.3},"■",{"$f":"VLOOKUP(AB20,配点根拠!$G$3:$H$7,2,0)","v":50}]
["中央自動車道","国立府中","JR南武線","谷保","06:47:00","07:17:00","07:47:00","07:05:00","07:43:00","08:12:00",{"$f":"(K$3-E21)*24*60","v":72.999999999999986},{"$f":"(L$3-F21)*24*60","v":73.000000000000057},{"$f":"(M$3-G21)*24*60","v":72.999999999999986},{"$f":"(N$3-H21)*24*60","v":54.999999999999964},{"$f":"(O$3-I21)*24*60","v":46.999999999999993},{"$f":"(P$3-J21)*24*60","v":48.000000000000071},{"$f":"AVERAGE(K21:M21)","v":73.000000000000014},{"$f":"AVERAGE(N21:P21)","v":50.000000000000007},{"$f":"100-_xlfn.PERCENTRANK.INC(Q$4:Q$96,Q21)*100","v":0},{"$f":"100-_xlfn.PERCENTRANK.INC(R$4:R$96,R21)*100","v":35.900000000000006},184,"×",{"$f":"100-_xlfn.PERCENTRANK.INC(U$4:U$96,U21)*100","v":15.299999999999997},5.76,10.29,{"$f":"100-_xlfn.PERCENTRANK.INC(X$4:X$96,X21)*100","v":81.599999999999994},{"$f":"100-_xlfn.PERCENTRANK.INC(Y$4:Y$96,Y21)*100","v":65.300000000000011},"△",{"$f":"VLOOKUP(AB21,配点根拠!$G$3:$H$7,2,0)","v":20}]
["首都高5号池袋線","高島平","都営三田線","西高島平","07:22:00","07:53:00","08:22:00","07:22:00","07:43:00","08:14:00",{"$f":"(K$3-E22)*24*60","v":38.000000000000028},{"$f":"(L$3-F22)*24*60","v":37.000000000000028},{"$f":"(M$3-G22)*24*60","v":37.999999999999943},{"$f":"(N$3-H22)*24*60","v":38.000000000000028},{"$f":"(O$3-I22)*24*60","v":46.999999999999993},{"$f":"(P$3-J22)*24*60","v":46.000000000000078},{"$f":"AVERAGE(K22:M22)","v":37.666666666666664},{"$f":"AVERAGE(N22:P22)","v":43.666666666666707},{"$f":"100-_xlfn.PERCENTRANK.INC(Q$4:Q$96,Q22)*100","v":54.4},{"$f":"100-_xlfn.PERCENTRANK.INC(R$4:R$96,R22)*100","v":51.1},50,"◎",{"$f":"100-_xlfn.PERCENTRANK.INC(U$4:U$96,U22)*100","v":100},5.77,8.8000000000000007,{"$f":"100-_xlfn.PERCENTRANK.INC(X$4:X$96,X22)*100","v":80.5},{"$f":"100-_xlfn.PERCENTRANK.INC(Y$4:Y$96,Y22)*100","v":81.599999999999994},"×",{"$f":"VLOOKUP(AB22,配点根拠!$G$3:$H$7,2,0)","v":0}]
["京葉道路","花輪","京成本線","船橋競馬場","07:15:00","07:48:00","08:09:00","06:55:00","07:28:00","07:55:00",{"$f":"(K$3-E23)*24*60","v":45},{"$f":"(L$3-F23)*24*60","v":42.000000000000014},{"$f":"(M$3-G23)*24*60","v":50.999999999999979},{"$f":"(N$3-H23)*24*60","v":64.999999999999929},{"$f":"(O$3-I23)*24*60","v":62.000000000000021},{"$f":"(P$3-J23)*24*60","v":65.000000000000014},{"$f":"AVERAGE(K23:M23)","v":46},{"$f":"AVERAGE(N23:P23)","v":63.999999999999979},{"$f":"100-_xlfn.PERCENTRANK.INC(Q$4:Q$96,Q23)*100","v":26.099999999999994},{"$f":"100-_xlfn.PERCENTRANK.INC(R$4:R$96,R23)*100","v":9.7999999999999972},130,"×",{"$f":"100-_xlfn.PERCENTRANK.INC(U$4:U$96,U23)*100","v":76.099999999999994},5.81,9.4,{"$f":"100-_xlfn.PERCENTRANK.INC(X$4:X$96,X23)*100","v":79.400000000000006},{"$f":"100-_xlfn.PERCENTRANK.INC(Y$4:Y$96,Y23)*100","v":75},"◎",{"$f":"VLOOKUP(AB23,配点根拠!$G$3:$H$7,2,0)","v":100}]
["外環道","川口東","埼玉高速鉄道","戸塚安行","07:07:00","07:40:00","08:04:00","07:07:00","07:40:00","08:04:00",{"$f":"(K$3-E24)*24*60","v":52.999999999999972},{"$f":"(L$3-F24)*24*60","v":49.999999999999986},{"$f":"(M$3-G24)*24*60","v":56.000000000000043},{"$f":"(N$3-H24)*24*60","v":52.999999999999972},{"$f":"(O$3-I24)*24*60","v":49.999999999999986},{"$f":"(P$3-J24)*24*60","v":56.000000000000043},{"$f":"AVERAGE(K24:M24)","v":53},{"$f":"AVERAGE(N24:P24)","v":53},{"$f":"100-_xlfn.PERCENTRANK.INC(Q$4:Q$96,Q24)*100","v":12},{"$f":"100-_xlfn.PERCENTRANK.INC(R$4:R$96,R24)*100","v":29.400000000000006},128,"×",{"$f":"100-_xlfn.PERCENTRANK.INC(U$4:U$96,U24)*100","v":78.3},5.88,8.02,{"$f":"100-_xlfn.PERCENTRANK.INC(X$4:X$96,X24)*100","v":78.3},{"$f":"100-_xlfn.PERCENTRANK.INC(Y$4:Y$96,Y24)*100","v":93.5},"△",{"$f":"VLOOKUP(AB24,配点根拠!$G$3:$H$7,2,0)","v":20}]
["外環道","外環三郷西","JR武蔵野線","新三郷","07:02:00","07:34:00","07:59:00","06:54:00","07:25:00","07:57:00",{"$f":"(K$3-E25)*24*60","v":57.999999999999957},{"$f":"(L$3-F25)*24*60","v":56.000000000000043},{"$f":"(M$3-G25)*24*60","v":61.000000000000021},{"$f":"(N$3-H25)*24*60","v":65.999999999999929},{"$f":"(O$3-I25)*24*60","v":65.000000000000014},{"$f":"(P$3-J25)*24*60","v":63.000000000000014},{"$f":"AVERAGE(K25:M25)","v":58.333333333333343},{"$f":"AVERAGE(N25:P25)","v":64.666666666666643},{"$f":"100-_xlfn.PERCENTRANK.INC(Q$4:Q$96,Q25)*100","v":8.7000000000000028},{"$f":"100-_xlfn.PERCENTRANK.INC(R$4:R$96,R25)*100","v":7.6999999999999886},173,"×",{"$f":"100-_xlfn.PERCENTRANK.INC(U$4:U$96,U25)*100","v":31.599999999999994},5.9,8.4,{"$f":"100-_xlfn.PERCENTRANK.INC(X$4:X$96,X25)*100","v":77.2},{"$f":"100-_xlfn.PERCENTRANK.INC(Y$4:Y$96,Y25)*100","v":89.2},"◎",{"$f":"VLOOKUP(AB25,配点根拠!$G$3:$H$7,2,0)","v":100}]
["首都高湾岸線","葛西","JR京葉線","葛西臨海公園","07:43:00","08:09:00","08:42:00","07:09:00","07:43:00","08:09:00",{"$f":"(K$3-E26)*24*60","v":16.99999999999994},{"$f":"(L$3-F26)*24*60","v":21.000000000000007},{"$f":"(M$3-G26)*24*60","v":18.000000000000014},{"$f":"(N$3-H26)*24*60","v":50.999999999999979},{"$f":"(O$3-I26)*24*60","v":46.999999999999993},{"$f":"(P$3-J26)*24*60","v":50.999999999999979},{"$f":"AVERAGE(K26:M26)","v":18.666666666666654},{"$f":"AVERAGE(N26:P26)","v":49.66666666666665},{"$f":"100-_xlfn.PERCENTRANK.INC(Q$4:Q$96,Q26)*100","v":93.5},{"$f":"100-_xlfn.PERCENTRANK.INC(R$4:R$96,R26)*100","v":38.1},166,"×",{"$f":"100-_xlfn.PERCENTRANK.INC(U$4:U$96,U26)*100","v":42.400000000000006},5.9,10,{"$f":"100-_xlfn.PERCENTRANK.INC(X$4:X$96,X26)*100","v":77.2},{"$f":"100-_xlfn.PERCENTRANK.INC(Y$4:Y$96,Y26)*100","v":71.800000000000011},"△",{"$f":"VLOOKUP(AB26,配点根拠!$G$3:$H$7,2,0)","v":20}]
["京葉道路","幕張","JR総武線","幕張本郷","07:16:00","07:46:00","08:14:00","07:00:00","07:31:00","07:58:00",{"$f":"(K$3-E27)*24*60","v":44},{"$f":"(L$3-F27)*24*60","v":44},{"$f":"(M$3-G27)*24*60","v":46.000000000000078},{"$f":"(N$3-H27)*24*60","v":59.999999999999943},{"$f":"(O$3-I27)*24*60","v":59.000000000000028},{"$f":"(P$3-J27)*24*60","v":62.000000000000021},{"$f":"AVERAGE(K27:M27)","v":44.666666666666693},{"$f":"AVERAGE(N27:P27)","v":60.333333333333336},{"$f":"100-_xlfn.PERCENTRANK.INC(Q$4:Q$96,Q27)*100","v":31.599999999999994},{"$f":"100-_xlfn.PERCENTRANK.INC(R$4:R$96,R27)*100","v":18.5},196,"×",{"$f":"100-_xlfn.PERCENTRANK.INC(U$4:U$96,U27)*100","v":7.6999999999999886},5.91,9.24,{"$f":"100-_xlfn.PERCENTRANK.INC(X$4:X$96,X27)*100","v":75},{"$f":"100-_xlfn.PERCENTRANK.INC(Y$4:Y$96,Y27)*100","v":77.2},"△",{"$f":"VLOOKUP(AB27,配点根拠!$G$3:$H$7,2,0)","v":20}]
["常磐自動車道","谷和原","つくばエクスプレス","守谷","07:00:00","07:30:00","08:03:00","06:49:00","07:19:00","07:45:00",{"$f":"(K$3-E28)*24*60","v":59.999999999999943},{"$f":"(L$3-F28)*24*60","v":60.000000000000028},{"$f":"(M$3-G28)*24*60","v":56.999999999999957},{"$f":"(N$3-H28)*24*60","v":70.999999999999986},{"$f":"(O$3-I28)*24*60","v":71.000000000000071},{"$f":"(P$3-J28)*24*60","v":74.999999999999972},{"$f":"AVERAGE(K28:M28)","v":58.999999999999979},{"$f":"AVERAGE(N28:P28)","v":72.333333333333343},{"$f":"100-_xlfn.PERCENTRANK.INC(Q$4:Q$96,Q28)*100","v":7.6999999999999886},{"$f":"100-_xlfn.PERCENTRANK.INC(R$4:R$96,R28)*100","v":0},80,"○",{"$f":"100-_xlfn.PERCENTRANK.INC(U$4:U$96,U28)*100","v":92.4},5.93,8.09,{"$f":"100-_xlfn.PERCENTRANK.INC(X$4:X$96,X28)*100","v":74},{"$f":"100-_xlfn.PERCENTRANK.INC(Y$4:Y$96,Y28)*100","v":92.4},"◎",{"$f":"VLOOKUP(AB28,配点根拠!$G$3:$H$7,2,0)","v":100}]
["外環道","戸田東","JR埼京線","北戸田","07:16:00","07:44:00","08:13:00","07:27:00","07:59:00","08:29:00",{"$f":"(K$3-E29)*24*60","v":44},{"$f":"(L$3-F29)*24*60","v":46},{"$f":"(M$3-G29)*24*60","v":46.999999999999993},{"$f":"(N$3-H29)*24*60","v":32.999999999999964},{"$f":"(O$3-I29)*24*60","v":31.00000000000005},{"$f":"(P$3-J29)*24*60","v":31.00000000000005},{"$f":"AVERAGE(K29:M29)","v":45.666666666666664},{"$f":"AVERAGE(N29:P29)","v":31.666666666666686},{"$f":"100-_xlfn.PERCENTRANK.INC(Q$4:Q$96,Q29)*100","v":29.400000000000006},{"$f":"100-_xlfn.PERCENTRANK.INC(R$4:R$96,R29)*100","v":80.5},183,"×",{"$f":"100-_xlfn.PERCENTRANK.INC(U$4:U$96,U29)*100","v":19.599999999999994},5.97,8.73,{"$f":"100-_xlfn.PERCENTRANK.INC(X$4:X$96,X29)*100","v":72.900000000000006},{"$f":"100-_xlfn.PERCENTRANK.INC(Y$4:Y$96,Y29)*100","v":82.7},"■",{"$f":"VLOOKUP(AB29,配点根拠!$G$3:$H$7,2,0)","v":50}]
["東関東自動車道","湾岸千葉IC","JR京葉線","海浜幕張","07:19:00","07:45:00","08:16:00","06:55:00","07:19:00","07:45:00",{"$f":"(K$3-E30)*24*60","v":41.000000000000014},{"$f":"(L$3-F30)*24*60","v":45},{"$f":"(M$3-G30)*24*60","v":43.999999999999922},{"$f":"(N$3-H30)*24*60","v":64.999999999999929},{"$f":"(O$3-I30)*24*60","v":71.000000000000071},{"$f":"(P$3-J30)*24*60","v":74.999999999999972},{"$f":"AVERAGE(K30:M30)","v":43.333333333333314},{"$f":"AVERAGE(N30:P30)","v":70.333333333333329},{"$f":"100-_xlfn.PERCENTRANK.INC(Q$4:Q$96,Q30)*100","v":37},{"$f":"100-_xlfn.PERCENTRANK.INC(R$4:R$96,R30)*100","v":1.0999999999999943},80,"○",{"$f":"100-_xlfn.PERCENTRANK.INC(U$4:U$96,U30)*100","v":92.4},6,10,{"$f":"100-_xlfn.PERCENTRANK.INC(X$4:X$96,X30)*100","v":71.800000000000011},{"$f":"100-_xlfn.PERCENTRANK.INC(Y$4:Y$96,Y30)*100","v":71.800000000000011},"◎",{"$f":"VLOOKUP(AB30,配点根拠!$G$3:$H$7,2,0)","v":100}]
["首都高K1号横羽線","大師","京急大師線","大師橋","07:16:00","07:41:00","08:11:00","07:01:00","07:31:00","08:01:00",{"$f":"(K$3-E31)*24*60","v":44},{"$f":"(L$3-F31)*24*60","v":48.999999999999986},{"$f":"(M$3-G31)*24*60","v":48.999999999999986},{"$f":"(N$3-H31)*24*60","v":58.99999999999995},{"$f":"(O$3-I31)*24*60","v":59.000000000000028},{"$f":"(P$3-J31)*24*60","v":58.99999999999995},{"$f":"AVERAGE(K31:M31)","v":47.333333333333321},{"$f":"AVERAGE(N31:P31)","v":58.999999999999972},{"$f":"100-_xlfn.PERCENTRANK.INC(Q$4:Q$96,Q31)*100","v":24},{"$f":"100-_xlfn.PERCENTRANK.INC(R$4:R$96,R31)*100","v":22.899999999999991},110,"×",{"$f":"100-_xlfn.PERCENTRANK.INC(U$4:U$96,U31)*100","v":82.7},6.03,11.14,{"$f":"100-_xlfn.PERCENTRANK.INC(X$4:X$96,X31)*100","v":70.7},{"$f":"100-_xlfn.PERCENTRANK.INC(Y$4:Y$96,Y31)*100","v":55.5},"×",{"$f":"VLOOKUP(AB31,配点根拠!$G$3:$H$7,2,0)","v":0}]
["京葉道路","武石","JR総武線","幕張","07:13:00","07:43:00","08:11:00","06:58:00","07:28:00","07:55:00",{"$f":"(K$3-E32)*24*60","v":46.999999999999993},{"$f":"(L$3-F32)*24*60","v":46.999999999999993},{"$f":"(M$3-G32)*24*60","v":48.999999999999986},{"$f":"(N$3-H32)*24*60","v":61.999999999999943},{"$f":"(O$3-I32)*24*60","v":62.000000000000021},{"$f":"(P$3-J32)*24*60","v":65.000000000000014},{"$f":"AVERAGE(K32:M32)","v":47.666666666666657},{"$f":"AVERAGE(N32:P32)","v":63},{"$f":"100-_xlfn.PERCENTRANK.INC(Q$4:Q$96,Q32)*100","v":20.700000000000003},{"$f":"100-_xlfn.PERCENTRANK.INC(R$4:R$96,R32)*100","v":12},196,"×",{"$f":"100-_xlfn.PERCENTRANK.INC(U$4:U$96,U32)*100","v":7.6999999999999886},6.04,7.97,{"$f":"100-_xlfn.PERCENTRANK.INC(X$4:X$96,X32)*100","v":69.599999999999994},{"$f":"100-_xlfn.PERCENTRANK.INC(Y$4:Y$96,Y32)*100","v":94.6},"■",{"$f":"VLOOKUP(AB32,配点根拠!$G$3:$H$7,2,0)","v":50}]
["東関東自動車道","湾岸習志野IC","JR京葉線","新習志野","07:23:00","07:49:00","08:19:00","06:54:00","07:23:00","07:49:00",{"$f":"(K$3-E33)*24*60","v":36.99999999999995},{"$f":"(L$3-F33)*24*60","v":41.000000000000014},{"$f":"(M$3-G33)*24*60","v":41.000000000000014},{"$f":"(N$3-H33)*24*60","v":65.999999999999929},{"$f":"(O$3-I33)*24*60","v":67},{"$f":"(P$3-J33)*24*60","v":70.999999999999986},{"$f":"AVERAGE(K33:M33)","v":39.666666666666664},{"$f":"AVERAGE(N33:P33)","v":67.999999999999986},{"$f":"100-_xlfn.PERCENTRANK.INC(Q$4:Q$96,Q33)*100","v":42.400000000000006},{"$f":"100-_xlfn.PERCENTRANK.INC(R$4:R$96,R33)*100","v":3.2999999999999972},166,"△",{"$f":"100-_xlfn.PERCENTRANK.INC(U$4:U$96,U33)*100","v":42.400000000000006},6.1,8.6999999999999993,{"$f":"100-_xlfn.PERCENTRANK.INC(X$4:X$96,X33)*100","v":68.5},{"$f":"100-_xlfn.PERCENTRANK.INC(Y$4:Y$96,Y33)*100","v":83.7},"○",{"$f":"VLOOKUP(AB33,配点根拠!$G$3:$H$7,2,0)","v":80}]
["東北自動車道","浦和","埼玉高速鉄道","浦和美園","07:01:00","07:34:00","07:58:00","07:01:00","07:34:00","07:58:00",{"$f":"(K$3-E34)*24*60","v":58.99999999999995},{"$f":"(L$3-F34)*24*60","v":56.000000000000043},{"$f":"(M$3-G34)*24*60","v":62.000000000000021},{"$f":"(N$3-H34)*24*60","v":58.99999999999995},{"$f":"(O$3-I34)*24*60","v":56.000000000000043},{"$f":"(P$3-J34)*24*60","v":62.000000000000021},{"$f":"AVERAGE(K34:M34)","v":59.000000000000007},{"$f":"AVERAGE(N34:P34)","v":59.000000000000007},{"$f":"100-_xlfn.PERCENTRANK.INC(Q$4:Q$96,Q34)*100","v":6.5999999999999943},{"$f":"100-_xlfn.PERCENTRANK.INC(R$4:R$96,R34)*100","v":21.799999999999997},50,"◎",{"$f":"100-_xlfn.PERCENTRANK.INC(U$4:U$96,U34)*100","v":100},6.13,8.3000000000000007,{"$f":"100-_xlfn.PERCENTRANK.INC(X$4:X$96,X34)*100","v":67.400000000000006},{"$f":"100-_xlfn.PERCENTRANK.INC(Y$4:Y$96,Y34)*100","v":91.4},"◎",{"$f":"VLOOKUP(AB34,配点根拠!$G$3:$H$7,2,0)","v":100}]
["首都高川口線","足立入谷","都営日暮里舎人ライナー","舎人","07:21:00","07:51:00","08:21:00","07:11:00","07:41:00","08:11:00",{"$f":"(K$3-E35)*24*60","v":39.000000000000021},{"$f":"(L$3-F35)*24*60","v":39.000000000000021},{"$f":"(M$3-G35)*24*60","v":39.000000000000021},{"$f":"(N$3-H35)*24*60","v":48.999999999999986},{"$f":"(O$3-I35)*24*60","v":48.999999999999986},{"$f":"(P$3-J35)*24*60","v":48.999999999999986},{"$f":"AVERAGE(K35:M35)","v":39.000000000000021},{"$f":"AVERAGE(N35:P35)","v":48.999999999999979},{"$f":"100-_xlfn.PERCENTRANK.INC(Q$4:Q$96,Q35)*100","v":51.1},{"$f":"100-_xlfn.PERCENTRANK.INC(R$4:R$96,R35)*100","v":43.500000000000007},189,"×",{"$f":"100-_xlfn.PERCENTRANK.INC(U$4:U$96,U35)*100","v":10.900000000000006},6.19,9.08,{"$f":"100-_xlfn.PERCENTRANK.INC(X$4:X$96,X35)*100","v":66.400000000000006},{"$f":"100-_xlfn.PERCENTRANK.INC(Y$4:Y$96,Y35)*100","v":79.400000000000006},"△",{"$f":"VLOOKUP(AB35,配点根拠!$G$3:$H$7,2,0)","v":20}]
["外環道","三郷南","JR常磐線","松戸","07:29:00","07:58:00","08:26:00","07:15:00","07:47:00","08:12:00",{"$f":"(K$3-E36)*24*60","v":30.999999999999972},{"$f":"(L$3-F36)*24*60","v":32.000000000000043},{"$f":"(M$3-G36)*24*60","v":33.999999999999957},{"$f":"(N$3-H36)*24*60","v":45},{"$f":"(O$3-I36)*24*60","v":43.000000000000007},{"$f":"(P$3-J36)*24*60","v":48.000000000000071},{"$f":"AVERAGE(K36:M36)","v":32.333333333333321},{"$f":"AVERAGE(N36:P36)","v":45.33333333333335},{"$f":"100-_xlfn.PERCENTRANK.INC(Q$4:Q$96,Q36)*100","v":64.2},{"$f":"100-_xlfn.PERCENTRANK.INC(R$4:R$96,R36)*100","v":49},152,"×",{"$f":"100-_xlfn.PERCENTRANK.INC(U$4:U$96,U36)*100","v":59.8},6.23,10.11,{"$f":"100-_xlfn.PERCENTRANK.INC(X$4:X$96,X36)*100","v":65.300000000000011},{"$f":"100-_xlfn.PERCENTRANK.INC(Y$4:Y$96,Y36)*100","v":68.5},"○",{"$f":"VLOOKUP(AB36,配点根拠!$G$3:$H$7,2,0)","v":80}]
["首都高S新都心線","新都心西","JR埼京線","北与野","07:12:00","07:39:00","08:08:00","07:19:00","07:47:00","08:23:00",{"$f":"(K$3-E37)*24*60","v":47.999999999999986},{"$f":"(L$3-F37)*24*60","v":50.999999999999979},{"$f":"(M$3-G37)*24*60","v":52.000000000000057},{"$f":"(N$3-H37)*24*60","v":41.000000000000014},{"$f":"(O$3-I37)*24*60","v":43.000000000000007},{"$f":"(P$3-J37)*24*60","v":37.000000000000028},{"$f":"AVERAGE(K37:M37)","v":50.333333333333343},{"$f":"AVERAGE(N37:P37)","v":40.33333333333335},{"$f":"100-_xlfn.PERCENTRANK.INC(Q$4:Q$96,Q37)*100","v":15.299999999999997},{"$f":"100-_xlfn.PERCENTRANK.INC(R$4:R$96,R37)*100","v":59.8},183,"×",{"$f":"100-_xlfn.PERCENTRANK.INC(U$4:U$96,U37)*100","v":19.599999999999994},6.31,9.32,{"$f":"100-_xlfn.PERCENTRANK.INC(X$4:X$96,X37)*100","v":64.2},{"$f":"100-_xlfn.PERCENTRANK.INC(Y$4:Y$96,Y37)*100","v":76.099999999999994},"◎",{"$f":"VLOOKUP(AB37,配点根拠!$G$3:$H$7,2,0)","v":100}]
["首都高6号三郷線","加平","メトロ千代田線","北綾瀬","07:28:00","07:58:00","08:28:00","07:15:00","07:38:00","08:06:00",{"$f":"(K$3-E38)*24*60","v":31.999999999999964},{"$f":"(L$3-F38)*24*60","v":32.000000000000043},{"$f":"(M$3-G38)*24*60","v":31.999999999999964},{"$f":"(N$3-H38)*24*60","v":45},{"$f":"(O$3-I38)*24*60","v":52.000000000000057},{"$f":"(P$3-J38)*24*60","v":54.00000000000005},{"$f":"AVERAGE(K38:M38)","v":31.999999999999989},{"$f":"AVERAGE(N38:P38)","v":50.333333333333371},{"$f":"100-_xlfn.PERCENTRANK.INC(Q$4:Q$96,Q38)*100","v":66.400000000000006},{"$f":"100-_xlfn.PERCENTRANK.INC(R$4:R$96,R38)*100","v":33.700000000000003},50,"◎",{"$f":"100-_xlfn.PERCENTRANK.INC(U$4:U$96,U38)*100","v":100},6.31,11.13,{"$f":"100-_xlfn.PERCENTRANK.INC(X$4:X$96,X38)*100","v":64.2},{"$f":"100-_xlfn.PERCENTRANK.INC(Y$4:Y$96,Y38)*100","v":56.6},"△",{"$f":"VLOOKUP(AB38,配点根拠!$G$3:$H$7,2,0)","v":20}]
["首都高中央環状線","小菅","京成本線","堀切菖蒲園","07:32:00","07:59:00","08:28:00","07:12:00","07:42:00","08:12:00",{"$f":"(K$3-E39)*24*60","v":27.999999999999979},{"$f":"(L$3-F39)*24*60","v":31.00000000000005},{"$f":"(M$3-G39)*24*60","v":31.999999999999964},{"$f":"(N$3-H39)*24*60","v":47.999999999999986},{"$f":"(O$3-I39)*24*60","v":47.999999999999986},{"$f":"(P$3-J39)*24*60","v":48.000000000000071},{"$f":"AVERAGE(K39:M39)","v":30.333333333333332},{"$f":"AVERAGE(N39:P39)","v":48.000000000000021},{"$f":"100-_xlfn.PERCENTRANK.INC(Q$4:Q$96,Q39)*100","v":69.599999999999994},{"$f":"100-_xlfn.PERCENTRANK.INC(R$4:R$96,R39)*100","v":44.599999999999994},130,"×",{"$f":"100-_xlfn.PERCENTRANK.INC(U$4:U$96,U39)*100","v":76.099999999999994},6.35,10.84,{"$f":"100-_xlfn.PERCENTRANK.INC(X$4:X$96,X39)*100","v":62},{"$f":"100-_xlfn.PERCENTRANK.INC(Y$4:Y$96,Y39)*100","v":59.8},"■",{"$f":"VLOOKUP(AB39,配点根拠!$G$3:$H$7,2,0)","v":50}]
["外環道","市川南","メトロ東西線","妙典","07:27:00","07:58:00","08:26:00","07:09:00","07:35:00","08:08:00",{"$f":"(K$3-E40)*24*60","v":32.999999999999964},{"$f":"(L$3-F40)*24*60","v":32.000000000000043},{"$f":"(M$3-G40)*24*60","v":33.999999999999957},{"$f":"(N$3-H40)*24*60","v":50.999999999999979},{"$f":"(O$3-I40)*24*60","v":55.000000000000043},{"$f":"(P$3-J40)*24*60","v":52.000000000000057},{"$f":"AVERAGE(K40:M40)","v":32.999999999999986},{"$f":"AVERAGE(N40:P40)","v":52.666666666666693},{"$f":"100-_xlfn.PERCENTRANK.INC(Q$4:Q$96,Q40)*100","v":63.1},{"$f":"100-_xlfn.PERCENTRANK.INC(R$4:R$96,R40)*100","v":30.5},199,"×",{"$f":"100-_xlfn.PERCENTRANK.INC(U$4:U$96,U40)*100","v":3.2999999999999972},6.38,11.32,{"$f":"100-_xlfn.PERCENTRANK.INC(X$4:X$96,X40)*100","v":60.9},{"$f":"100-_xlfn.PERCENTRANK.INC(Y$4:Y$96,Y40)*100","v":52.2},"○",{"$f":"VLOOKUP(AB40,配点根拠!$G$3:$H$7,2,0)","v":80}]
["東名高速道路","横浜町田","東急田園都市線","南町田","06:53:00","07:24:00","07:50:00","06:53:00","07:24:00","07:55:00",{"$f":"(K$3-E41)*24*60","v":67},{"$f":"(L$3-F41)*24*60","v":66},{"$f":"(M$3-G41)*24*60","v":69.999999999999986},{"$f":"(N$3-H41)*24*60","v":67},{"$f":"(O$3-I41)*24*60","v":66},{"$f":"(P$3-J41)*24*60","v":65.000000000000014},{"$f":"AVERAGE(K41:M41)","v":67.666666666666671},{"$f":"AVERAGE(N41:P41)","v":66},{"$f":"100-_xlfn.PERCENTRANK.INC(Q$4:Q$96,Q41)*100","v":1.0999999999999943},{"$f":"100-_xlfn.PERCENTRANK.INC(R$4:R$96,R41)*100","v":5.5},182,"×",{"$f":"100-_xlfn.PERCENTRANK.INC(U$4:U$96,U41)*100","v":26.099999999999994},6.41,9.5399999999999991,{"$f":"100-_xlfn.PERCENTRANK.INC(X$4:X$96,X41)*100","v":59.8},{"$f":"100-_xlfn.PERCENTRANK.INC(Y$4:Y$96,Y41)*100","v":72.900000000000006},"◎",{"$f":"VLOOKUP(AB41,配点根拠!$G$3:$H$7,2,0)","v":100}]
["首都高K1号横羽線","生麦","京急本線","生麦","07:14:00","07:44:00","08:10:00","07:00:00","07:30:00","08:00:00",{"$f":"(K$3-E42)*24*60","v":46},{"$f":"(L$3-F42)*24*60","v":46},{"$f":"(M$3-G42)*24*60","v":50.000000000000064},{"$f":"(N$3-H42)*24*60","v":59.999999999999943},{"$f":"(O$3-I42)*24*60","v":60.000000000000028},{"$f":"(P$3-J42)*24*60","v":60.000000000000028},{"$f":"AVERAGE(K42:M42)","v":47.33333333333335},{"$f":"AVERAGE(N42:P42)","v":60},{"$f":"100-_xlfn.PERCENTRANK.INC(Q$4:Q$96,Q42)*100","v":21.799999999999997},{"$f":"100-_xlfn.PERCENTRANK.INC(R$4:R$96,R42)*100","v":19.599999999999994},143,"×",{"$f":"100-_xlfn.PERCENTRANK.INC(U$4:U$96,U42)*100","v":70.7},6.41,11.79,{"$f":"100-_xlfn.PERCENTRANK.INC(X$4:X$96,X42)*100","v":59.8},{"$f":"100-_xlfn.PERCENTRANK.INC(Y$4:Y$96,Y42)*100","v":44.599999999999994},"△",{"$f":"VLOOKUP(AB42,配点根拠!$G$3:$H$7,2,0)","v":20}]
["首都高7号小松川線","篠崎","都営新宿線","篠崎","07:18:00","07:52:00","08:24:00","07:18:00","07:49:00","08:20:00",{"$f":"(K$3-E43)*24*60","v":42.000000000000014},{"$f":"(L$3-F43)*24*60","v":38.000000000000028},{"$f":"(M$3-G43)*24*60","v":35.99999999999995},{"$f":"(N$3-H43)*24*60","v":42.000000000000014},{"$f":"(O$3-I43)*24*60","v":41.000000000000014},{"$f":"(P$3-J43)*24*60","v":39.999999999999936},{"$f":"AVERAGE(K43:M43)","v":38.666666666666664},{"$f":"AVERAGE(N43:P43)","v":40.999999999999993},{"$f":"100-_xlfn.PERCENTRANK.INC(Q$4:Q$96,Q43)*100","v":52.2},{"$f":"100-_xlfn.PERCENTRANK.INC(R$4:R$96,R43)*100","v":57.7},156,"×",{"$f":"100-_xlfn.PERCENTRANK.INC(U$4:U$96,U43)*100","v":57.7},6.44,11.67,{"$f":"100-_xlfn.PERCENTRANK.INC(X$4:X$96,X43)*100","v":57.7},{"$f":"100-_xlfn.PERCENTRANK.INC(Y$4:Y$96,Y43)*100","v":46.8},"■",{"$f":"VLOOKUP(AB43,配点根拠!$G$3:$H$7,2,0)","v":50}]
["外環道","和光","メトロ有楽町線","和光市","07:16:00","07:48:00","08:16:00","07:29:00","07:59:00","08:28:00",{"$f":"(K$3-E44)*24*60","v":44},{"$f":"(L$3-F44)*24*60","v":42.000000000000014},{"$f":"(M$3-G44)*24*60","v":43.999999999999922},{"$f":"(N$3-H44)*24*60","v":30.999999999999972},{"$f":"(O$3-I44)*24*60","v":31.00000000000005},{"$f":"(P$3-J44)*24*60","v":31.999999999999964},{"$f":"AVERAGE(K44:M44)","v":43.333333333333314},{"$f":"AVERAGE(N44:P44)","v":31.333333333333329},{"$f":"100-_xlfn.PERCENTRANK.INC(Q$4:Q$96,Q44)*100","v":37},{"$f":"100-_xlfn.PERCENTRANK.INC(R$4:R$96,R44)*100","v":81.599999999999994},80,"○",{"$f":"100-_xlfn.PERCENTRANK.INC(U$4:U$96,U44)*100","v":92.4},6.46,11.79,{"$f":"100-_xlfn.PERCENTRANK.INC(X$4:X$96,X44)*100","v":56.6},{"$f":"100-_xlfn.PERCENTRANK.INC(Y$4:Y$96,Y44)*100","v":44.599999999999994},"○",{"$f":"VLOOKUP(AB44,配点根拠!$G$3:$H$7,2,0)","v":80}]
["首都高川口線","鹿浜橋","都営日暮里舎人ライナー","江北","07:28:00","07:58:00","08:28:00","07:18:00","07:48:00","08:18:00",{"$f":"(K$3-E45)*24*60","v":31.999999999999964},{"$f":"(L$3-F45)*24*60","v":32.000000000000043},{"$f":"(M$3-G45)*24*60","v":31.999999999999964},{"$f":"(N$3-H45)*24*60","v":42.000000000000014},{"$f":"(O$3-I45)*24*60","v":42.000000000000014},{"$f":"(P$3-J45)*24*60","v":41.999999999999929},{"$f":"AVERAGE(K45:M45)","v":31.999999999999989},{"$f":"AVERAGE(N45:P45)","v":41.999999999999986},{"$f":"100-_xlfn.PERCENTRANK.INC(Q$4:Q$96,Q45)*100","v":66.400000000000006},{"$f":"100-_xlfn.PERCENTRANK.INC(R$4:R$96,R45)*100","v":54.4},189,"×",{"$f":"100-_xlfn.PERCENTRANK.INC(U$4:U$96,U45)*100","v":10.900000000000006},6.5,13.75,{"$f":"100-_xlfn.PERCENTRANK.INC(X$4:X$96,X45)*100","v":55.5},{"$f":"100-_xlfn.PERCENTRANK.INC(Y$4:Y$96,Y45)*100","v":26.099999999999994},"△",{"$f":"VLOOKUP(AB45,配点根拠!$G$3:$H$7,2,0)","v":20}]
["首都高K1号横羽線","浜川崎","JR南武支線","浜川崎","07:14:00","07:40:00","08:17:00","07:02:00","07:27:00","07:54:00",{"$f":"(K$3-E46)*24*60","v":46},{"$f":"(L$3-F46)*24*60","v":49.999999999999986},{"$f":"(M$3-G46)*24*60","v":43.000000000000007},{"$f":"(N$3-H46)*24*60","v":57.999999999999957},{"$f":"(O$3-I46)*24*60","v":63.000000000000014},{"$f":"(P$3-J46)*24*60","v":66},{"$f":"AVERAGE(K46:M46)","v":46.333333333333336},{"$f":"AVERAGE(N46:P46)","v":62.333333333333321},{"$f":"100-_xlfn.PERCENTRANK.INC(Q$4:Q$96,Q46)*100","v":25},{"$f":"100-_xlfn.PERCENTRANK.INC(R$4:R$96,R46)*100","v":14.200000000000003},50,"◎",{"$f":"100-_xlfn.PERCENTRANK.INC(U$4:U$96,U46)*100","v":100},6.52,10.8,{"$f":"100-_xlfn.PERCENTRANK.INC(X$4:X$96,X46)*100","v":54.4},{"$f":"100-_xlfn.PERCENTRANK.INC(Y$4:Y$96,Y46)*100","v":60.9},"×",{"$f":"VLOOKUP(AB46,配点根拠!$G$3:$H$7,2,0)","v":0}]
["外環道","川口西","JR京浜東北線","蕨","07:26:00","07:56:00","08:22:00","07:28:00","07:56:00","08:27:00",{"$f":"(K$3-E47)*24*60","v":33.999999999999957},{"$f":"(L$3-F47)*24*60","v":34.000000000000043},{"$f":"(M$3-G47)*24*60","v":37.999999999999943},{"$f":"(N$3-H47)*24*60","v":31.999999999999964},{"$f":"(O$3-I47)*24*60","v":34.000000000000043},{"$f":"(P$3-J47)*24*60","v":33.000000000000043},{"$f":"AVERAGE(K47:M47)","v":35.333333333333314},{"$f":"AVERAGE(N47:P47)","v":33.000000000000014},{"$f":"100-_xlfn.PERCENTRANK.INC(Q$4:Q$96,Q47)*100","v":58.7},{"$f":"100-_xlfn.PERCENTRANK.INC(R$4:R$96,R47)*100","v":77.2},171,"×",{"$f":"100-_xlfn.PERCENTRANK.INC(U$4:U$96,U47)*100","v":33.700000000000003},6.56,11.45,{"$f":"100-_xlfn.PERCENTRANK.INC(X$4:X$96,X47)*100","v":53.3},{"$f":"100-_xlfn.PERCENTRANK.INC(Y$4:Y$96,Y47)*100","v":50},"■",{"$f":"VLOOKUP(AB47,配点根拠!$G$3:$H$7,2,0)","v":50}]
["京葉道路","船橋","JR総武線","船橋","07:31:00","08:02:00","08:29:00","07:14:00","07:45:00","08:12:00",{"$f":"(K$3-E48)*24*60","v":28.999999999999979},{"$f":"(L$3-F48)*24*60","v":28.00000000000006},{"$f":"(M$3-G48)*24*60","v":31.00000000000005},{"$f":"(N$3-H48)*24*60","v":46},{"$f":"(O$3-I48)*24*60","v":45},{"$f":"(P$3-J48)*24*60","v":48.000000000000071},{"$f":"AVERAGE(K48:M48)","v":29.333333333333361},{"$f":"AVERAGE(N48:P48)","v":46.33333333333335},{"$f":"100-_xlfn.PERCENTRANK.INC(Q$4:Q$96,Q48)*100","v":70.7},{"$f":"100-_xlfn.PERCENTRANK.INC(R$4:R$96,R48)*100","v":47.9},181,"△",{"$f":"100-_xlfn.PERCENTRANK.INC(U$4:U$96,U48)*100","v":30.5},6.62,11.93,{"$f":"100-_xlfn.PERCENTRANK.INC(X$4:X$96,X48)*100","v":52.2},{"$f":"100-_xlfn.PERCENTRANK.INC(Y$4:Y$96,Y48)*100","v":39.200000000000003},"◎",{"$f":"VLOOKUP(AB48,配点根拠!$G$3:$H$7,2,0)","v":100}]
["京葉道路","京葉市川","都営新宿線","本八幡","07:15:00","07:49:00","08:20:00","07:15:00","07:45:00","08:16:00",{"$f":"(K$3-E49)*24*60","v":45},{"$f":"(L$3-F49)*24*60","v":41.000000000000014},{"$f":"(M$3-G49)*24*60","v":39.999999999999936},{"$f":"(N$3-H49)*24*60","v":45},{"$f":"(O$3-I49)*24*60","v":45},{"$f":"(P$3-J49)*24*60","v":43.999999999999922},{"$f":"AVERAGE(K49:M49)","v":41.999999999999979},{"$f":"AVERAGE(N49:P49)","v":44.666666666666636},{"$f":"100-_xlfn.PERCENTRANK.INC(Q$4:Q$96,Q49)*100","v":39.200000000000003},{"$f":"100-_xlfn.PERCENTRANK.INC(R$4:R$96,R49)*100","v":50},50,"◎",{"$f":"100-_xlfn.PERCENTRANK.INC(U$4:U$96,U49)*100","v":100},6.62,11.1,{"$f":"100-_xlfn.PERCENTRANK.INC(X$4:X$96,X49)*100","v":52.2},{"$f":"100-_xlfn.PERCENTRANK.INC(Y$4:Y$96,Y49)*100","v":57.7},"○",{"$f":"VLOOKUP(AB49,配点根拠!$G$3:$H$7,2,0)","v":80}]
["首都高中央環状線","船堀橋","都営新宿線","東大島","07:28:00","08:03:00","08:34:00","07:28:00","07:59:00","08:30:00",{"$f":"(K$3-E50)*24*60","v":31.999999999999964},{"$f":"(L$3-F50)*24*60","v":26.999999999999986},{"$f":"(M$3-G50)*24*60","v":25.999999999999986},{"$f":"(N$3-H50)*24*60","v":31.999999999999964},{"$f":"(O$3-I50)*24*60","v":31.00000000000005},{"$f":"(P$3-J50)*24*60","v":29.999999999999972},{"$f":"AVERAGE(K50:M50)","v":28.333333333333314},{"$f":"AVERAGE(N50:P50)","v":30.999999999999996},{"$f":"100-_xlfn.PERCENTRANK.INC(Q$4:Q$96,Q50)*100","v":75},{"$f":"100-_xlfn.PERCENTRANK.INC(R$4:R$96,R50)*100","v":82.7},156,"×",{"$f":"100-_xlfn.PERCENTRANK.INC(U$4:U$96,U50)*100","v":57.7},6.64,17.600000000000001,{"$f":"100-_xlfn.PERCENTRANK.INC(X$4:X$96,X50)*100","v":50},{"$f":"100-_xlfn.PERCENTRANK.INC(Y$4:Y$96,Y50)*100","v":14.200000000000003},"■",{"$f":"VLOOKUP(AB50,配点根拠!$G$3:$H$7,2,0)","v":50}]
["首都高中央環状線","扇大橋","都営日暮里舎人ライナー","扇大橋","07:32:00","08:02:00","08:32:00","07:22:00","07:52:00","08:22:00",{"$f":"(K$3-E51)*24*60","v":27.999999999999979},{"$f":"(L$3-F51)*24*60","v":28.00000000000006},{"$f":"(M$3-G51)*24*60","v":27.999999999999979},{"$f":"(N$3-H51)*24*60","v":38.000000000000028},{"$f":"(O$3-I51)*24*60","v":38.000000000000028},{"$f":"(P$3-J51)*24*60","v":37.999999999999943},{"$f":"AVERAGE(K51:M51)","v":28.000000000000011},{"$f":"AVERAGE(N51:P51)","v":38},{"$f":"100-_xlfn.PERCENTRANK.INC(Q$4:Q$96,Q51)*100","v":76.099999999999994},{"$f":"100-_xlfn.PERCENTRANK.INC(R$4:R$96,R51)*100","v":64.2},189,"×",{"$f":"100-_xlfn.PERCENTRANK.INC(U$4:U$96,U51)*100","v":10.900000000000006},6.65,10.220000000000001,{"$f":"100-_xlfn.PERCENTRANK.INC(X$4:X$96,X51)*100","v":49},{"$f":"100-_xlfn.PERCENTRANK.INC(Y$4:Y$96,Y51)*100","v":67.400000000000006},"■",{"$f":"VLOOKUP(AB51,配点根拠!$G$3:$H$7,2,0)","v":50}]
["首都高7号小松川線","一之江","都営新宿線","一之江","07:24:00","07:57:00","08:29:00","07:24:00","07:54:00","08:25:00",{"$f":"(K$3-E52)*24*60","v":35.99999999999995},{"$f":"(L$3-F52)*24*60","v":33.000000000000043},{"$f":"(M$3-G52)*24*60","v":31.00000000000005},{"$f":"(N$3-H52)*24*60","v":35.99999999999995},{"$f":"(O$3-I52)*24*60","v":36.000000000000028},{"$f":"(P$3-J52)*24*60","v":35.000000000000036},{"$f":"AVERAGE(K52:M52)","v":33.33333333333335},{"$f":"AVERAGE(N52:P52)","v":35.666666666666664},{"$f":"100-_xlfn.PERCENTRANK.INC(Q$4:Q$96,Q52)*100","v":62},{"$f":"100-_xlfn.PERCENTRANK.INC(R$4:R$96,R52)*100","v":70.7},156,"×",{"$f":"100-_xlfn.PERCENTRANK.INC(U$4:U$96,U52)*100","v":57.7},6.68,11.01,{"$f":"100-_xlfn.PERCENTRANK.INC(X$4:X$96,X52)*100","v":47.9},{"$f":"100-_xlfn.PERCENTRANK.INC(Y$4:Y$96,Y52)*100","v":58.7},"△",{"$f":"VLOOKUP(AB52,配点根拠!$G$3:$H$7,2,0)","v":20}]
["首都高中央環状線","四つ木","京成押上線","四ツ木","07:38:00","08:09:00","08:39:00","07:15:00","07:49:00","08:15:00",{"$f":"(K$3-E53)*24*60","v":22},{"$f":"(L$3-F53)*24*60","v":21.000000000000007},{"$f":"(M$3-G53)*24*60","v":21.000000000000007},{"$f":"(N$3-H53)*24*60","v":45},{"$f":"(O$3-I53)*24*60","v":41.000000000000014},{"$f":"(P$3-J53)*24*60","v":45},{"$f":"AVERAGE(K53:M53)","v":21.333333333333339},{"$f":"AVERAGE(N53:P53)","v":43.666666666666664},{"$f":"100-_xlfn.PERCENTRANK.INC(Q$4:Q$96,Q53)*100","v":90.3},{"$f":"100-_xlfn.PERCENTRANK.INC(R$4:R$96,R53)*100","v":52.2},149,"×",{"$f":"100-_xlfn.PERCENTRANK.INC(U$4:U$96,U53)*100","v":65.300000000000011},6.68,11.82,{"$f":"100-_xlfn.PERCENTRANK.INC(X$4:X$96,X53)*100","v":47.9},{"$f":"100-_xlfn.PERCENTRANK.INC(Y$4:Y$96,Y53)*100","v":41.400000000000006},"■",{"$f":"VLOOKUP(AB53,配点根拠!$G$3:$H$7,2,0)","v":50}]
["首都高湾岸線","浦安","JR京葉線","新浦安","07:36:00","08:03:00","08:35:00","07:09:00","07:36:00","08:03:00",{"$f":"(K$3-E54)*24*60","v":23.999999999999993},{"$f":"(L$3-F54)*24*60","v":26.999999999999986},{"$f":"(M$3-G54)*24*60","v":24.999999999999993},{"$f":"(N$3-H54)*24*60","v":50.999999999999979},{"$f":"(O$3-I54)*24*60","v":54.00000000000005},{"$f":"(P$3-J54)*24*60","v":56.999999999999957},{"$f":"AVERAGE(K54:M54)","v":25.333333333333325},{"$f":"AVERAGE(N54:P54)","v":54},{"$f":"100-_xlfn.PERCENTRANK.INC(Q$4:Q$96,Q54)*100","v":80.5},{"$f":"100-_xlfn.PERCENTRANK.INC(R$4:R$96,R54)*100","v":28.299999999999997},166,"×",{"$f":"100-_xlfn.PERCENTRANK.INC(U$4:U$96,U54)*100","v":42.400000000000006},6.74,10.36,{"$f":"100-_xlfn.PERCENTRANK.INC(X$4:X$96,X54)*100","v":45.699999999999996},{"$f":"100-_xlfn.PERCENTRANK.INC(Y$4:Y$96,Y54)*100","v":64.2},"○",{"$f":"VLOOKUP(AB54,配点根拠!$G$3:$H$7,2,0)","v":80}]
["首都高S新都心線","新都心","JR上野東京ライン","さいたま新都心","07:26:00","07:56:00","08:23:00","07:26:00","07:50:00","08:23:00",{"$f":"(K$3-E55)*24*60","v":33.999999999999957},{"$f":"(L$3-F55)*24*60","v":34.000000000000043},{"$f":"(M$3-G55)*24*60","v":37.000000000000028},{"$f":"(N$3-H55)*24*60","v":33.999999999999957},{"$f":"(O$3-I55)*24*60","v":40.000000000000014},{"$f":"(P$3-J55)*24*60","v":37.000000000000028},{"$f":"AVERAGE(K55:M55)","v":35.000000000000007},{"$f":"AVERAGE(N55:P55)","v":37},{"$f":"100-_xlfn.PERCENTRANK.INC(Q$4:Q$96,Q55)*100","v":59.8},{"$f":"100-_xlfn.PERCENTRANK.INC(R$4:R$96,R55)*100","v":68.5},164,"×",{"$f":"100-_xlfn.PERCENTRANK.INC(U$4:U$96,U55)*100","v":50},6.76,14.53,{"$f":"100-_xlfn.PERCENTRANK.INC(X$4:X$96,X55)*100","v":44.599999999999994},{"$f":"100-_xlfn.PERCENTRANK.INC(Y$4:Y$96,Y55)*100","v":24},"◎",{"$f":"VLOOKUP(AB55,配点根拠!$G$3:$H$7,2,0)","v":100}]
["首都高K3号狩場線","阪東橋","横浜地下鉄ブルーライン","阪東橋","07:12:00","07:38:00","08:09:00","07:04:00","07:33:00","08:01:00",{"$f":"(K$3-E56)*24*60","v":47.999999999999986},{"$f":"(L$3-F56)*24*60","v":52.000000000000057},{"$f":"(M$3-G56)*24*60","v":50.999999999999979},{"$f":"(N$3-H56)*24*60","v":55.999999999999957},{"$f":"(O$3-I56)*24*60","v":57.000000000000036},{"$f":"(P$3-J56)*24*60","v":58.99999999999995},{"$f":"AVERAGE(K56:M56)","v":50.333333333333343},{"$f":"AVERAGE(N56:P56)","v":57.333333333333314},{"$f":"100-_xlfn.PERCENTRANK.INC(Q$4:Q$96,Q56)*100","v":15.299999999999997},{"$f":"100-_xlfn.PERCENTRANK.INC(R$4:R$96,R56)*100","v":24},140,"×",{"$f":"100-_xlfn.PERCENTRANK.INC(U$4:U$96,U56)*100","v":71.800000000000011},6.76,11.96,{"$f":"100-_xlfn.PERCENTRANK.INC(X$4:X$96,X56)*100","v":44.599999999999994},{"$f":"100-_xlfn.PERCENTRANK.INC(Y$4:Y$96,Y56)*100","v":38.1},"△",{"$f":"VLOOKUP(AB56,配点根拠!$G$3:$H$7,2,0)","v":20}]
["首都高6号三郷線","八潮","つくばエクスプレス","八潮","07:20:00","07:52:00","08:23:00","07:09:00","07:38:00","08:05:00",{"$f":"(K$3-E57)*24*60","v":40.000000000000014},{"$f":"(L$3-F57)*24*60","v":38.000000000000028},{"$f":"(M$3-G57)*24*60","v":37.000000000000028},{"$f":"(N$3-H57)*24*60","v":50.999999999999979},{"$f":"(O$3-I57)*24*60","v":52.000000000000057},{"$f":"(P$3-J57)*24*60","v":54.999999999999964},{"$f":"AVERAGE(K57:M57)","v":38.333333333333357},{"$f":"AVERAGE(N57:P57)","v":52.666666666666664},{"$f":"100-_xlfn.PERCENTRANK.INC(Q$4:Q$96,Q57)*100","v":53.3},{"$f":"100-_xlfn.PERCENTRANK.INC(R$4:R$96,R57)*100","v":31.599999999999994},80,"○",{"$f":"100-_xlfn.PERCENTRANK.INC(U$4:U$96,U57)*100","v":92.4},6.79,10.78,{"$f":"100-_xlfn.PERCENTRANK.INC(X$4:X$96,X57)*100","v":42.400000000000006},{"$f":"100-_xlfn.PERCENTRANK.INC(Y$4:Y$96,Y57)*100","v":62},"◎",{"$f":"VLOOKUP(AB57,配点根拠!$G$3:$H$7,2,0)","v":100}]
["外環道","市川中央","JR総武線","市川","07:37:00","08:08:00","08:35:00","07:20:00","07:51:00","08:19:00",{"$f":"(K$3-E58)*24*60","v":22.999999999999918},{"$f":"(L$3-F58)*24*60","v":22.000000000000082},{"$f":"(M$3-G58)*24*60","v":24.999999999999993},{"$f":"(N$3-H58)*24*60","v":40.000000000000014},{"$f":"(O$3-I58)*24*60","v":39.000000000000021},{"$f":"(P$3-J58)*24*60","v":41.000000000000014},{"$f":"AVERAGE(K58:M58)","v":23.333333333333332},{"$f":"AVERAGE(N58:P58)","v":40.000000000000014},{"$f":"100-_xlfn.PERCENTRANK.INC(Q$4:Q$96,Q58)*100","v":84.8},{"$f":"100-_xlfn.PERCENTRANK.INC(R$4:R$96,R58)*100","v":62},181,"×",{"$f":"100-_xlfn.PERCENTRANK.INC(U$4:U$96,U58)*100","v":30.5},6.85,13.25,{"$f":"100-_xlfn.PERCENTRANK.INC(X$4:X$96,X58)*100","v":41.400000000000006},{"$f":"100-_xlfn.PERCENTRANK.INC(Y$4:Y$96,Y58)*100","v":29.400000000000006},"○",{"$f":"VLOOKUP(AB58,配点根拠!$G$3:$H$7,2,0)","v":80}]
["首都高6号三郷線","三郷","つくばエクスプレス","三郷中央","07:16:00","07:48:00","08:19:00","07:05:00","07:35:00","08:01:00",{"$f":"(K$3-E59)*24*60","v":44},{"$f":"(L$3-F59)*24*60","v":42.000000000000014},{"$f":"(M$3-G59)*24*60","v":41.000000000000014},{"$f":"(N$3-H59)*24*60","v":54.999999999999964},{"$f":"(O$3-I59)*24*60","v":55.000000000000043},{"$f":"(P$3-J59)*24*60","v":58.99999999999995},{"$f":"AVERAGE(K59:M59)","v":42.333333333333343},{"$f":"AVERAGE(N59:P59)","v":56.333333333333314},{"$f":"100-_xlfn.PERCENTRANK.INC(Q$4:Q$96,Q59)*100","v":38.1},{"$f":"100-_xlfn.PERCENTRANK.INC(R$4:R$96,R59)*100","v":25},169,"×",{"$f":"100-_xlfn.PERCENTRANK.INC(U$4:U$96,U59)*100","v":38.1},6.88,8.5,{"$f":"100-_xlfn.PERCENTRANK.INC(X$4:X$96,X59)*100","v":40.300000000000004},{"$f":"100-_xlfn.PERCENTRANK.INC(Y$4:Y$96,Y59)*100","v":88.1},"○",{"$f":"VLOOKUP(AB59,配点根拠!$G$3:$H$7,2,0)","v":80}]
["首都高K1号横羽線","子安","JR京浜東北線","新子安","07:26:00","07:53:00","08:22:00","07:11:00","07:39:00","08:09:00",{"$f":"(K$3-E60)*24*60","v":33.999999999999957},{"$f":"(L$3-F60)*24*60","v":37.000000000000028},{"$f":"(M$3-G60)*24*60","v":37.999999999999943},{"$f":"(N$3-H60)*24*60","v":48.999999999999986},{"$f":"(O$3-I60)*24*60","v":50.999999999999979},{"$f":"(P$3-J60)*24*60","v":50.999999999999979},{"$f":"AVERAGE(K60:M60)","v":36.333333333333307},{"$f":"AVERAGE(N60:P60)","v":50.333333333333314},{"$f":"100-_xlfn.PERCENTRANK.INC(Q$4:Q$96,Q60)*100","v":57.7},{"$f":"100-_xlfn.PERCENTRANK.INC(R$4:R$96,R60)*100","v":34.799999999999997},185,"×",{"$f":"100-_xlfn.PERCENTRANK.INC(U$4:U$96,U60)*100","v":13.099999999999994},7.02,11.22,{"$f":"100-_xlfn.PERCENTRANK.INC(X$4:X$96,X60)*100","v":39.200000000000003},{"$f":"100-_xlfn.PERCENTRANK.INC(Y$4:Y$96,Y60)*100","v":53.3},"■",{"$f":"VLOOKUP(AB60,配点根拠!$G$3:$H$7,2,0)","v":50}]
["東名高速道路","横浜青葉","東急田園都市線","市が尾","06:59:00","07:30:00","07:56:00","06:59:00","07:30:00","07:56:00",{"$f":"(K$3-E61)*24*60","v":60.999999999999943},{"$f":"(L$3-F61)*24*60","v":60.000000000000028},{"$f":"(M$3-G61)*24*60","v":64.000000000000014},{"$f":"(N$3-H61)*24*60","v":60.999999999999943},{"$f":"(O$3-I61)*24*60","v":60.000000000000028},{"$f":"(P$3-J61)*24*60","v":64.000000000000014},{"$f":"AVERAGE(K61:M61)","v":61.666666666666664},{"$f":"AVERAGE(N61:P61)","v":61.666666666666664},{"$f":"100-_xlfn.PERCENTRANK.INC(Q$4:Q$96,Q61)*100","v":3.2999999999999972},{"$f":"100-_xlfn.PERCENTRANK.INC(R$4:R$96,R61)*100","v":16.400000000000006},182,"×",{"$f":"100-_xlfn.PERCENTRANK.INC(U$4:U$96,U61)*100","v":26.099999999999994},7.03,11.34,{"$f":"100-_xlfn.PERCENTRANK.INC(X$4:X$96,X61)*100","v":38.1},{"$f":"100-_xlfn.PERCENTRANK.INC(Y$4:Y$96,Y61)*100","v":51.1},"■",{"$f":"VLOOKUP(AB61,配点根拠!$G$3:$H$7,2,0)","v":50}]
["京葉道路","原木","メトロ東西線","西船橋","07:19:00","07:49:00","08:24:00","07:11:00","07:44:00","08:11:00",{"$f":"(K$3-E62)*24*60","v":41.000000000000014},{"$f":"(L$3-F62)*24*60","v":41.000000000000014},{"$f":"(M$3-G62)*24*60","v":35.99999999999995},{"$f":"(N$3-H62)*24*60","v":48.999999999999986},{"$f":"(O$3-I62)*24*60","v":46},{"$f":"(P$3-J62)*24*60","v":48.999999999999986},{"$f":"AVERAGE(K62:M62)","v":39.333333333333321},{"$f":"AVERAGE(N62:P62)","v":47.999999999999993},{"$f":"100-_xlfn.PERCENTRANK.INC(Q$4:Q$96,Q62)*100","v":47.9},{"$f":"100-_xlfn.PERCENTRANK.INC(R$4:R$96,R62)*100","v":45.699999999999996},80,"○",{"$f":"100-_xlfn.PERCENTRANK.INC(U$4:U$96,U62)*100","v":92.4},7.03,11.75,{"$f":"100-_xlfn.PERCENTRANK.INC(X$4:X$96,X62)*100","v":38.1},{"$f":"100-_xlfn.PERCENTRANK.INC(Y$4:Y$96,Y62)*100","v":45.699999999999996},"○",{"$f":"VLOOKUP(AB62,配点根拠!$G$3:$H$7,2,0)","v":80}]
["首都高中央環状線","船堀橋","都営新宿線","船堀","07:26:00","08:00:00","08:31:00","07:26:00","07:56:00","08:27:00",{"$f":"(K$3-E63)*24*60","v":33.999999999999957},{"$f":"(L$3-F63)*24*60","v":30.000000000000053},{"$f":"(M$3-G63)*24*60","v":28.999999999999979},{"$f":"(N$3-H63)*24*60","v":33.999999999999957},{"$f":"(O$3-I63)*24*60","v":34.000000000000043},{"$f":"(P$3-J63)*24*60","v":33.000000000000043},{"$f":"AVERAGE(K63:M63)","v":31},{"$f":"AVERAGE(N63:P63)","v":33.666666666666679},{"$f":"100-_xlfn.PERCENTRANK.INC(Q$4:Q$96,Q63)*100","v":68.5},{"$f":"100-_xlfn.PERCENTRANK.INC(R$4:R$96,R63)*100","v":75},156,"×",{"$f":"100-_xlfn.PERCENTRANK.INC(U$4:U$96,U63)*100","v":57.7},7.14,13.98,{"$f":"100-_xlfn.PERCENTRANK.INC(X$4:X$96,X63)*100","v":35.900000000000006},{"$f":"100-_xlfn.PERCENTRANK.INC(Y$4:Y$96,Y63)*100","v":25},"■",{"$f":"VLOOKUP(AB63,配点根拠!$G$3:$H$7,2,0)","v":50}]
["首都高中央環状線","平井大橋","JR総武線","平井","07:38:00","08:09:00","08:35:00","07:30:00","08:02:00","08:29:00",{"$f":"(K$3-E64)*24*60","v":22},{"$f":"(L$3-F64)*24*60","v":21.000000000000007},{"$f":"(M$3-G64)*24*60","v":24.999999999999993},{"$f":"(N$3-H64)*24*60","v":29.999999999999972},{"$f":"(O$3-I64)*24*60","v":28.00000000000006},{"$f":"(P$3-J64)*24*60","v":31.00000000000005},{"$f":"AVERAGE(K64:M64)","v":22.666666666666668},{"$f":"AVERAGE(N64:P64)","v":29.666666666666696},{"$f":"100-_xlfn.PERCENTRANK.INC(Q$4:Q$96,Q64)*100","v":89.2},{"$f":"100-_xlfn.PERCENTRANK.INC(R$4:R$96,R64)*100","v":83.7},196,"×",{"$f":"100-_xlfn.PERCENTRANK.INC(U$4:U$96,U64)*100","v":7.6999999999999886},7.19,12.59,{"$f":"100-_xlfn.PERCENTRANK.INC(X$4:X$96,X64)*100","v":34.799999999999997},{"$f":"100-_xlfn.PERCENTRANK.INC(Y$4:Y$96,Y64)*100","v":34.799999999999997},"■",{"$f":"VLOOKUP(AB64,配点根拠!$G$3:$H$7,2,0)","v":50}]
["首都高中央環状線","平井大橋","JR総武線","新小岩","07:43:00","08:14:00","08:41:00","07:27:00","07:59:00","08:26:00",{"$f":"(K$3-E65)*24*60","v":16.99999999999994},{"$f":"(L$3-F65)*24*60","v":16.000000000000103},{"$f":"(M$3-G65)*24*60","v":19.000000000000014},{"$f":"(N$3-H65)*24*60","v":32.999999999999964},{"$f":"(O$3-I65)*24*60","v":31.00000000000005},{"$f":"(P$3-J65)*24*60","v":33.999999999999957},{"$f":"AVERAGE(K65:M65)","v":17.333333333333353},{"$f":"AVERAGE(N65:P65)","v":32.666666666666657},{"$f":"100-_xlfn.PERCENTRANK.INC(Q$4:Q$96,Q65)*100","v":94.6},{"$f":"100-_xlfn.PERCENTRANK.INC(R$4:R$96,R65)*100","v":78.3},181,"×",{"$f":"100-_xlfn.PERCENTRANK.INC(U$4:U$96,U65)*100","v":30.5},7.21,12.81,{"$f":"100-_xlfn.PERCENTRANK.INC(X$4:X$96,X65)*100","v":33.700000000000003},{"$f":"100-_xlfn.PERCENTRANK.INC(Y$4:Y$96,Y65)*100","v":32.699999999999989},"■",{"$f":"VLOOKUP(AB65,配点根拠!$G$3:$H$7,2,0)","v":50}]
["首都高中央環状線","清新町","メトロ東西線","西葛西","07:40:00","08:10:00","08:41:00","07:21:00","07:49:00","08:20:00",{"$f":"(K$3-E66)*24*60","v":19.999999999999929},{"$f":"(L$3-F66)*24*60","v":20.000000000000089},{"$f":"(M$3-G66)*24*60","v":19.000000000000014},{"$f":"(N$3-H66)*24*60","v":39.000000000000021},{"$f":"(O$3-I66)*24*60","v":41.000000000000014},{"$f":"(P$3-J66)*24*60","v":39.999999999999936},{"$f":"AVERAGE(K66:M66)","v":19.666666666666675},{"$f":"AVERAGE(N66:P66)","v":39.999999999999993},{"$f":"100-_xlfn.PERCENTRANK.INC(Q$4:Q$96,Q66)*100","v":91.4},{"$f":"100-_xlfn.PERCENTRANK.INC(R$4:R$96,R66)*100","v":63.1},199,"×",{"$f":"100-_xlfn.PERCENTRANK.INC(U$4:U$96,U66)*100","v":3.2999999999999972},7.25,11.61,{"$f":"100-_xlfn.PERCENTRANK.INC(X$4:X$96,X66)*100","v":32.699999999999989},{"$f":"100-_xlfn.PERCENTRANK.INC(Y$4:Y$96,Y66)*100","v":47.9},"■",{"$f":"VLOOKUP(AB66,配点根拠!$G$3:$H$7,2,0)","v":50}]
["首都高6号向島線","堤通","東武スカイツリーライン","鐘ヶ淵","07:33:00","07:59:00","08:25:00","07:13:00","07:45:00","08:04:00",{"$f":"(K$3-E67)*24*60","v":26.999999999999986},{"$f":"(L$3-F67)*24*60","v":31.00000000000005},{"$f":"(M$3-G67)*24*60","v":35.000000000000036},{"$f":"(N$3-H67)*24*60","v":46.999999999999993},{"$f":"(O$3-I67)*24*60","v":45},{"$f":"(P$3-J67)*24*60","v":56.000000000000043},{"$f":"AVERAGE(K67:M67)","v":31.000000000000025},{"$f":"AVERAGE(N67:P67)","v":49.33333333333335},{"$f":"100-_xlfn.PERCENTRANK.INC(Q$4:Q$96,Q67)*100","v":67.400000000000006},{"$f":"100-_xlfn.PERCENTRANK.INC(R$4:R$96,R67)*100","v":39.200000000000003},150,"×",{"$f":"100-_xlfn.PERCENTRANK.INC(U$4:U$96,U67)*100","v":63.1},7.26,13.05,{"$f":"100-_xlfn.PERCENTRANK.INC(X$4:X$96,X67)*100","v":31.599999999999994},{"$f":"100-_xlfn.PERCENTRANK.INC(Y$4:Y$96,Y67)*100","v":31.599999999999994},"△",{"$f":"VLOOKUP(AB67,配点根拠!$G$3:$H$7,2,0)","v":20}]
["首都高中央環状線","王子北","JR京浜東北線","王子","07:36:00","08:09:00","08:37:00","07:33:00","08:04:00","08:34:00",{"$f":"(K$3-E68)*24*60","v":23.999999999999993},{"$f":"(L$3-F68)*24*60","v":21.000000000000007},{"$f":"(M$3-G68)*24*60","v":23},{"$f":"(N$3-H68)*24*60","v":26.999999999999986},{"$f":"(O$3-I68)*24*60","v":26.000000000000068},{"$f":"(P$3-J68)*24*60","v":25.999999999999986},{"$f":"AVERAGE(K68:M68)","v":22.666666666666668},{"$f":"AVERAGE(N68:P68)","v":26.333333333333346},{"$f":"100-_xlfn.PERCENTRANK.INC(Q$4:Q$96,Q68)*100","v":89.2},{"$f":"100-_xlfn.PERCENTRANK.INC(R$4:R$96,R68)*100","v":88.1},171,"×",{"$f":"100-_xlfn.PERCENTRANK.INC(U$4:U$96,U68)*100","v":33.700000000000003},7.3,15.15,{"$f":"100-_xlfn.PERCENTRANK.INC(X$4:X$96,X68)*100","v":30.5},{"$f":"100-_xlfn.PERCENTRANK.INC(Y$4:Y$96,Y68)*100","v":22.899999999999991},"■",{"$f":"VLOOKUP(AB68,配点根拠!$G$3:$H$7,2,0)","v":50}]
["首都高4号新宿線","高井戸","京王線","八幡山","07:15:00","07:46:00","08:12:00","07:40:00","08:05:00","08:39:00",{"$f":"(K$3-E69)*24*60","v":45},{"$f":"(L$3-F69)*24*60","v":44},{"$f":"(M$3-G69)*24*60","v":48.000000000000071},{"$f":"(N$3-H69)*24*60","v":19.999999999999929},{"$f":"(O$3-I69)*24*60","v":24.999999999999993},{"$f":"(P$3-J69)*24*60","v":21.000000000000007},{"$f":"AVERAGE(K69:M69)","v":45.666666666666686},{"$f":"AVERAGE(N69:P69)","v":21.999999999999975},{"$f":"100-_xlfn.PERCENTRANK.INC(Q$4:Q$96,Q69)*100","v":28.299999999999997},{"$f":"100-_xlfn.PERCENTRANK.INC(R$4:R$96,R69)*100","v":94.6},165,"×",{"$f":"100-_xlfn.PERCENTRANK.INC(U$4:U$96,U69)*100","v":49},7.3,17.84,{"$f":"100-_xlfn.PERCENTRANK.INC(X$4:X$96,X69)*100","v":30.5},{"$f":"100-_xlfn.PERCENTRANK.INC(Y$4:Y$96,Y69)*100","v":13.099999999999994},"■",{"$f":"VLOOKUP(AB69,配点根拠!$G$3:$H$7,2,0)","v":50}]
["東名高速道路","東名川崎","東急田園都市線","宮前平","07:13:00","07:39:00","08:05:00","07:13:00","07:39:00","08:05:00",{"$f":"(K$3-E70)*24*60","v":46.999999999999993},{"$f":"(L$3-F70)*24*60","v":50.999999999999979},{"$f":"(M$3-G70)*24*60","v":54.999999999999964},{"$f":"(N$3-H70)*24*60","v":46.999999999999993},{"$f":"(O$3-I70)*24*60","v":50.999999999999979},{"$f":"(P$3-J70)*24*60","v":54.999999999999964},{"$f":"AVERAGE(K70:M70)","v":50.999999999999979},{"$f":"AVERAGE(N70:P70)","v":50.999999999999979},{"$f":"100-_xlfn.PERCENTRANK.INC(Q$4:Q$96,Q70)*100","v":13.099999999999994},{"$f":"100-_xlfn.PERCENTRANK.INC(R$4:R$96,R70)*100","v":32.699999999999989},182,"×",{"$f":"100-_xlfn.PERCENTRANK.INC(U$4:U$96,U70)*100","v":26.099999999999994},7.33,11.81,{"$f":"100-_xlfn.PERCENTRANK.INC(X$4:X$96,X70)*100","v":28.299999999999997},{"$f":"100-_xlfn.PERCENTRANK.INC(Y$4:Y$96,Y70)*100","v":42.400000000000006},"■",{"$f":"VLOOKUP(AB70,配点根拠!$G$3:$H$7,2,0)","v":50}]
["常磐自動車道","流山","つくばエクスプレス","流山おおたかの森","07:09:00","07:40:00","08:12:00","06:57:00","07:28:00","07:54:00",{"$f":"(K$3-E71)*24*60","v":50.999999999999979},{"$f":"(L$3-F71)*24*60","v":49.999999999999986},{"$f":"(M$3-G71)*24*60","v":48.000000000000071},{"$f":"(N$3-H71)*24*60","v":62.999999999999936},{"$f":"(O$3-I71)*24*60","v":62.000000000000021},{"$f":"(P$3-J71)*24*60","v":66},{"$f":"AVERAGE(K71:M71)","v":49.666666666666686},{"$f":"AVERAGE(N71:P71)","v":63.66666666666665},{"$f":"100-_xlfn.PERCENTRANK.INC(Q$4:Q$96,Q71)*100","v":18.5},{"$f":"100-_xlfn.PERCENTRANK.INC(R$4:R$96,R71)*100","v":10.900000000000006},169,"×",{"$f":"100-_xlfn.PERCENTRANK.INC(U$4:U$96,U71)*100","v":38.1},7.47,12.54,{"$f":"100-_xlfn.PERCENTRANK.INC(X$4:X$96,X71)*100","v":27.200000000000003},{"$f":"100-_xlfn.PERCENTRANK.INC(Y$4:Y$96,Y71)*100","v":35.900000000000006},"◎",{"$f":"VLOOKUP(AB71,配点根拠!$G$3:$H$7,2,0)","v":100}]
["首都高5号池袋線","中台","都営三田線","志村三丁目","07:31:00","08:02:00","08:32:00","07:31:00","07:53:00","08:24:00",{"$f":"(K$3-E72)*24*60","v":28.999999999999979},{"$f":"(L$3-F72)*24*60","v":28.00000000000006},{"$f":"(M$3-G72)*24*60","v":27.999999999999979},{"$f":"(N$3-H72)*24*60","v":28.999999999999979},{"$f":"(O$3-I72)*24*60","v":37.000000000000028},{"$f":"(P$3-J72)*24*60","v":35.99999999999995},{"$f":"AVERAGE(K72:M72)","v":28.333333333333343},{"$f":"AVERAGE(N72:P72)","v":33.999999999999979},{"$f":"100-_xlfn.PERCENTRANK.INC(Q$4:Q$96,Q72)*100","v":74},{"$f":"100-_xlfn.PERCENTRANK.INC(R$4:R$96,R72)*100","v":74},158,"×",{"$f":"100-_xlfn.PERCENTRANK.INC(U$4:U$96,U72)*100","v":52.2},7.51,12.08,{"$f":"100-_xlfn.PERCENTRANK.INC(X$4:X$96,X72)*100","v":26.099999999999994},{"$f":"100-_xlfn.PERCENTRANK.INC(Y$4:Y$96,Y72)*100","v":37},"◎",{"$f":"VLOOKUP(AB72,配点根拠!$G$3:$H$7,2,0)","v":100}]
["首都高6号三郷線","加平","つくばエクスプレス","六町","07:24:00","07:56:00","08:27:00","07:12:00","07:42:00","08:09:00",{"$f":"(K$3-E73)*24*60","v":35.99999999999995},{"$f":"(L$3-F73)*24*60","v":34.000000000000043},{"$f":"(M$3-G73)*24*60","v":33.000000000000043},{"$f":"(N$3-H73)*24*60","v":47.999999999999986},{"$f":"(O$3-I73)*24*60","v":47.999999999999986},{"$f":"(P$3-J73)*24*60","v":50.999999999999979},{"$f":"AVERAGE(K73:M73)","v":34.33333333333335},{"$f":"AVERAGE(N73:P73)","v":48.999999999999979},{"$f":"100-_xlfn.PERCENTRANK.INC(Q$4:Q$96,Q73)*100","v":60.9},{"$f":"100-_xlfn.PERCENTRANK.INC(R$4:R$96,R73)*100","v":43.500000000000007},169,"×",{"$f":"100-_xlfn.PERCENTRANK.INC(U$4:U$96,U73)*100","v":38.1},7.58,11.86,{"$f":"100-_xlfn.PERCENTRANK.INC(X$4:X$96,X73)*100","v":25},{"$f":"100-_xlfn.PERCENTRANK.INC(Y$4:Y$96,Y73)*100","v":40.300000000000004},"△",{"$f":"VLOOKUP(AB73,配点根拠!$G$3:$H$7,2,0)","v":20}]
["首都高K1号横羽線","東神奈川","JR京浜東北線","東神奈川","07:23:00","07:50:00","08:19:00","07:14:00","07:42:00","08:06:00",{"$f":"(K$3-E74)*24*60","v":36.99999999999995},{"$f":"(L$3-F74)*24*60","v":40.000000000000014},{"$f":"(M$3-G74)*24*60","v":41.000000000000014},{"$f":"(N$3-H74)*24*60","v":46},{"$f":"(O$3-I74)*24*60","v":47.999999999999986},{"$f":"(P$3-J74)*24*60","v":54.00000000000005},{"$f":"AVERAGE(K74:M74)","v":39.333333333333329},{"$f":"AVERAGE(N74:P74)","v":49.333333333333343},{"$f":"100-_xlfn.PERCENTRANK.INC(Q$4:Q$96,Q74)*100","v":46.8},{"$f":"100-_xlfn.PERCENTRANK.INC(R$4:R$96,R74)*100","v":41.400000000000006},185,"△",{"$f":"100-_xlfn.PERCENTRANK.INC(U$4:U$96,U74)*100","v":13.099999999999994},7.66,13.2,{"$f":"100-_xlfn.PERCENTRANK.INC(X$4:X$96,X74)*100","v":24},{"$f":"100-_xlfn.PERCENTRANK.INC(Y$4:Y$96,Y74)*100","v":30.5},"■",{"$f":"VLOOKUP(AB74,配点根拠!$G$3:$H$7,2,0)","v":50}]
["首都高中央環状線","千住新橋","JR常磐線","北千住","07:36:00","08:09:00","08:34:00","07:27:00","07:57:00","08:22:00",{"$f":"(K$3-E75)*24*60","v":23.999999999999993},{"$f":"(L$3-F75)*24*60","v":21.000000000000007},{"$f":"(M$3-G75)*24*60","v":25.999999999999986},{"$f":"(N$3-H75)*24*60","v":32.999999999999964},{"$f":"(O$3-I75)*24*60","v":33.000000000000043},{"$f":"(P$3-J75)*24*60","v":37.999999999999943},{"$f":"AVERAGE(K75:M75)","v":23.666666666666661},{"$f":"AVERAGE(N75:P75)","v":34.66666666666665},{"$f":"100-_xlfn.PERCENTRANK.INC(Q$4:Q$96,Q75)*100","v":82.7},{"$f":"100-_xlfn.PERCENTRANK.INC(R$4:R$96,R75)*100","v":71.800000000000011},154,"△",{"$f":"100-_xlfn.PERCENTRANK.INC(U$4:U$96,U75)*100","v":58.7},7.81,13.4,{"$f":"100-_xlfn.PERCENTRANK.INC(X$4:X$96,X75)*100","v":22.899999999999991},{"$f":"100-_xlfn.PERCENTRANK.INC(Y$4:Y$96,Y75)*100","v":28.299999999999997},"◎",{"$f":"VLOOKUP(AB75,配点根拠!$G$3:$H$7,2,0)","v":100}]
["首都高5号池袋線","板橋本町","都営三田線","板橋本町","07:37:00","08:08:00","08:37:00","07:37:00","07:58:00","08:30:00",{"$f":"(K$3-E76)*24*60","v":22.999999999999918},{"$f":"(L$3-F76)*24*60","v":22.000000000000082},{"$f":"(M$3-G76)*24*60","v":23},{"$f":"(N$3-H76)*24*60","v":22.999999999999918},{"$f":"(O$3-I76)*24*60","v":32.000000000000043},{"$f":"(P$3-J76)*24*60","v":29.999999999999972},{"$f":"AVERAGE(K76:M76)","v":22.666666666666668},{"$f":"AVERAGE(N76:P76)","v":28.333333333333311},{"$f":"100-_xlfn.PERCENTRANK.INC(Q$4:Q$96,Q76)*100","v":89.2},{"$f":"100-_xlfn.PERCENTRANK.INC(R$4:R$96,R76)*100","v":87},158,"×",{"$f":"100-_xlfn.PERCENTRANK.INC(U$4:U$96,U76)*100","v":52.2},7.92,16.3,{"$f":"100-_xlfn.PERCENTRANK.INC(X$4:X$96,X76)*100","v":21.799999999999997},{"$f":"100-_xlfn.PERCENTRANK.INC(Y$4:Y$96,Y76)*100","v":17.400000000000006},"△",{"$f":"VLOOKUP(AB76,配点根拠!$G$3:$H$7,2,0)","v":20}]
["首都高4号新宿線","高井戸","京王井の頭線","高井戸","07:16:00","07:45:00","08:13:00","07:36:00","08:06:00","08:36:00",{"$f":"(K$3-E77)*24*60","v":44},{"$f":"(L$3-F77)*24*60","v":45},{"$f":"(M$3-G77)*24*60","v":46.999999999999993},{"$f":"(N$3-H77)*24*60","v":23.999999999999993},{"$f":"(O$3-I77)*24*60","v":24.000000000000075},{"$f":"(P$3-J77)*24*60","v":23.999999999999993},{"$f":"AVERAGE(K77:M77)","v":45.333333333333336},{"$f":"AVERAGE(N77:P77)","v":24.000000000000018},{"$f":"100-_xlfn.PERCENTRANK.INC(Q$4:Q$96,Q77)*100","v":30.5},{"$f":"100-_xlfn.PERCENTRANK.INC(R$4:R$96,R77)*100","v":92.4},149,"×",{"$f":"100-_xlfn.PERCENTRANK.INC(U$4:U$96,U77)*100","v":65.300000000000011},8.06,15.98,{"$f":"100-_xlfn.PERCENTRANK.INC(X$4:X$96,X77)*100","v":20.700000000000003},{"$f":"100-_xlfn.PERCENTRANK.INC(Y$4:Y$96,Y77)*100","v":19.599999999999994},"■",{"$f":"VLOOKUP(AB77,配点根拠!$G$3:$H$7,2,0)","v":50}]
["首都高3号渋谷線","用賀","東急田園都市線","用賀","07:21:00","07:57:00","08:23:00","07:30:00","07:57:00","08:23:00",{"$f":"(K$3-E78)*24*60","v":39.000000000000021},{"$f":"(L$3-F78)*24*60","v":33.000000000000043},{"$f":"(M$3-G78)*24*60","v":37.000000000000028},{"$f":"(N$3-H78)*24*60","v":29.999999999999972},{"$f":"(O$3-I78)*24*60","v":33.000000000000043},{"$f":"(P$3-J78)*24*60","v":37.000000000000028},{"$f":"AVERAGE(K78:M78)","v":36.333333333333364},{"$f":"AVERAGE(N78:P78)","v":33.33333333333335},{"$f":"100-_xlfn.PERCENTRANK.INC(Q$4:Q$96,Q78)*100","v":56.6},{"$f":"100-_xlfn.PERCENTRANK.INC(R$4:R$96,R78)*100","v":76.099999999999994},182,"×",{"$f":"100-_xlfn.PERCENTRANK.INC(U$4:U$96,U78)*100","v":26.099999999999994},8.11,19.670000000000002,{"$f":"100-_xlfn.PERCENTRANK.INC(X$4:X$96,X78)*100","v":19.599999999999994},{"$f":"100-_xlfn.PERCENTRANK.INC(Y$4:Y$96,Y78)*100","v":7.6999999999999886},"○",{"$f":"VLOOKUP(AB78,配点根拠!$G$3:$H$7,2,0)","v":80}]
["首都高6号向島線","向島","東武スカイツリーライン","曳舟","07:40:00","08:13:00","08:39:00","07:19:00","07:52:00","08:17:00",{"$f":"(K$3-E79)*24*60","v":19.999999999999929},{"$f":"(L$3-F79)*24*60","v":17.000000000000021},{"$f":"(M$3-G79)*24*60","v":21.000000000000007},{"$f":"(N$3-H79)*24*60","v":41.000000000000014},{"$f":"(O$3-I79)*24*60","v":38.000000000000028},{"$f":"(P$3-J79)*24*60","v":43.000000000000007},{"$f":"AVERAGE(K79:M79)","v":19.333333333333318},{"$f":"AVERAGE(N79:P79)","v":40.666666666666686},{"$f":"100-_xlfn.PERCENTRANK.INC(Q$4:Q$96,Q79)*100","v":92.4},{"$f":"100-_xlfn.PERCENTRANK.INC(R$4:R$96,R79)*100","v":58.7},150,"△",{"$f":"100-_xlfn.PERCENTRANK.INC(U$4:U$96,U79)*100","v":63.1},8.1300000000000008,16.420000000000002,{"$f":"100-_xlfn.PERCENTRANK.INC(X$4:X$96,X79)*100","v":18.5},{"$f":"100-_xlfn.PERCENTRANK.INC(Y$4:Y$96,Y79)*100","v":16.400000000000006},"■",{"$f":"VLOOKUP(AB79,配点根拠!$G$3:$H$7,2,0)","v":50}]
["首都高5号池袋線","北池袋","メトロ有楽町線","要町","07:32:00","08:06:00","08:33:00","07:45:00","08:13:00","08:42:00",{"$f":"(K$3-E80)*24*60","v":27.999999999999979},{"$f":"(L$3-F80)*24*60","v":24.000000000000075},{"$f":"(M$3-G80)*24*60","v":26.999999999999986},{"$f":"(N$3-H80)*24*60","v":14.999999999999947},{"$f":"(O$3-I80)*24*60","v":17.000000000000021},{"$f":"(P$3-J80)*24*60","v":18.000000000000014},{"$f":"AVERAGE(K80:M80)","v":26.333333333333346},{"$f":"AVERAGE(N80:P80)","v":16.666666666666661},{"$f":"100-_xlfn.PERCENTRANK.INC(Q$4:Q$96,Q80)*100","v":79.400000000000006},{"$f":"100-_xlfn.PERCENTRANK.INC(R$4:R$96,R80)*100","v":96.8},165,"×",{"$f":"100-_xlfn.PERCENTRANK.INC(U$4:U$96,U80)*100","v":49},8.2899999999999991,17.899999999999999,{"$f":"100-_xlfn.PERCENTRANK.INC(X$4:X$96,X80)*100","v":17.400000000000006},{"$f":"100-_xlfn.PERCENTRANK.INC(Y$4:Y$96,Y80)*100","v":10.900000000000006},"△",{"$f":"VLOOKUP(AB80,配点根拠!$G$3:$H$7,2,0)","v":20}]
["首都高1号羽田線","平和島","京急本線","平和島","07:34:00","08:02:00","08:29:00","07:24:00","07:53:00","08:19:00",{"$f":"(K$3-E81)*24*60","v":25.999999999999986},{"$f":"(L$3-F81)*24*60","v":28.00000000000006},{"$f":"(M$3-G81)*24*60","v":31.00000000000005},{"$f":"(N$3-H81)*24*60","v":35.99999999999995},{"$f":"(O$3-I81)*24*60","v":37.000000000000028},{"$f":"(P$3-J81)*24*60","v":41.000000000000014},{"$f":"AVERAGE(K81:M81)","v":28.333333333333361},{"$f":"AVERAGE(N81:P81)","v":37.999999999999993},{"$f":"100-_xlfn.PERCENTRANK.INC(Q$4:Q$96,Q81)*100","v":71.800000000000011},{"$f":"100-_xlfn.PERCENTRANK.INC(R$4:R$96,R81)*100","v":65.300000000000011},143,"×",{"$f":"100-_xlfn.PERCENTRANK.INC(U$4:U$96,U81)*100","v":70.7},8.43,13.5,{"$f":"100-_xlfn.PERCENTRANK.INC(X$4:X$96,X81)*100","v":16.400000000000006},{"$f":"100-_xlfn.PERCENTRANK.INC(Y$4:Y$96,Y81)*100","v":27.200000000000003},"△",{"$f":"VLOOKUP(AB81,配点根拠!$G$3:$H$7,2,0)","v":20}]
["首都高4号新宿線","永福","京王線","下高井戸","07:20:00","07:53:00","08:18:00","07:46:00","08:11:00","08:47:00",{"$f":"(K$3-E82)*24*60","v":40.000000000000014},{"$f":"(L$3-F82)*24*60","v":37.000000000000028},{"$f":"(M$3-G82)*24*60","v":41.999999999999929},{"$f":"(N$3-H82)*24*60","v":13.99999999999995},{"$f":"(O$3-I82)*24*60","v":19.000000000000014},{"$f":"(P$3-J82)*24*60","v":13.000000000000034},{"$f":"AVERAGE(K82:M82)","v":39.666666666666657},{"$f":"AVERAGE(N82:P82)","v":15.333333333333334},{"$f":"100-_xlfn.PERCENTRANK.INC(Q$4:Q$96,Q82)*100","v":44.599999999999994},{"$f":"100-_xlfn.PERCENTRANK.INC(R$4:R$96,R82)*100","v":97.9},165,"△",{"$f":"100-_xlfn.PERCENTRANK.INC(U$4:U$96,U82)*100","v":49},8.9499999999999993,21.84,{"$f":"100-_xlfn.PERCENTRANK.INC(X$4:X$96,X82)*100","v":15.299999999999997},{"$f":"100-_xlfn.PERCENTRANK.INC(Y$4:Y$96,Y82)*100","v":4.4000000000000057},"■",{"$f":"VLOOKUP(AB82,配点根拠!$G$3:$H$7,2,0)","v":50}]
["首都高4号新宿線","幡ヶ谷","京王新線","幡ヶ谷","07:31:00","08:05:00","08:34:00","07:53:00","08:23:00","08:55:00",{"$f":"(K$3-E83)*24*60","v":28.999999999999979},{"$f":"(L$3-F83)*24*60","v":24.999999999999993},{"$f":"(M$3-G83)*24*60","v":25.999999999999986},{"$f":"(N$3-H83)*24*60","v":6.9999999999999751},{"$f":"(O$3-I83)*24*60","v":7.0000000000000551},{"$f":"(P$3-J83)*24*60","v":5.0000000000000622},{"$f":"AVERAGE(K83:M83)","v":26.666666666666654},{"$f":"AVERAGE(N83:P83)","v":6.3333333333333641},{"$f":"100-_xlfn.PERCENTRANK.INC(Q$4:Q$96,Q83)*100","v":77.2},{"$f":"100-_xlfn.PERCENTRANK.INC(R$4:R$96,R83)*100","v":99},165,"×",{"$f":"100-_xlfn.PERCENTRANK.INC(U$4:U$96,U83)*100","v":49},8.99,24.01,{"$f":"100-_xlfn.PERCENTRANK.INC(X$4:X$96,X83)*100","v":14.200000000000003},{"$f":"100-_xlfn.PERCENTRANK.INC(Y$4:Y$96,Y83)*100","v":1.0999999999999943},"○",{"$f":"VLOOKUP(AB83,配点根拠!$G$3:$H$7,2,0)","v":80}]
["首都高1号羽田線","羽田","京急空港線","穴守稲荷","07:21:00","07:51:00","08:15:00","07:12:00","07:42:00","08:08:00",{"$f":"(K$3-E84)*24*60","v":39.000000000000021},{"$f":"(L$3-F84)*24*60","v":39.000000000000021},{"$f":"(M$3-G84)*24*60","v":45},{"$f":"(N$3-H84)*24*60","v":47.999999999999986},{"$f":"(O$3-I84)*24*60","v":47.999999999999986},{"$f":"(P$3-J84)*24*60","v":52.000000000000057},{"$f":"AVERAGE(K84:M84)","v":41.000000000000014},{"$f":"AVERAGE(N84:P84)","v":49.333333333333343},{"$f":"100-_xlfn.PERCENTRANK.INC(Q$4:Q$96,Q84)*100","v":41.400000000000006},{"$f":"100-_xlfn.PERCENTRANK.INC(R$4:R$96,R84)*100","v":41.400000000000006},110,"×",{"$f":"100-_xlfn.PERCENTRANK.INC(U$4:U$96,U84)*100","v":82.7},9.09,12.6,{"$f":"100-_xlfn.PERCENTRANK.INC(X$4:X$96,X84)*100","v":13.099999999999994},{"$f":"100-_xlfn.PERCENTRANK.INC(Y$4:Y$96,Y84)*100","v":33.700000000000003},"△",{"$f":"VLOOKUP(AB84,配点根拠!$G$3:$H$7,2,0)","v":20}]
["首都高中央環状線","中野長者橋","メトロ丸ノ内線","中野坂上","07:37:00","08:07:00","08:35:00","07:56:00","08:26:00","08:55:00",{"$f":"(K$3-E85)*24*60","v":22.999999999999918},{"$f":"(L$3-F85)*24*60","v":23},{"$f":"(M$3-G85)*24*60","v":24.999999999999993},{"$f":"(N$3-H85)*24*60","v":3.9999999999999858},{"$f":"(O$3-I85)*24*60","v":3.9999999999999858},{"$f":"(P$3-J85)*24*60","v":5.0000000000000622},{"$f":"AVERAGE(K85:M85)","v":23.666666666666639},{"$f":"AVERAGE(N85:P85)","v":4.3333333333333446},{"$f":"100-_xlfn.PERCENTRANK.INC(Q$4:Q$96,Q85)*100","v":83.7},{"$f":"100-_xlfn.PERCENTRANK.INC(R$4:R$96,R85)*100","v":100},165,"×",{"$f":"100-_xlfn.PERCENTRANK.INC(U$4:U$96,U85)*100","v":49},9.19,21.81,{"$f":"100-_xlfn.PERCENTRANK.INC(X$4:X$96,X85)*100","v":12},{"$f":"100-_xlfn.PERCENTRANK.INC(Y$4:Y$96,Y85)*100","v":5.5},"○",{"$f":"VLOOKUP(AB85,配点根拠!$G$3:$H$7,2,0)","v":80}]
["首都高6号向島線","駒形","都営浅草線","本所吾妻橋","07:49:00","08:19:00","08:50:00","07:24:00","07:57:00","08:27:00",{"$f":"(K$3-E86)*24*60","v":10.999999999999961},{"$f":"(L$3-F86)*24*60","v":11.000000000000041},{"$f":"(M$3-G86)*24*60","v":9.9999999999999645},{"$f":"(N$3-H86)*24*60","v":35.99999999999995},{"$f":"(O$3-I86)*24*60","v":33.000000000000043},{"$f":"(P$3-J86)*24*60","v":33.000000000000043},{"$f":"AVERAGE(K86:M86)","v":10.666666666666655},{"$f":"AVERAGE(N86:P86)","v":34.000000000000014},{"$f":"100-_xlfn.PERCENTRANK.INC(Q$4:Q$96,Q86)*100","v":96.8},{"$f":"100-_xlfn.PERCENTRANK.INC(R$4:R$96,R86)*100","v":72.900000000000006},133,"×",{"$f":"100-_xlfn.PERCENTRANK.INC(U$4:U$96,U86)*100","v":74},9.48,16.059999999999999,{"$f":"100-_xlfn.PERCENTRANK.INC(X$4:X$96,X86)*100","v":10.900000000000006},{"$f":"100-_xlfn.PERCENTRANK.INC(Y$4:Y$96,Y86)*100","v":18.5},"◎",{"$f":"VLOOKUP(AB86,配点根拠!$G$3:$H$7,2,0)","v":100}]
["首都高1号羽田線","勝島","京急本線","立会川","07:33:00","08:04:00","08:28:00","07:25:00","07:55:00","08:19:00",{"$f":"(K$3-E87)*24*60","v":26.999999999999986},{"$f":"(L$3-F87)*24*60","v":26.000000000000068},{"$f":"(M$3-G87)*24*60","v":31.999999999999964},{"$f":"(N$3-H87)*24*60","v":34.999999999999957},{"$f":"(O$3-I87)*24*60","v":35.000000000000036},{"$f":"(P$3-J87)*24*60","v":41.000000000000014},{"$f":"AVERAGE(K87:M87)","v":28.333333333333343},{"$f":"AVERAGE(N87:P87)","v":37.000000000000007},{"$f":"100-_xlfn.PERCENTRANK.INC(Q$4:Q$96,Q87)*100","v":74},{"$f":"100-_xlfn.PERCENTRANK.INC(R$4:R$96,R87)*100","v":66.400000000000006},143,"×",{"$f":"100-_xlfn.PERCENTRANK.INC(U$4:U$96,U87)*100","v":70.7},9.6,15.71,{"$f":"100-_xlfn.PERCENTRANK.INC(X$4:X$96,X87)*100","v":9.7999999999999972},{"$f":"100-_xlfn.PERCENTRANK.INC(Y$4:Y$96,Y87)*100","v":20.700000000000003},"△",{"$f":"VLOOKUP(AB87,配点根拠!$G$3:$H$7,2,0)","v":20}]
["首都高1号羽田線","鈴ヶ森","京急本線","大森海岸","07:21:00","07:55:00","08:17:00","07:21:00","07:46:00","08:17:00",{"$f":"(K$3-E88)*24*60","v":39.000000000000021},{"$f":"(L$3-F88)*24*60","v":35.000000000000036},{"$f":"(M$3-G88)*24*60","v":43.000000000000007},{"$f":"(N$3-H88)*24*60","v":39.000000000000021},{"$f":"(O$3-I88)*24*60","v":44},{"$f":"(P$3-J88)*24*60","v":43.000000000000007},{"$f":"AVERAGE(K88:M88)","v":39.000000000000021},{"$f":"AVERAGE(N88:P88)","v":42.000000000000007},{"$f":"100-_xlfn.PERCENTRANK.INC(Q$4:Q$96,Q88)*100","v":51.1},{"$f":"100-_xlfn.PERCENTRANK.INC(R$4:R$96,R88)*100","v":53.3},143,"×",{"$f":"100-_xlfn.PERCENTRANK.INC(U$4:U$96,U88)*100","v":70.7},9.6199999999999992,17.86,{"$f":"100-_xlfn.PERCENTRANK.INC(X$4:X$96,X88)*100","v":8.7000000000000028},{"$f":"100-_xlfn.PERCENTRANK.INC(Y$4:Y$96,Y88)*100","v":12},"○",{"$f":"VLOOKUP(AB88,配点根拠!$G$3:$H$7,2,0)","v":80}]
["首都高2号目黒線","戸越","都営浅草線","戸越","07:36:00","08:06:00","08:39:00","07:36:00","08:06:00","08:33:00",{"$f":"(K$3-E89)*24*60","v":23.999999999999993},{"$f":"(L$3-F89)*24*60","v":24.000000000000075},{"$f":"(M$3-G89)*24*60","v":21.000000000000007},{"$f":"(N$3-H89)*24*60","v":23.999999999999993},{"$f":"(O$3-I89)*24*60","v":24.000000000000075},{"$f":"(P$3-J89)*24*60","v":26.999999999999986},{"$f":"AVERAGE(K89:M89)","v":23.000000000000028},{"$f":"AVERAGE(N89:P89)","v":25.000000000000018},{"$f":"100-_xlfn.PERCENTRANK.INC(Q$4:Q$96,Q89)*100","v":85.9},{"$f":"100-_xlfn.PERCENTRANK.INC(R$4:R$96,R89)*100","v":89.2},133,"×",{"$f":"100-_xlfn.PERCENTRANK.INC(U$4:U$96,U89)*100","v":74},10.19,20.63,{"$f":"100-_xlfn.PERCENTRANK.INC(X$4:X$96,X89)*100","v":7.6999999999999886},{"$f":"100-_xlfn.PERCENTRANK.INC(Y$4:Y$96,Y89)*100","v":6.5999999999999943},"△",{"$f":"VLOOKUP(AB89,配点根拠!$G$3:$H$7,2,0)","v":20}]
["常磐自動車道","柏","つくばエクスプレス","柏の葉キャンパス","07:06:00","07:37:00","08:08:00","06:54:00","07:24:00","07:50:00",{"$f":"(K$3-E90)*24*60","v":53.999999999999972},{"$f":"(L$3-F90)*24*60","v":52.999999999999972},{"$f":"(M$3-G90)*24*60","v":52.000000000000057},{"$f":"(N$3-H90)*24*60","v":65.999999999999929},{"$f":"(O$3-I90)*24*60","v":66},{"$f":"(P$3-J90)*24*60","v":69.999999999999986},{"$f":"AVERAGE(K90:M90)","v":53},{"$f":"AVERAGE(N90:P90)","v":67.333333333333314},{"$f":"100-_xlfn.PERCENTRANK.INC(Q$4:Q$96,Q90)*100","v":12},{"$f":"100-_xlfn.PERCENTRANK.INC(R$4:R$96,R90)*100","v":4.4000000000000057},169,"×",{"$f":"100-_xlfn.PERCENTRANK.INC(U$4:U$96,U90)*100","v":38.1},10.199999999999999,17.21,{"$f":"100-_xlfn.PERCENTRANK.INC(X$4:X$96,X90)*100","v":6.5999999999999943},{"$f":"100-_xlfn.PERCENTRANK.INC(Y$4:Y$96,Y90)*100","v":15.299999999999997},"◎",{"$f":"VLOOKUP(AB90,配点根拠!$G$3:$H$7,2,0)","v":100}]
["首都高9号深川線","木場","メトロ東西線","木場","07:50:00","08:20:00","08:48:00","07:29:00","07:57:00","08:29:00",{"$f":"(K$3-E91)*24*60","v":9.9999999999999645},{"$f":"(L$3-F91)*24*60","v":9.9999999999999645},{"$f":"(M$3-G91)*24*60","v":11.999999999999957},{"$f":"(N$3-H91)*24*60","v":30.999999999999972},{"$f":"(O$3-I91)*24*60","v":33.000000000000043},{"$f":"(P$3-J91)*24*60","v":31.00000000000005},{"$f":"AVERAGE(K91:M91)","v":10.666666666666629},{"$f":"AVERAGE(N91:P91)","v":31.666666666666686},{"$f":"100-_xlfn.PERCENTRANK.INC(Q$4:Q$96,Q91)*100","v":97.9},{"$f":"100-_xlfn.PERCENTRANK.INC(R$4:R$96,R91)*100","v":80.5},199,"×",{"$f":"100-_xlfn.PERCENTRANK.INC(U$4:U$96,U91)*100","v":3.2999999999999972},10.4,19.309999999999999,{"$f":"100-_xlfn.PERCENTRANK.INC(X$4:X$96,X91)*100","v":5.5},{"$f":"100-_xlfn.PERCENTRANK.INC(Y$4:Y$96,Y91)*100","v":8.7000000000000028},"○",{"$f":"VLOOKUP(AB91,配点根拠!$G$3:$H$7,2,0)","v":80}]
["首都高3号渋谷線","三軒茶屋","東急田園都市線","三軒茶屋","07:32:00","08:06:00","08:33:00","07:39:00","08:06:00","08:33:00",{"$f":"(K$3-E92)*24*60","v":27.999999999999979},{"$f":"(L$3-F92)*24*60","v":24.000000000000075},{"$f":"(M$3-G92)*24*60","v":26.999999999999986},{"$f":"(N$3-H92)*24*60","v":20.999999999999925},{"$f":"(O$3-I92)*24*60","v":24.000000000000075},{"$f":"(P$3-J92)*24*60","v":26.999999999999986},{"$f":"AVERAGE(K92:M92)","v":26.333333333333346},{"$f":"AVERAGE(N92:P92)","v":23.999999999999996},{"$f":"100-_xlfn.PERCENTRANK.INC(Q$4:Q$96,Q92)*100","v":79.400000000000006},{"$f":"100-_xlfn.PERCENTRANK.INC(R$4:R$96,R92)*100","v":93.5},182,"×",{"$f":"100-_xlfn.PERCENTRANK.INC(U$4:U$96,U92)*100","v":26.099999999999994},10.64,22.9,{"$f":"100-_xlfn.PERCENTRANK.INC(X$4:X$96,X92)*100","v":4.4000000000000057},{"$f":"100-_xlfn.PERCENTRANK.INC(Y$4:Y$96,Y92)*100","v":2.2000000000000028},"■",{"$f":"VLOOKUP(AB92,配点根拠!$G$3:$H$7,2,0)","v":50}]
["首都高7号小松川線","錦糸町","都営新宿線","住吉","07:51:00","08:21:00","08:50:00","07:35:00","08:05:00","08:36:00",{"$f":"(K$3-E93)*24*60","v":8.999999999999968},{"$f":"(L$3-F93)*24*60","v":9.000000000000048},{"$f":"(M$3-G93)*24*60","v":9.9999999999999645},{"$f":"(N$3-H93)*24*60","v":24.999999999999993},{"$f":"(O$3-I93)*24*60","v":24.999999999999993},{"$f":"(P$3-J93)*24*60","v":23.999999999999993},{"$f":"AVERAGE(K93:M93)","v":9.3333333333333268},{"$f":"AVERAGE(N93:P93)","v":24.666666666666657},{"$f":"100-_xlfn.PERCENTRANK.INC(Q$4:Q$96,Q93)*100","v":99},{"$f":"100-_xlfn.PERCENTRANK.INC(R$4:R$96,R93)*100","v":90.3},156,"×",{"$f":"100-_xlfn.PERCENTRANK.INC(U$4:U$96,U93)*100","v":57.7},10.78,15.57,{"$f":"100-_xlfn.PERCENTRANK.INC(X$4:X$96,X93)*100","v":3.2999999999999972},{"$f":"100-_xlfn.PERCENTRANK.INC(Y$4:Y$96,Y93)*100","v":21.799999999999997},"■",{"$f":"VLOOKUP(AB93,配点根拠!$G$3:$H$7,2,0)","v":50}]
["首都高7号小松川線","錦糸町","JR総武線","錦糸町","07:48:00","08:20:00","08:46:00","07:36:00","08:08:00","08:34:00",{"$f":"(K$3-E94)*24*60","v":11.999999999999957},{"$f":"(L$3-F94)*24*60","v":9.9999999999999645},{"$f":"(M$3-G94)*24*60","v":13.99999999999995},{"$f":"(N$3-H94)*24*60","v":23.999999999999993},{"$f":"(O$3-I94)*24*60","v":22.000000000000082},{"$f":"(P$3-J94)*24*60","v":25.999999999999986},{"$f":"AVERAGE(K94:M94)","v":11.999999999999957},{"$f":"AVERAGE(N94:P94)","v":24.000000000000018},{"$f":"100-_xlfn.PERCENTRANK.INC(Q$4:Q$96,Q94)*100","v":95.7},{"$f":"100-_xlfn.PERCENTRANK.INC(R$4:R$96,R94)*100","v":92.4},181,"×",{"$f":"100-_xlfn.PERCENTRANK.INC(U$4:U$96,U94)*100","v":30.5},10.85,18.05,{"$f":"100-_xlfn.PERCENTRANK.INC(X$4:X$96,X94)*100","v":2.2000000000000028},{"$f":"100-_xlfn.PERCENTRANK.INC(Y$4:Y$96,Y94)*100","v":9.7999999999999972},"◎",{"$f":"VLOOKUP(AB94,配点根拠!$G$3:$H$7,2,0)","v":100}]
["首都高9号深川線","福住","メトロ東西線","門前仲町","07:52:00","08:23:00","08:51:00","07:32:00","07:59:00","08:32:00",{"$f":"(K$3-E95)*24*60","v":7.9999999999999716},{"$f":"(L$3-F95)*24*60","v":7.0000000000000551},{"$f":"(M$3-G95)*24*60","v":9.000000000000048},{"$f":"(N$3-H95)*24*60","v":27.999999999999979},{"$f":"(O$3-I95)*24*60","v":31.00000000000005},{"$f":"(P$3-J95)*24*60","v":27.999999999999979},{"$f":"AVERAGE(K95:M95)","v":8.0000000000000249},{"$f":"AVERAGE(N95:P95)","v":29},{"$f":"100-_xlfn.PERCENTRANK.INC(Q$4:Q$96,Q95)*100","v":100},{"$f":"100-_xlfn.PERCENTRANK.INC(R$4:R$96,R95)*100","v":85.9},199,"×",{"$f":"100-_xlfn.PERCENTRANK.INC(U$4:U$96,U95)*100","v":3.2999999999999972},10.98,22.57,{"$f":"100-_xlfn.PERCENTRANK.INC(X$4:X$96,X95)*100","v":1.0999999999999943},{"$f":"100-_xlfn.PERCENTRANK.INC(Y$4:Y$96,Y95)*100","v":3.2999999999999972},"■",{"$f":"VLOOKUP(AB95,配点根拠!$G$3:$H$7,2,0)","v":50}]
["首都高3号渋谷線","池尻","東急田園都市線","池尻大橋","07:34:00","08:08:00","08:36:00","07:41:00","08:08:00","08:36:00",{"$f":"(K$3-E96)*24*60","v":25.999999999999986},{"$f":"(L$3-F96)*24*60","v":22.000000000000082},{"$f":"(M$3-G96)*24*60","v":23.999999999999993},{"$f":"(N$3-H96)*24*60","v":18.999999999999932},{"$f":"(O$3-I96)*24*60","v":22.000000000000082},{"$f":"(P$3-J96)*24*60","v":23.999999999999993},{"$f":"AVERAGE(K96:M96)","v":24.000000000000018},{"$f":"AVERAGE(N96:P96)","v":21.666666666666668},{"$f":"100-_xlfn.PERCENTRANK.INC(Q$4:Q$96,Q96)*100","v":81.599999999999994},{"$f":"100-_xlfn.PERCENTRANK.INC(R$4:R$96,R96)*100","v":95.7},182,"×",{"$f":"100-_xlfn.PERCENTRANK.INC(U$4:U$96,U96)*100","v":26.099999999999994},11.12,32.700000000000003,{"$f":"100-_xlfn.PERCENTRANK.INC(X$4:X$96,X96)*100","v":0},{"$f":"100-_xlfn.PERCENTRANK.INC(Y$4:Y$96,Y96)*100","v":0},"△",{"$f":"VLOOKUP(AB96,配点根拠!$G$3:$H$7,2,0)","v":20}]

{"sheet":"点数","index":6,"n_rows":96,"n_cols":14,"rows_kept":96,"cut":false,"hidden":true,"merged":[[1,7,1,8],[1,4,1,5]]}
[]
[null,null,null,null,"所要時間点数",null,null,"家賃点数",null,"点数"]
["道路名","IC名","鉄道路線","駅名","東京","新宿","快適性点数","1K","2LDK","商業施設","東京1K","東京2LDK","新宿1K","東京1K"]
["東北自動車道","岩槻","東武野田線","岩槻",2.2000000000000028,15.299999999999997,79.400000000000006,100,99,80,{"$f":"E4+$G4+H4+$J4","v":261.60000000000002},{"$f":"E4+$G4+I4+$J4","v":260.60000000000002},{"$f":"F4+$G4+H4+$J4","v":274.7},{"$f":"F4+$G4+I4+$J4","v":273.7}]
["東京湾アクアライン","木更津金田","高速バス","木更津金田BT",32.699999999999989,6.5999999999999943,100,99,100,100,{"$f":"E5+$G5+H5+$J5","v":331.7},{"$f":"E5+$G5+I5+$J5","v":332.7},{"$f":"F5+$G5+H5+$J5","v":305.60000000000002},{"$f":"F5+$G5+I5+$J5","v":306.60000000000002}]
["外環道","草加","東武スカイツリーライン","獨協大学前",27.200000000000003,18.5,63.1,97.9,90.3,80,268.20000000000005,260.60000000000002,259.5,251.89999999999998]
["外環道","松戸","北総線","北国分",40.300000000000004,13.099999999999994,84.8,96.8,87,80,301.89999999999998,292.10000000000002,274.7,264.89999999999998]
["首都高S大宮線","浦和南","JR埼京線","南与野",16.400000000000006,69.599999999999994,19.599999999999994,95.7,85.9,50,181.7,171.9,234.89999999999998,225.1]
["外環道","松戸","北総線","矢切",44.599999999999994,20.700000000000003,84.8,94.6,95.7,50,274,275.09999999999997,250.1,251.2]
["中央自動車道","稲城","JR南武線","稲城長沼",5.5,60.9,15.299999999999997,93.5,74,20,134.30000000000001,114.8,189.7,170.2]
["首都高川口線","新井宿","埼玉高速鉄道","新井宿",17.400000000000006,37,78.3,92.4,96.8,50,238.10000000000002,242.5,257.7,262.10000000000002]
["首都高K3号狩場線","永田","JR横須賀線","保土ヶ谷",49,56.6,4.4000000000000057,91.4,63.1,20,164.8,136.5,172.4,144.10000000000002]
["東京湾アクアライン","袖ケ浦","高速バス","袖ケ浦BT",9.7999999999999972,2.2000000000000028,100,90.3,99,50,250.1,258.8,242.5,251.2]
["外環道","外環浦和","JR京浜東北線","南浦和",46.8,68.5,92.4,89.2,66.400000000000006,80,308.39999999999998,285.60000000000002,330.1,307.3]
["東関東自動車道","谷津船橋IC","JR京葉線","南船橋",55.5,9.7999999999999972,42.400000000000006,88.1,80.5,100,286,278.39999999999998,240.3,232.7]
["首都高K3号狩場線","花之木","京急本線","南太田",20.700000000000003,27.200000000000003,70.7,87,49,20,198.4,160.4,204.9,166.9]
["中央自動車道","調布","京王線","西調布",5.5,55.5,49,85.9,54.4,20,160.4,128.9,210.4,178.9]
["首都高5号池袋線","戸田南","JR埼京線","戸田",33.700000000000003,84.8,19.599999999999994,84.8,84.8,80,218.1,218.1,269.2,269.2]
["首都高K1号横羽線","汐入","JR鶴見線","弁天橋",34.799999999999997,26.099999999999994,82.7,83.7,69.599999999999994,0,201.2,187.1,192.5,178.39999999999998]
["首都高川口線","新郷","埼玉高速鉄道","鳩ヶ谷",24,46.8,92.4,83.7,78.3,50,250.10000000000002,244.7,272.89999999999998,267.5]
["中央自動車道","国立府中","JR南武線","谷保",0,35.900000000000006,15.299999999999997,81.599999999999994,65.300000000000011,20,116.89999999999999,100.60000000000001,152.80000000000001,136.5]
["首都高5号池袋線","高島平","都営三田線","西高島平",54.4,51.1,100,80.5,81.599999999999994,0,234.9,236,231.6,232.7]
["京葉道路","花輪","京成本線","船橋競馬場",26.099999999999994,9.7999999999999972,76.099999999999994,79.400000000000006,75,100,281.60000000000002,277.2,265.3,260.89999999999998]
["外環道","川口東","埼玉高速鉄道","戸塚安行",12,29.400000000000006,78.3,78.3,93.5,20,188.6,203.8,206,221.2]
["外環道","外環三郷西","JR武蔵野線","新三郷",8.7000000000000028,7.6999999999999886,31.599999999999994,77.2,89.2,100,217.5,229.5,216.5,228.5]
["首都高湾岸線","葛西","JR京葉線","葛西臨海公園",93.5,38.1,42.400000000000006,77.2,71.800000000000011,20,233.10000000000002,227.70000000000002,177.7,172.3]
["京葉道路","幕張","JR総武線","幕張本郷",31.599999999999994,18.5,7.6999999999999886,75,77.2,20,134.29999999999998,136.5,121.19999999999999,123.39999999999999]
["常磐自動車道","谷和原","つくばエクスプレス","守谷",7.6999999999999886,0,92.4,74,92.4,100,274.10000000000002,292.5,266.39999999999998,284.8]
["外環道","戸田東","JR埼京線","北戸田",29.400000000000006,80.5,19.599999999999994,72.900000000000006,82.7,50,171.9,181.7,223,232.8]
["東関東自動車道","湾岸千葉IC","JR京葉線","海浜幕張",37,1.0999999999999943,92.4,71.800000000000011,71.800000000000011,100,301.20000000000005,301.20000000000005,265.3,265.3]
["首都高K1号横羽線","大師","京急大師線","大師橋",24,22.899999999999991,82.7,70.7,55.5,0,177.4,162.19999999999999,176.3,161.1]
["京葉道路","武石","JR総武線","幕張",20.700000000000003,12,7.6999999999999886,69.599999999999994,94.6,50,148,173,139.29999999999998,164.29999999999998]
["東関東自動車道","湾岸習志野IC","JR京葉線","新習志野",42.400000000000006,3.2999999999999972,42.400000000000006,68.5,83.7,80,233.3,248.5,194.2,209.4]
["東北自動車道","浦和","埼玉高速鉄道","浦和美園",6.5999999999999943,21.799999999999997,100,67.400000000000006,91.4,100,274,298,289.2,313.2]
["首都高川口線","足立入谷","都営日暮里舎人ライナー","舎人",51.1,43.500000000000007,10.900000000000006,66.400000000000006,79.400000000000006,20,148.4,161.4,140.80000000000001,153.80000000000001]
["外環道","三郷南","JR常磐線","松戸",64.2,49,59.8,65.300000000000011,68.5,80,269.3,272.5,254.10000000000002,257.3]
["首都高S新都心線","新都心西","JR埼京線","北与野",15.299999999999997,59.8,19.599999999999994,64.2,76.099999999999994,100,199.1,211,243.6,255.5]
["首都高6号三郷線","加平","メトロ千代田線","北綾瀬",66.400000000000006,33.700000000000003,100,64.2,56.6,20,250.60000000000002,243,217.89999999999998,210.29999999999998]
["首都高中央環状線","小菅","京成本線","堀切菖蒲園",69.599999999999994,44.599999999999994,76.099999999999994,62,59.8,50,257.7,255.5,232.7,230.5]
["外環道","市川南","メトロ東西線","妙典",63.1,30.5,3.2999999999999972,60.9,52.2,80,207.3,198.60000000000002,174.7,166]
["東名高速道路","横浜町田","東急田園都市線","南町田",1.0999999999999943,5.5,26.099999999999994,59.8,72.900000000000006,100,187,200.1,191.39999999999998,204.5]
["首都高K1号横羽線","生麦","京急本線","生麦",21.799999999999997,19.599999999999994,70.7,59.8,44.599999999999994,20,172.3,157.1,170.1,154.89999999999998]
["首都高7号小松川線","篠崎","都営新宿線","篠崎",52.2,57.7,57.7,57.7,46.8,50,217.60000000000002,206.7,223.10000000000002,212.2]
["外環道","和光","メトロ有楽町線","和光市",37,81.599999999999994,92.4,56.6,44.599999999999994,80,266,254,310.60000000000002,298.60000000000002]
["首都高川口線","鹿浜橋","都営日暮里舎人ライナー","江北",66.400000000000006,54.4,10.900000000000006,55.5,26.099999999999994,20,152.80000000000001,123.4,140.80000000000001,111.4]
["首都高K1号横羽線","浜川崎","JR南武支線","浜川崎",25,14.200000000000003,100,54.4,60.9,0,179.4,185.9,168.6,175.1]
["外環道","川口西","JR京浜東北線","蕨",58.7,77.2,33.700000000000003,53.3,50,50,195.7,192.4,214.2,210.9]
["京葉道路","船橋","JR総武線","船橋",70.7,47.9,30.5,52.2,39.200000000000003,100,253.4,240.4,230.60000000000002,217.60000000000002]
["京葉道路","京葉市川","都営新宿線","本八幡",39.200000000000003,50,100,52.2,57.7,80,271.39999999999998,276.89999999999998,282.2,287.7]
["首都高中央環状線","船堀橋","都営新宿線","東大島",75,82.7,57.7,50,14.200000000000003,50,232.7,196.89999999999998,240.4,204.60000000000002]
["首都高中央環状線","扇大橋","都営日暮里舎人ライナー","扇大橋",76.099999999999994,64.2,10.900000000000006,49,67.400000000000006,50,186,204.4,174.10000000000002,192.5]
["首都高7号小松川線","一之江","都営新宿線","一之江",62,70.7,57.7,47.9,58.7,20,187.6,198.4,196.3,207.10000000000002]
["首都高中央環状線","四つ木","京成押上線","四ツ木",90.3,52.2,65.300000000000011,47.9,41.400000000000006,50,253.50000000000003,247.00000000000003,215.4,208.90000000000003]
["首都高湾岸線","浦安","JR京葉線","新浦安",80.5,28.299999999999997,42.400000000000006,45.699999999999996,64.2,80,248.6,267.10000000000002,196.4,214.9]
["首都高S新都心線","新都心","JR上野東京ライン","さいたま新都心",59.8,68.5,50,44.599999999999994,24,100,254.39999999999998,233.8,263.10000000000002,242.5]
["首都高K3号狩場線","阪東橋","横浜地下鉄ブルーライン","阪東橋",15.299999999999997,24,71.800000000000011,44.599999999999994,38.1,20,151.69999999999999,145.20000000000002,160.4,153.9]
["首都高6号三郷線","八潮","つくばエクスプレス","八潮",53.3,31.599999999999994,92.4,42.400000000000006,62,100,288.10000000000002,307.7,266.39999999999998,286]
["外環道","市川中央","JR総武線","市川",84.8,62,30.5,41.400000000000006,29.400000000000006,80,236.7,224.7,213.9,201.9]
["首都高6号三郷線","三郷","つくばエクスプレス","三郷中央",38.1,25,38.1,40.300000000000004,88.1,80,196.5,244.3,183.4,231.2]
["首都高K1号横羽線","子安","JR京浜東北線","新子安",57.7,34.799999999999997,13.099999999999994,39.200000000000003,53.3,50,160,174.1,137.1,151.19999999999999]
["東名高速道路","横浜青葉","東急田園都市線","市が尾",3.2999999999999972,16.400000000000006,26.099999999999994,38.1,51.1,50,117.5,130.5,130.6,143.6]
["京葉道路","原木","メトロ東西線","西船橋",47.9,45.699999999999996,92.4,38.1,45.699999999999996,80,258.39999999999998,266,256.2,263.79999999999995]
["首都高中央環状線","船堀橋","都営新宿線","船堀",68.5,75,57.7,35.900000000000006,25,50,212.10000000000002,201.2,218.6,207.7]
["首都高中央環状線","平井大橋","JR総武線","平井",89.2,83.7,7.6999999999999886,34.799999999999997,34.799999999999997,50,181.7,181.7,176.2,176.2]
["首都高中央環状線","平井大橋","JR総武線","新小岩",94.6,78.3,30.5,33.700000000000003,32.699999999999989,50,208.8,207.79999999999998,192.5,191.5]
["首都高中央環状線","清新町","メトロ東西線","西葛西",91.4,63.1,3.2999999999999972,32.699999999999989,47.9,50,177.39999999999998,192.6,149.1,164.3]
["首都高6号向島線","堤通","東武スカイツリーライン","鐘ヶ淵",67.400000000000006,39.200000000000003,63.1,31.599999999999994,31.599999999999994,20,182.1,182.1,153.9,153.9]
["首都高中央環状線","王子北","JR京浜東北線","王子",89.2,88.1,33.700000000000003,30.5,22.899999999999991,50,203.4,195.8,202.3,194.7]
["首都高4号新宿線","高井戸","京王線","八幡山",28.299999999999997,94.6,49,30.5,13.099999999999994,50,{"$f":"E69+$G69+H69+$J69","v":157.80000000000001},{"$f":"E69+$G69+I69+$J69","v":140.39999999999998},{"$f":"F69+$G69+H69+$J69","v":224.1},{"$f":"F69+$G69+I69+$J69","v":206.7}]
["東名高速道路","東名川崎","東急田園都市線","宮前平",13.099999999999994,32.699999999999989,26.099999999999994,28.299999999999997,42.400000000000006,50,117.49999999999999,131.6,137.09999999999997,151.19999999999999]
["常磐自動車道","流山","つくばエクスプレス","流山おおたかの森",18.5,10.900000000000006,38.1,27.200000000000003,35.900000000000006,100,183.8,192.5,176.20000000000002,184.9]
["首都高5号池袋線","中台","都営三田線","志村三丁目",74,74,52.2,26.099999999999994,37,100,252.3,263.2,252.3,263.2]
["首都高6号三郷線","加平","つくばエクスプレス","六町",60.9,43.500000000000007,38.1,25,40.300000000000004,20,144,159.30000000000001,126.60000000000001,141.9]
["首都高K1号横羽線","東神奈川","JR京浜東北線","東神奈川",46.8,41.400000000000006,13.099999999999994,24,30.5,50,133.89999999999998,140.39999999999998,128.5,135]
["首都高中央環状線","千住新橋","JR常磐線","北千住",82.7,71.800000000000011,58.7,22.899999999999991,28.299999999999997,100,264.3,269.7,253.39999999999998,258.8]
["首都高5号池袋線","板橋本町","都営三田線","板橋本町",89.2,87,52.2,21.799999999999997,17.400000000000006,20,183.2,178.8,181,176.6]
["首都高4号新宿線","高井戸","京王井の頭線","高井戸",30.5,92.4,65.300000000000011,20.700000000000003,19.599999999999994,50,166.5,165.4,228.40000000000003,227.3]
["首都高3号渋谷線","用賀","東急田園都市線","用賀",56.6,76.099999999999994,26.099999999999994,19.599999999999994,7.6999999999999886,80,182.29999999999998,170.39999999999998,201.79999999999998,189.89999999999998]
["首都高6号向島線","向島","東武スカイツリーライン","曳舟",92.4,58.7,63.1,18.5,16.400000000000006,50,224,221.9,190.3,188.20000000000002]
["首都高5号池袋線","北池袋","メトロ有楽町線","要町",79.400000000000006,96.8,49,17.400000000000006,10.900000000000006,20,165.8,159.30000000000001,183.20000000000002,176.70000000000002]
["首都高1号羽田線","平和島","京急本線","平和島",71.800000000000011,65.300000000000011,70.7,16.400000000000006,27.200000000000003,20,178.9,189.7,172.4,183.2]
["首都高4号新宿線","永福","京王線","下高井戸",44.599999999999994,97.9,49,15.299999999999997,4.4000000000000057,50,158.89999999999998,148,212.2,201.3]
["首都高4号新宿線","幡ヶ谷","京王新線","幡ヶ谷",77.2,99,49,14.200000000000003,1.0999999999999943,80,220.4,207.3,242.2,229.1]
["首都高1号羽田線","羽田","京急空港線","穴守稲荷",41.400000000000006,41.400000000000006,82.7,13.099999999999994,33.700000000000003,20,157.19999999999999,177.8,157.19999999999999,177.8]
["首都高中央環状線","中野長者橋","メトロ丸ノ内線","中野坂上",83.7,100,49,12,5.5,80,224.7,218.2,241,234.5]
["首都高6号向島線","駒形","都営浅草線","本所吾妻橋",96.8,72.900000000000006,74,10.900000000000006,18.5,100,281.70000000000005,289.3,257.8,265.39999999999998]
["首都高1号羽田線","勝島","京急本線","立会川",74,66.400000000000006,70.7,9.7999999999999972,20.700000000000003,20,174.5,185.39999999999998,166.90000000000003,177.8]
["首都高1号羽田線","鈴ヶ森","京急本線","大森海岸",51.1,53.3,70.7,8.7000000000000028,12,80,210.5,213.8,212.7,216]
["首都高2号目黒線","戸越","都営浅草線","戸越",85.9,89.2,74,7.6999999999999886,6.5999999999999943,20,187.6,186.5,190.89999999999998,189.79999999999998]
["常磐自動車道","柏","つくばエクスプレス","柏の葉キャンパス",12,4.4000000000000057,38.1,6.5999999999999943,15.299999999999997,100,156.69999999999999,165.4,149.1,157.80000000000001]
["首都高9号深川線","木場","メトロ東西線","木場",97.9,80.5,3.2999999999999972,5.5,8.7000000000000028,80,186.7,189.9,169.3,172.5]
["首都高3号渋谷線","三軒茶屋","東急田園都市線","三軒茶屋",79.400000000000006,93.5,26.099999999999994,4.4000000000000057,2.2000000000000028,50,159.9,157.69999999999999,174,171.8]
["首都高7号小松川線","錦糸町","都営新宿線","住吉",99,90.3,57.7,3.2999999999999972,21.799999999999997,50,210,228.5,201.3,219.8]
["首都高7号小松川線","錦糸町","JR総武線","錦糸町",95.7,92.4,30.5,2.2000000000000028,9.7999999999999972,100,228.4,236,225.10000000000002,232.7]
["首都高9号深川線","福住","メトロ東西線","門前仲町",100,85.9,3.2999999999999972,1.0999999999999943,3.2999999999999972,50,154.39999999999998,156.6,140.30000000000001,142.5]
["首都高3号渋谷線","池尻","東急田園都市線","池尻大橋",81.599999999999994,95.7,26.099999999999994,0,0,20,127.69999999999999,127.69999999999999,141.80000000000001,141.80000000000001]

{"sheet":"参考順位","index":7,"n_rows":96,"n_cols":15,"rows_kept":96,"cut":false,"hidden":false,"merged":[[1,5,1,6],[1,8,1,9]]}
[]
[null,null,null,null,null,"所要時間点数",null,null,"家賃点数",null,"点数"]
[0,"道路名","IC名","鉄道路線","駅名","東京","新宿","快適性点数","1K","2LDK","商業施設","東京1K","東京2LDK","新宿1K","新宿2LDK"]
[{"$f":"A3+1","v":1},"東北自動車道","岩槻","東武野田線","岩槻",2.2000000000000028,15.299999999999997,79.400000000000006,100,99,80,261.60000000000002,260.60000000000002,274.7,273.7]
[2,"東京湾アクアライン","木更津金田","高速バス","木更津金田BT",32.699999999999989,6.5999999999999943,100,99,100,100,331.7,332.7,305.60000000000002,306.60000000000002]
[3,"外環道","草加","東武スカイツリーライン","獨協大学前",27.200000000000003,18.5,63.1,97.9,90.3,80,268.20000000000005,260.60000000000002,259.5,251.89999999999998]
[4,"外環道","松戸","北総線","北国分",40.300000000000004,13.099999999999994,84.8,96.8,87,80,301.89999999999998,292.10000000000002,274.7,264.89999999999998]
[5,"首都高S大宮線","浦和南","JR埼京線","南与野",16.400000000000006,69.599999999999994,19.599999999999994,95.7,85.9,50,181.7,171.9,234.89999999999998,225.1]
[6,"外環道","松戸","北総線","矢切",44.599999999999994,20.700000000000003,84.8,94.6,95.7,50,274,275.09999999999997,250.1,251.2]
[7,"中央自動車道","稲城","JR南武線","稲城長沼",5.5,60.9,15.299999999999997,93.5,74,20,134.30000000000001,114.8,189.7,170.2]
[8,"首都高川口線","新井宿","埼玉高速鉄道","新井宿",17.400000000000006,37,78.3,92.4,96.8,50,238.10000000000002,242.5,257.7,262.10000000000002]
[9,"首都高K3号狩場線","永田","JR横須賀線","保土ヶ谷",49,56.6,4.4000000000000057,91.4,63.1,20,164.8,136.5,172.4,144.10000000000002]
[10,"東京湾アクアライン","袖ケ浦","高速バス","袖ケ浦BT",9.7999999999999972,2.2000000000000028,100,90.3,99,50,250.1,258.8,242.5,251.2]
[11,"外環道","外環浦和","JR京浜東北線","南浦和",46.8,68.5,92.4,89.2,66.400000000000006,80,308.39999999999998,285.60000000000002,330.1,307.3]
[12,"東関東自動車道","谷津船橋IC","JR京葉線","南船橋",55.5,9.7999999999999972,42.400000000000006,88.1,80.5,100,286,278.39999999999998,240.3,232.7]
[13,"首都高K3号狩場線","花之木","京急本線","南太田",20.700000000000003,27.200000000000003,70.7,87,49,20,198.4,160.4,204.9,166.9]
[14,"中央自動車道","調布","京王線","西調布",5.5,55.5,49,85.9,54.4,20,160.4,128.9,210.4,178.9]
[15,"首都高5号池袋線","戸田南","JR埼京線","戸田",33.700000000000003,84.8,19.599999999999994,84.8,84.8,80,218.1,218.1,269.2,269.2]
[16,"首都高K1号横羽線","汐入","JR鶴見線","弁天橋",34.799999999999997,26.099999999999994,82.7,83.7,69.599999999999994,0,201.2,187.1,192.5,178.39999999999998]
[17,"首都高川口線","新郷","埼玉高速鉄道","鳩ヶ谷",24,46.8,92.4,83.7,78.3,50,250.10000000000002,244.7,272.89999999999998,267.5]
[18,"中央自動車道","国立府中","JR南武線","谷保",0,35.900000000000006,15.299999999999997,81.599999999999994,65.300000000000011,20,116.89999999999999,100.60000000000001,152.80000000000001,136.5]
[19,"首都高5号池袋線","高島平","都営三田線","西高島平",54.4,51.1,100,80.5,81.599999999999994,0,234.9,236,231.6,232.7]
[20,"京葉道路","花輪","京成本線","船橋競馬場",26.099999999999994,9.7999999999999972,76.099999999999994,79.400000000000006,75,100,281.60000000000002,277.2,265.3,260.89999999999998]
[21,"外環道","川口東","埼玉高速鉄道","戸塚安行",12,29.400000000000006,78.3,78.3,93.5,20,188.6,203.8,206,221.2]
[22,"外環道","外環三郷西","JR武蔵野線","新三郷",8.7000000000000028,7.6999999999999886,31.599999999999994,77.2,89.2,100,217.5,229.5,216.5,228.5]
[23,"首都高湾岸線","葛西","JR京葉線","葛西臨海公園",93.5,38.1,42.400000000000006,77.2,71.800000000000011,20,233.10000000000002,227.70000000000002,177.7,172.3]
[24,"京葉道路","幕張","JR総武線","幕張本郷",31.599999999999994,18.5,7.6999999999999886,75,77.2,20,134.29999999999998,136.5,121.19999999999999,123.39999999999999]
[25,"常磐自動車道","谷和原","つくばエクスプレス","守谷",7.6999999999999886,0,92.4,74,92.4,100,274.10000000000002,292.5,266.39999999999998,284.8]
[26,"外環道","戸田東","JR埼京線","北戸田",29.400000000000006,80.5,19.599999999999994,72.900000000000006,82.7,50,171.9,181.7,223,232.8]
[27,"東関東自動車道","湾岸千葉IC","JR京葉線","海浜幕張",37,1.0999999999999943,92.4,71.800000000000011,71.800000000000011,100,301.20000000000005,301.20000000000005,265.3,265.3]
[28,"首都高K1号横羽線","大師","京急大師線","大師橋",24,22.899999999999991,82.7,70.7,55.5,0,177.4,162.19999999999999,176.3,161.1]
[29,"京葉道路","武石","JR総武線","幕張",20.700000000000003,12,7.6999999999999886,69.599999999999994,94.6,50,148,173,139.29999999999998,164.29999999999998]
[30,"東関東自動車道","湾岸習志野IC","JR京葉線","新習志野",42.400000000000006,3.2999999999999972,42.400000000000006,68.5,83.7,80,233.3,248.5,194.2,209.4]
[31,"東北自動車道","浦和","埼玉高速鉄道","浦和美園",6.5999999999999943,21.799999999999997,100,67.400000000000006,91.4,100,274,298,289.2,313.2]
[32,"首都高川口線","足立入谷","都営日暮里舎人ライナー","舎人",51.1,43.500000000000007,10.900000000000006,66.400000000000006,79.400000000000006,20,148.4,161.4,140.80000000000001,153.80000000000001]
[{"$f":"A35+1","v":33},"外環道","三郷南","JR常磐線","松戸",64.2,49,59.8,65.300000000000011,68.5,80,269.3,272.5,254.10000000000002,257.3]
[34,"首都高S新都心線","新都心西","JR埼京線","北与野",15.299999999999997,59.8,19.599999999999994,64.2,76.099999999999994,100,199.1,211,243.6,255.5]
[35,"首都高6号三郷線","加平","メトロ千代田線","北綾瀬",66.400000000000006,33.700000000000003,100,64.2,56.6,20,250.60000000000002,243,217.89999999999998,210.29999999999998]
[36,"首都高中央環状線","小菅","京成本線","堀切菖蒲園",69.599999999999994,44.599999999999994,76.099999999999994,62,59.8,50,257.7,255.5,232.7,230.5]
[37,"外環道","市川南","メトロ東西線","妙典",63.1,30.5,3.2999999999999972,60.9,52.2,80,207.3,198.60000000000002,174.7,166]
[38,"東名高速道路","横浜町田","東急田園都市線","南町田",1.0999999999999943,5.5,26.099999999999994,59.8,72.900000000000006,100,187,200.1,191.39999999999998,204.5]
[39,"首都高K1号横羽線","生麦","京急本線","生麦",21.799999999999997,19.599999999999994,70.7,59.8,44.599999999999994,20,172.3,157.1,170.1,154.89999999999998]
[40,"首都高7号小松川線","篠崎","都営新宿線","篠崎",52.2,57.7,57.7,57.7,46.8,50,217.60000000000002,206.7,223.10000000000002,212.2]
[41,"外環道","和光","メトロ有楽町線","和光市",37,81.599999999999994,92.4,56.6,44.599999999999994,80,266,254,310.60000000000002,298.60000000000002]
[42,"首都高川口線","鹿浜橋","都営日暮里舎人ライナー","江北",66.400000000000006,54.4,10.900000000000006,55.5,26.099999999999994,20,152.80000000000001,123.4,140.80000000000001,111.4]
[43,"首都高K1号横羽線","浜川崎","JR南武支線","浜川崎",25,14.200000000000003,100,54.4,60.9,0,179.4,185.9,168.6,175.1]
[44,"外環道","川口西","JR京浜東北線","蕨",58.7,77.2,33.700000000000003,53.3,50,50,195.7,192.4,214.2,210.9]
[45,"京葉道路","船橋","JR総武線","船橋",70.7,47.9,30.5,52.2,39.200000000000003,100,253.4,240.4,230.60000000000002,217.60000000000002]
[46,"京葉道路","京葉市川","都営新宿線","本八幡",39.200000000000003,50,100,52.2,57.7,80,271.39999999999998,276.89999999999998,282.2,287.7]
[47,"首都高中央環状線","船堀橋","都営新宿線","東大島",75,82.7,57.7,50,14.200000000000003,50,232.7,196.89999999999998,240.4,204.60000000000002]
[48,"首都高中央環状線","扇大橋","都営日暮里舎人ライナー","扇大橋",76.099999999999994,64.2,10.900000000000006,49,67.400000000000006,50,186,204.4,174.10000000000002,192.5]
[49,"首都高7号小松川線","一之江","都営新宿線","一之江",62,70.7,57.7,47.9,58.7,20,187.6,198.4,196.3,207.10000000000002]
[50,"首都高中央環状線","四つ木","京成押上線","四ツ木",90.3,52.2,65.300000000000011,47.9,41.400000000000006,50,253.50000000000003,247.00000000000003,215.4,208.90000000000003]
[51,"首都高湾岸線","浦安","JR京葉線","新浦安",80.5,28.299999999999997,42.400000000000006,45.699999999999996,64.2,80,248.6,267.10000000000002,196.4,214.9]
[52,"首都高S新都心線","新都心","JR上野東京ライン","さいたま新都心",59.8,68.5,50,44.599999999999994,24,100,254.39999999999998,233.8,263.10000000000002,242.5]
[53,"首都高K3号狩場線","阪東橋","横浜地下鉄ブルーライン","阪東橋",15.299999999999997,24,71.800000000000011,44.599999999999994,38.1,20,151.69999999999999,145.20000000000002,160.4,153.9]
[54,"首都高6号三郷線","八潮","つくばエクスプレス","八潮",53.3,31.599999999999994,92.4,42.400000000000006,62,100,288.10000000000002,307.7,266.39999999999998,286]
[55,"外環道","市川中央","JR総武線","市川",84.8,62,30.5,41.400000000000006,29.400000000000006,80,236.7,224.7,213.9,201.9]
[56,"首都高6号三郷線","三郷","つくばエクスプレス","三郷中央",38.1,25,38.1,40.300000000000004,88.1,80,196.5,244.3,183.4,231.2]
[57,"首都高K1号横羽線","子安","JR京浜東北線","新子安",57.7,34.799999999999997,13.099999999999994,39.200000000000003,53.3,50,160,174.1,137.1,151.19999999999999]
[58,"東名高速道路","横浜青葉","東急田園都市線","市が尾",3.2999999999999972,16.400000000000006,26.099999999999994,38.1,51.1,50,117.5,130.5,130.6,143.6]
[59,"京葉道路","原木","メトロ東西線","西船橋",47.9,45.699999999999996,92.4,38.1,45.699999999999996,80,258.39999999999998,266,256.2,263.79999999999995]
[60,"首都高中央環状線","船堀橋","都営新宿線","船堀",68.5,75,57.7,35.900000000000006,25,50,212.10000000000002,201.2,218.6,207.7]
[61,"首都高中央環状線","平井大橋","JR総武線","平井",89.2,83.7,7.6999999999999886,34.799999999999997,34.799999999999997,50,181.7,181.7,176.2,176.2]
[62,"首都高中央環状線","平井大橋","JR総武線","新小岩",94.6,78.3,30.5,33.700000000000003,32.699999999999989,50,208.8,207.79999999999998,192.5,191.5]
[63,"首都高中央環状線","清新町","メトロ東西線","西葛西",91.4,63.1,3.2999999999999972,32.699999999999989,47.9,50,177.39999999999998,192.6,149.1,164.3]
[64,"首都高6号向島線","堤通","東武スカイツリーライン","鐘ヶ淵",67.400000000000006,39.200000000000003,63.1,31.599999999999994,31.599999999999994,20,182.1,182.1,153.9,153.9]
[{"$f":"A67+1","v":65},"首都高中央環状線","王子北","JR京浜東北線","王子",89.2,88.1,33.700000000000003,30.5,22.899999999999991,50,203.4,195.8,202.3,194.7]
[66,"首都高4号新宿線","高井戸","京王線","八幡山",28.299999999999997,94.6,49,30.5,13.099999999999994,50,157.80000000000001,140.39999999999998,224.1,206.7]
[67,"東名高速道路","東名川崎","東急田園都市線","宮前平",13.099999999999994,32.699999999999989,26.099999999999994,28.299999999999997,42.400000000000006,50,117.49999999999999,131.6,137.09999999999997,151.19999999999999]
[68,"常磐自動車道","流山","つくばエクスプレス","流山おおたかの森",18.5,10.900000000000006,38.1,27.200000000000003,35.900000000000006,100,183.8,192.5,176.20000000000002,184.9]
[69,"首都高5号池袋線","中台","都営三田線","志村三丁目",74,74,52.2,26.099999999999994,37,100,252.3,263.2,252.3,263.2]
[70,"首都高6号三郷線","加平","つくばエクスプレス","六町",60.9,43.500000000000007,38.1,25,40.300000000000004,20,144,159.30000000000001,126.60000000000001,141.9]
[71,"首都高K1号横羽線","東神奈川","JR京浜東北線","東神奈川",46.8,41.400000000000006,13.099999999999994,24,30.5,50,133.89999999999998,140.39999999999998,128.5,135]
[72,"首都高中央環状線","千住新橋","JR常磐線","北千住",82.7,71.800000000000011,58.7,22.899999999999991,28.299999999999997,100,264.3,269.7,253.39999999999998,258.8]
[73,"首都高5号池袋線","板橋本町","都営三田線","板橋本町",89.2,87,52.2,21.799999999999997,17.400000000000006,20,183.2,178.8,181,176.6]
[74,"首都高4号新宿線","高井戸","京王井の頭線","高井戸",30.5,92.4,65.300000000000011,20.700000000000003,19.599999999999994,50,166.5,165.4,228.40000000000003,227.3]
[75,"首都高3号渋谷線","用賀","東急田園都市線","用賀",56.6,76.099999999999994,26.099999999999994,19.599999999999994,7.6999999999999886,80,182.29999999999998,170.39999999999998,201.79999999999998,189.89999999999998]
[76,"首都高6号向島線","向島","東武スカイツリーライン","曳舟",92.4,58.7,63.1,18.5,16.400000000000006,50,224,221.9,190.3,188.20000000000002]
[77,"首都高5号池袋線","北池袋","メトロ有楽町線","要町",79.400000000000006,96.8,49,17.400000000000006,10.900000000000006,20,165.8,159.30000000000001,183.20000000000002,176.70000000000002]
[78,"首都高1号羽田線","平和島","京急本線","平和島",71.800000000000011,65.300000000000011,70.7,16.400000000000006,27.200000000000003,20,178.9,189.7,172.4,183.2]
[79,"首都高4号新宿線","永福","京王線","下高井戸",44.599999999999994,97.9,49,15.299999999999997,4.4000000000000057,50,158.89999999999998,148,212.2,201.3]
[80,"首都高4号新宿線","幡ヶ谷","京王新線","幡ヶ谷",77.2,99,49,14.200000000000003,1.0999999999999943,80,220.4,207.3,242.2,229.1]
[81,"首都高1号羽田線","羽田","京急空港線","穴守稲荷",41.400000000000006,41.400000000000006,82.7,13.099999999999994,33.700000000000003,20,157.19999999999999,177.8,157.19999999999999,177.8]
[82,"首都高中央環状線","中野長者橋","メトロ丸ノ内線","中野坂上",83.7,100,49,12,5.5,80,224.7,218.2,241,234.5]
[83,"首都高6号向島線","駒形","都営浅草線","本所吾妻橋",96.8,72.900000000000006,74,10.900000000000006,18.5,100,281.70000000000005,289.3,257.8,265.39999999999998]
[84,"首都高1号羽田線","勝島","京急本線","立会川",74,66.400000000000006,70.7,9.7999999999999972,20.700000000000003,20,174.5,185.39999999999998,166.90000000000003,177.8]
[85,"首都高1号羽田線","鈴ヶ森","京急本線","大森海岸",51.1,53.3,70.7,8.7000000000000028,12,80,210.5,213.8,212.7,216]
[86,"首都高2号目黒線","戸越","都営浅草線","戸越",85.9,89.2,74,7.6999999999999886,6.5999999999999943,20,187.6,186.5,190.89999999999998,189.79999999999998]
[87,"常磐自動車道","柏","つくばエクスプレス","柏の葉キャンパス",12,4.4000000000000057,38.1,6.5999999999999943,15.299999999999997,100,156.69999999999999,165.4,149.1,157.80000000000001]
[88,"首都高9号深川線","木場","メトロ東西線","木場",97.9,80.5,3.2999999999999972,5.5,8.7000000000000028,80,186.7,189.9,169.3,172.5]
[89,"首都高3号渋谷線","三軒茶屋","東急田園都市線","三軒茶屋",79.400000000000006,93.5,26.099999999999994,4.4000000000000057,2.2000000000000028,50,159.9,157.69999999999999,174,171.8]
[90,"首都高7号小松川線","錦糸町","都営新宿線","住吉",99,90.3,57.7,3.2999999999999972,21.799999999999997,50,210,228.5,201.3,219.8]
[91,"首都高7号小松川線","錦糸町","JR総武線","錦糸町",95.7,92.4,30.5,2.2000000000000028,9.7999999999999972,100,228.4,236,225.10000000000002,232.7]
[92,"首都高9号深川線","福住","メトロ東西線","門前仲町",100,85.9,3.2999999999999972,1.0999999999999943,3.2999999999999972,50,154.39999999999998,156.6,140.30000000000001,142.5]
[93,"首都高3号渋谷線","池尻","東急田園都市線","池尻大橋",81.599999999999994,95.7,26.099999999999994,0,0,20,127.69999999999999,127.69999999999999,141.80000000000001,141.80000000000001]

{"sheet":"Sheet2","index":8,"n_rows":16,"n_cols":8,"rows_kept":16,"cut":false,"hidden":true,"merged":[]}
[]
[]
[]
["IC","施設名","接続路線名","起点から","BS","備考","所在地"]
["番号",null,null,"(km)"]
["Shuto Urban Expwy Sign B.svg 首都高速湾岸線"]
[1,null,"C3 東京外環自動車道",0,null,"東京外環道のJCT番号は「92」","千葉県","市川市"]
["1900-01-02","湾岸市川IC","国道357号",1,null,"成田方面出入口"]
["2020-02-01","谷津船橋IC","国道357号",5.5,null,"東京方面出入口",null,"習志野市"]
[null,null,"県道15号千葉船橋海浜線"]
["1900-01-03","湾岸習志野IC","国道357号",7.9,null,"東京方面出入口"]
["-",null,"本線料金所",8.4,null,"通称“習志野バリア”"]
["-",null,"-",8.6999999999999993,null,null,null,"千葉市美浜区"]
[4,"湾岸千葉IC","国道357号",11.6,null,"成田方面出入口"]
[5,null,"E14 京葉道路",16.7,null,"東京方面からは東金・館山方面のみ接続。",null,"千葉市稲毛区"]
[null,null,null,null,null,"京葉道路のJCT番号は「7-1」[5]"]